BEGIN:VCALENDAR
VERSION:2.0
PRODID:-//Moncton Outdoor Enthusiasts - ECPv6.15.20//NONSGML v1.0//EN
CALSCALE:GREGORIAN
METHOD:PUBLISH
X-WR-CALNAME:Moncton Outdoor Enthusiasts
X-ORIGINAL-URL:https://monctonoutdoorenthusiasts.ca
X-WR-CALDESC:Events for Moncton Outdoor Enthusiasts
REFRESH-INTERVAL;VALUE=DURATION:PT1H
X-Robots-Tag:noindex
X-PUBLISHED-TTL:PT1H
BEGIN:VTIMEZONE
TZID:America/Moncton
BEGIN:DAYLIGHT
TZOFFSETFROM:-0400
TZOFFSETTO:-0300
TZNAME:ADT
DTSTART:20230312T060000
END:DAYLIGHT
BEGIN:STANDARD
TZOFFSETFROM:-0300
TZOFFSETTO:-0400
TZNAME:AST
DTSTART:20231105T050000
END:STANDARD
BEGIN:DAYLIGHT
TZOFFSETFROM:-0400
TZOFFSETTO:-0300
TZNAME:ADT
DTSTART:20240310T060000
END:DAYLIGHT
BEGIN:STANDARD
TZOFFSETFROM:-0300
TZOFFSETTO:-0400
TZNAME:AST
DTSTART:20241103T050000
END:STANDARD
BEGIN:DAYLIGHT
TZOFFSETFROM:-0400
TZOFFSETTO:-0300
TZNAME:ADT
DTSTART:20250309T060000
END:DAYLIGHT
BEGIN:STANDARD
TZOFFSETFROM:-0300
TZOFFSETTO:-0400
TZNAME:AST
DTSTART:20251102T050000
END:STANDARD
END:VTIMEZONE
BEGIN:VEVENT
DTSTART;TZID=America/Moncton:20240331T103000
DTEND;TZID=America/Moncton:20240331T170000
DTSTAMP:20260422T180532
CREATED:20220422T230008Z
LAST-MODIFIED:20240329T185618Z
UID:10000325-1711881000-1711904400@monctonoutdoorenthusiasts.ca
SUMMARY:Dennis/Waterside Beach in the morning
DESCRIPTION:The location of the hike on Sunday has changed because of muddy wet ground on part of the Hopewell Rock Trails.\nNew hike location is Dennis/Waterside Beaches. Should be lots of water coming out of cliffs and the waterfall\, but very little on our feet. Low tide is 11:11AM.\nMeet at Fox Field – 893 Hillsborough Rd\, Riverview\, NB at 9:00AM or at Old Bank Museum in Riverside – 5985 King St\, Riverside-Albert\, NB at 9:45AM.  Contact Paul at 506-381-0397\n 
URL:https://monctonoutdoorenthusiasts.ca/event/dennis-beach-2/
LOCATION:NB
CATEGORIES:Moderate
END:VEVENT
END:VCALENDAR