BEGIN:VCALENDAR
VERSION:2.0
PRODID:-//Moncton Outdoor Enthusiasts - ECPv6.15.20//NONSGML v1.0//EN
CALSCALE:GREGORIAN
METHOD:PUBLISH
X-WR-CALNAME:Moncton Outdoor Enthusiasts
X-ORIGINAL-URL:https://monctonoutdoorenthusiasts.ca
X-WR-CALDESC:Events for Moncton Outdoor Enthusiasts
REFRESH-INTERVAL;VALUE=DURATION:PT1H
X-Robots-Tag:noindex
X-PUBLISHED-TTL:PT1H
BEGIN:VTIMEZONE
TZID:America/Moncton
BEGIN:DAYLIGHT
TZOFFSETFROM:-0400
TZOFFSETTO:-0300
TZNAME:ADT
DTSTART:20230312T060000
END:DAYLIGHT
BEGIN:STANDARD
TZOFFSETFROM:-0300
TZOFFSETTO:-0400
TZNAME:AST
DTSTART:20231105T050000
END:STANDARD
BEGIN:DAYLIGHT
TZOFFSETFROM:-0400
TZOFFSETTO:-0300
TZNAME:ADT
DTSTART:20240310T060000
END:DAYLIGHT
BEGIN:STANDARD
TZOFFSETFROM:-0300
TZOFFSETTO:-0400
TZNAME:AST
DTSTART:20241103T050000
END:STANDARD
BEGIN:DAYLIGHT
TZOFFSETFROM:-0400
TZOFFSETTO:-0300
TZNAME:ADT
DTSTART:20250309T060000
END:DAYLIGHT
BEGIN:STANDARD
TZOFFSETFROM:-0300
TZOFFSETTO:-0400
TZNAME:AST
DTSTART:20251102T050000
END:STANDARD
END:VTIMEZONE
BEGIN:VEVENT
DTSTART;TZID=America/Moncton:20240404T180000
DTEND;TZID=America/Moncton:20240404T193000
DTSTAMP:20260422T161524
CREATED:20220407T104838Z
LAST-MODIFIED:20241021T125517Z
UID:10000558-1712253600-1712259000@monctonoutdoorenthusiasts.ca
SUMMARY:Thursday Night City Social Walks
DESCRIPTION:Thursday Night City Social Walks will restart again on Halloween night – Time: 6:30 p.m. Distance: 5-10 Km. Meeting place\, Dairy Queen\, 264 Coverdale Rd\, Riverview.
URL:https://monctonoutdoorenthusiasts.ca/event/thursday-night-city-social-walks-27/2024-04-04/
LOCATION:NB
CATEGORIES:Easy-Moderate
ORGANIZER;CN="Julian Screawn":MAILTO:screawn@hotmail.com
END:VEVENT
END:VCALENDAR