BEGIN:VCALENDAR
VERSION:2.0
PRODID:-//Moncton Outdoor Enthusiasts - ECPv6.15.20//NONSGML v1.0//EN
CALSCALE:GREGORIAN
METHOD:PUBLISH
X-ORIGINAL-URL:https://monctonoutdoorenthusiasts.ca
X-WR-CALDESC:Events for Moncton Outdoor Enthusiasts
REFRESH-INTERVAL;VALUE=DURATION:PT1H
X-Robots-Tag:noindex
X-PUBLISHED-TTL:PT1H
BEGIN:VTIMEZONE
TZID:America/Moncton
BEGIN:DAYLIGHT
TZOFFSETFROM:-0400
TZOFFSETTO:-0300
TZNAME:ADT
DTSTART:20230312T060000
END:DAYLIGHT
BEGIN:STANDARD
TZOFFSETFROM:-0300
TZOFFSETTO:-0400
TZNAME:AST
DTSTART:20231105T050000
END:STANDARD
BEGIN:DAYLIGHT
TZOFFSETFROM:-0400
TZOFFSETTO:-0300
TZNAME:ADT
DTSTART:20240310T060000
END:DAYLIGHT
BEGIN:STANDARD
TZOFFSETFROM:-0300
TZOFFSETTO:-0400
TZNAME:AST
DTSTART:20241103T050000
END:STANDARD
BEGIN:DAYLIGHT
TZOFFSETFROM:-0400
TZOFFSETTO:-0300
TZNAME:ADT
DTSTART:20250309T060000
END:DAYLIGHT
BEGIN:STANDARD
TZOFFSETFROM:-0300
TZOFFSETTO:-0400
TZNAME:AST
DTSTART:20251102T050000
END:STANDARD
END:VTIMEZONE
BEGIN:VEVENT
DTSTART;TZID=America/Moncton:20240511T090000
DTEND;TZID=America/Moncton:20240511T150000
DTSTAMP:20260422T130547
CREATED:20240108T122859Z
LAST-MODIFIED:20240425T112606Z
UID:10000578-1715418000-1715439600@monctonoutdoorenthusiasts.ca
SUMMARY:White Rock Recreational Area - Perimeter Trails
DESCRIPTION:Hike the perimeter trails\, gradually ascending more than 300 meters\, in historic White rock Recreational Park\, Hillsborough.   Distance of 9-10km.  About 3 hrs.  Rated as Moderate/Strenuous.  A few challenging hills\, however\, frequent “catch your breath stops ” are planned. \nMeet at Fox Field\, 893 Hillsborough Rd in Riverview at 9:30AM or 10:00AM at White Rock Recreational Area parking lot\, Golf Club Road\, in Hillsborough. \nContact Brian  506 377 8436
URL:https://monctonoutdoorenthusiasts.ca/event/white-rock-recreational-area/
LOCATION:White Rock Recreational Area\, 297 Taylor Lane\, Hillsborough\, New Brunswick\, Canada
END:VEVENT
END:VCALENDAR