BEGIN:VCALENDAR
VERSION:2.0
PRODID:-//Moncton Outdoor Enthusiasts - ECPv6.15.20//NONSGML v1.0//EN
CALSCALE:GREGORIAN
METHOD:PUBLISH
X-ORIGINAL-URL:https://monctonoutdoorenthusiasts.ca
X-WR-CALDESC:Events for Moncton Outdoor Enthusiasts
REFRESH-INTERVAL;VALUE=DURATION:PT1H
X-Robots-Tag:noindex
X-PUBLISHED-TTL:PT1H
BEGIN:VTIMEZONE
TZID:America/Moncton
BEGIN:DAYLIGHT
TZOFFSETFROM:-0400
TZOFFSETTO:-0300
TZNAME:ADT
DTSTART:20230312T060000
END:DAYLIGHT
BEGIN:STANDARD
TZOFFSETFROM:-0300
TZOFFSETTO:-0400
TZNAME:AST
DTSTART:20231105T050000
END:STANDARD
BEGIN:DAYLIGHT
TZOFFSETFROM:-0400
TZOFFSETTO:-0300
TZNAME:ADT
DTSTART:20240310T060000
END:DAYLIGHT
BEGIN:STANDARD
TZOFFSETFROM:-0300
TZOFFSETTO:-0400
TZNAME:AST
DTSTART:20241103T050000
END:STANDARD
BEGIN:DAYLIGHT
TZOFFSETFROM:-0400
TZOFFSETTO:-0300
TZNAME:ADT
DTSTART:20250309T060000
END:DAYLIGHT
BEGIN:STANDARD
TZOFFSETFROM:-0300
TZOFFSETTO:-0400
TZNAME:AST
DTSTART:20251102T050000
END:STANDARD
END:VTIMEZONE
BEGIN:VEVENT
DTSTART;TZID=America/Moncton:20240525T083000
DTEND;TZID=America/Moncton:20240525T183000
DTSTAMP:20260422T130547
CREATED:20230227T192106Z
LAST-MODIFIED:20240430T202852Z
UID:10000483-1716625800-1716661800@monctonoutdoorenthusiasts.ca
SUMMARY:Split Rock and Troy Trail/ Coastal trails in Saint John
DESCRIPTION:Join Gale for a scenic 11km coastal hike on the connecting trails of Split Rock and Troy’s Trail near Lorneville\, NB. Challenge yourself with this moderate to strenuous trek\, complete with steep ascents and descents and unapparelled views\, in a designated Nature Preserve. Spoiler alert\, there is a 4k road section at the end\, which satisfies any  elevation quota we may not have met on the trail….oh\, and that ONE last hill. \nMeet in Centennial Park’s Dog Park parking lot 61 Rotary Lodge Lane\, Moncton\,  at 8:30AM or at the Split Rock Trailhead\, 4179-4279 Black Beach Rd\, Saint John\, NB at 10:15AM.   New hikers or anyone requiring information\, please contact Gale at 506-874-3177.
URL:https://monctonoutdoorenthusiasts.ca/event/split-rock-and-troy-trail-coastal-trails-in-saint-john/
LOCATION:NB
CATEGORIES:Moderate-Strenuous
END:VEVENT
END:VCALENDAR