BEGIN:VCALENDAR
VERSION:2.0
PRODID:-//Moncton Outdoor Enthusiasts - ECPv6.15.20//NONSGML v1.0//EN
CALSCALE:GREGORIAN
METHOD:PUBLISH
X-ORIGINAL-URL:https://monctonoutdoorenthusiasts.ca
X-WR-CALDESC:Events for Moncton Outdoor Enthusiasts
REFRESH-INTERVAL;VALUE=DURATION:PT1H
X-Robots-Tag:noindex
X-PUBLISHED-TTL:PT1H
BEGIN:VTIMEZONE
TZID:America/Moncton
BEGIN:DAYLIGHT
TZOFFSETFROM:-0400
TZOFFSETTO:-0300
TZNAME:ADT
DTSTART:20230312T060000
END:DAYLIGHT
BEGIN:STANDARD
TZOFFSETFROM:-0300
TZOFFSETTO:-0400
TZNAME:AST
DTSTART:20231105T050000
END:STANDARD
BEGIN:DAYLIGHT
TZOFFSETFROM:-0400
TZOFFSETTO:-0300
TZNAME:ADT
DTSTART:20240310T060000
END:DAYLIGHT
BEGIN:STANDARD
TZOFFSETFROM:-0300
TZOFFSETTO:-0400
TZNAME:AST
DTSTART:20241103T050000
END:STANDARD
BEGIN:DAYLIGHT
TZOFFSETFROM:-0400
TZOFFSETTO:-0300
TZNAME:ADT
DTSTART:20250309T060000
END:DAYLIGHT
BEGIN:STANDARD
TZOFFSETFROM:-0300
TZOFFSETTO:-0400
TZNAME:AST
DTSTART:20251102T050000
END:STANDARD
END:VTIMEZONE
BEGIN:VEVENT
DTSTART;TZID=America/Moncton:20240615T080000
DTEND;TZID=America/Moncton:20240615T170000
DTSTAMP:20260422T112023
CREATED:20220407T110643Z
LAST-MODIFIED:20240222T000842Z
UID:10000411-1718438400-1718470800@monctonoutdoorenthusiasts.ca
SUMMARY:Hike Spicer’s Cove and 3 Sisters
DESCRIPTION:Hike Spicer’s Cove and 3 Sisters\, Eatonville\, NS. Spectacular hike with cliffs\, great outlooks\, beach\, forest & Three Sisters. Moderate to strenuous. Meet at the Irving Station\, 64 Champlain St\, Dieppe at 9:00 am or Amherst Centre Mall at 9:45 am. Contact Paul at 588-3034 if you plan to attend.
URL:https://monctonoutdoorenthusiasts.ca/event/draft-hike-spicers-cove-and-3-sisters/
LOCATION:NB
CATEGORIES:Moderate-Strenuous
END:VEVENT
END:VCALENDAR