BEGIN:VCALENDAR
VERSION:2.0
PRODID:-//Moncton Outdoor Enthusiasts - ECPv6.15.20//NONSGML v1.0//EN
CALSCALE:GREGORIAN
METHOD:PUBLISH
X-ORIGINAL-URL:https://monctonoutdoorenthusiasts.ca
X-WR-CALDESC:Events for Moncton Outdoor Enthusiasts
REFRESH-INTERVAL;VALUE=DURATION:PT1H
X-Robots-Tag:noindex
X-PUBLISHED-TTL:PT1H
BEGIN:VTIMEZONE
TZID:America/Moncton
BEGIN:DAYLIGHT
TZOFFSETFROM:-0400
TZOFFSETTO:-0300
TZNAME:ADT
DTSTART:20230312T060000
END:DAYLIGHT
BEGIN:STANDARD
TZOFFSETFROM:-0300
TZOFFSETTO:-0400
TZNAME:AST
DTSTART:20231105T050000
END:STANDARD
BEGIN:DAYLIGHT
TZOFFSETFROM:-0400
TZOFFSETTO:-0300
TZNAME:ADT
DTSTART:20240310T060000
END:DAYLIGHT
BEGIN:STANDARD
TZOFFSETFROM:-0300
TZOFFSETTO:-0400
TZNAME:AST
DTSTART:20241103T050000
END:STANDARD
BEGIN:DAYLIGHT
TZOFFSETFROM:-0400
TZOFFSETTO:-0300
TZNAME:ADT
DTSTART:20250309T060000
END:DAYLIGHT
BEGIN:STANDARD
TZOFFSETFROM:-0300
TZOFFSETTO:-0400
TZNAME:AST
DTSTART:20251102T050000
END:STANDARD
END:VTIMEZONE
BEGIN:VEVENT
DTSTART;TZID=America/Moncton:20240630T100000
DTEND;TZID=America/Moncton:20240630T170000
DTSTAMP:20260422T111921
CREATED:20230803T174728Z
LAST-MODIFIED:20240629T233335Z
UID:10000522-1719741600-1719766800@monctonoutdoorenthusiasts.ca
SUMMARY:CANCELLED Hike from Westcock (near Sackville)
DESCRIPTION:Cancelled due to rain forecasted for the Sackville area. \nPaul will lead a hike from Westcock (near Sackville) on Sunday\, June 30th.  It is part urban (for a short time) It will be out on the dykes to a beach (lunch) on the Cumberland Basin where one could swim if one was interested. Rated moderate. Meet at Irving in Dieppe at 10:00AM or in Sackville at Macdonald’s at 10:30AM. Better call Paul at 506-588-3034/506-381-0397.
URL:https://monctonoutdoorenthusiasts.ca/event/hike-from-westcock-near-sackville/
LOCATION:NB
CATEGORIES:Moderate
END:VEVENT
END:VCALENDAR