BEGIN:VCALENDAR
VERSION:2.0
PRODID:-//Moncton Outdoor Enthusiasts - ECPv6.15.20//NONSGML v1.0//EN
CALSCALE:GREGORIAN
METHOD:PUBLISH
X-WR-CALNAME:Moncton Outdoor Enthusiasts
X-ORIGINAL-URL:https://monctonoutdoorenthusiasts.ca
X-WR-CALDESC:Events for Moncton Outdoor Enthusiasts
REFRESH-INTERVAL;VALUE=DURATION:PT1H
X-Robots-Tag:noindex
X-PUBLISHED-TTL:PT1H
BEGIN:VTIMEZONE
TZID:America/Moncton
BEGIN:DAYLIGHT
TZOFFSETFROM:-0400
TZOFFSETTO:-0300
TZNAME:ADT
DTSTART:20230312T060000
END:DAYLIGHT
BEGIN:STANDARD
TZOFFSETFROM:-0300
TZOFFSETTO:-0400
TZNAME:AST
DTSTART:20231105T050000
END:STANDARD
BEGIN:DAYLIGHT
TZOFFSETFROM:-0400
TZOFFSETTO:-0300
TZNAME:ADT
DTSTART:20240310T060000
END:DAYLIGHT
BEGIN:STANDARD
TZOFFSETFROM:-0300
TZOFFSETTO:-0400
TZNAME:AST
DTSTART:20241103T050000
END:STANDARD
BEGIN:DAYLIGHT
TZOFFSETFROM:-0400
TZOFFSETTO:-0300
TZNAME:ADT
DTSTART:20250309T060000
END:DAYLIGHT
BEGIN:STANDARD
TZOFFSETFROM:-0300
TZOFFSETTO:-0400
TZNAME:AST
DTSTART:20251102T050000
END:STANDARD
END:VTIMEZONE
BEGIN:VEVENT
DTSTART;VALUE=DATE:20240706
DTEND;VALUE=DATE:20240709
DTSTAMP:20260422T113719
CREATED:20240209T013657Z
LAST-MODIFIED:20240209T013705Z
UID:10000584-1720224000-1720483199@monctonoutdoorenthusiasts.ca
SUMMARY:Summer Bike Trip: Tatamagouche Bike and Dance
DESCRIPTION:Saturday July 6\, to Monday July 8 2024 \nBike all day and dance all night. There are 3 routes around Tatamagouche\, NS that have been explored and documented by our bike hero Larry Layton. Highlights include scenic routes and museums\, one museum on each loop. (Grist Mill Museum\, Steam Mill Museum and the Malagash Salt Miners Museum). Distance for the three routes are 30\, 36\, and 36 miles. Rides will be on Saturday\, Sunday and Monday. \nThis is also the weekend of the Riverfront Rhythms in Conns Mills (close by). An arts and dance party featuring DJs and artists from Halifax\, Moncton\, PEI\, and INTERNATIONAL. There will be artists showcasing their work\, live painting\, interactive art experiences and a dance floor open for those who want to show off their moves after biking away the day. \nAccommodation can be booked at the hotel Balmoral Hotel (https://www.balmoralmotel.ca/) in Tatamagouche \, a busy place but has a very good cancel policy. There are also two close campgrounds\, AirBnBs and good restaurants\, couple of brew pubs\, a neat little town. \nMap of Routes:\nhttps://monctonoutdoorenthusiasts.ca/wp-content/uploads/2024/01/bike-routes.jpg \nContact Julian Screawn @506-830-6463 or screawn@hotmail.com
URL:https://monctonoutdoorenthusiasts.ca/event/summer-bike-trip-tatamagouche-bike-and-dance/
LOCATION:NB
ORGANIZER;CN="Julian Screawn":MAILTO:screawn@hotmail.com
END:VEVENT
BEGIN:VEVENT
DTSTART;TZID=America/Moncton:20240706T090000
DTEND;TZID=America/Moncton:20240706T170000
DTSTAMP:20260422T113719
CREATED:20240612T232539Z
LAST-MODIFIED:20240706T111719Z
UID:10000782-1720256400-1720285200@monctonoutdoorenthusiasts.ca
SUMMARY:Cancelled- Peace Trail - Nature Concervancy of Canada - Pugwash Estuary
DESCRIPTION:Hike the Pugwash Estuary Trail (3 km – easy) and Peace Trail (8 km – moderate) in the Pugwash Estuary. \nMeet at Irving\, 64 Champlain St.\, Dieppe at 9:00AM\, Amherst Mall (142 Albion St.) at 9:45AM. or Peace Trail trailhead (5683 Thomson Rd\, Pugwash) at 10:30AM.   Contact Patti MacPherson at (709) 746-7892 or Kevin Dunphy at (506) 871-4457.\n 
URL:https://monctonoutdoorenthusiasts.ca/event/peace-trail/
LOCATION:NB
END:VEVENT
END:VCALENDAR