BEGIN:VCALENDAR
VERSION:2.0
PRODID:-//Moncton Outdoor Enthusiasts - ECPv6.15.20//NONSGML v1.0//EN
CALSCALE:GREGORIAN
METHOD:PUBLISH
X-WR-CALNAME:Moncton Outdoor Enthusiasts
X-ORIGINAL-URL:https://monctonoutdoorenthusiasts.ca
X-WR-CALDESC:Events for Moncton Outdoor Enthusiasts
REFRESH-INTERVAL;VALUE=DURATION:PT1H
X-Robots-Tag:noindex
X-PUBLISHED-TTL:PT1H
BEGIN:VTIMEZONE
TZID:America/Moncton
BEGIN:DAYLIGHT
TZOFFSETFROM:-0400
TZOFFSETTO:-0300
TZNAME:ADT
DTSTART:20230312T060000
END:DAYLIGHT
BEGIN:STANDARD
TZOFFSETFROM:-0300
TZOFFSETTO:-0400
TZNAME:AST
DTSTART:20231105T050000
END:STANDARD
BEGIN:DAYLIGHT
TZOFFSETFROM:-0400
TZOFFSETTO:-0300
TZNAME:ADT
DTSTART:20240310T060000
END:DAYLIGHT
BEGIN:STANDARD
TZOFFSETFROM:-0300
TZOFFSETTO:-0400
TZNAME:AST
DTSTART:20241103T050000
END:STANDARD
BEGIN:DAYLIGHT
TZOFFSETFROM:-0400
TZOFFSETTO:-0300
TZNAME:ADT
DTSTART:20250309T060000
END:DAYLIGHT
BEGIN:STANDARD
TZOFFSETFROM:-0300
TZOFFSETTO:-0400
TZNAME:AST
DTSTART:20251102T050000
END:STANDARD
END:VTIMEZONE
BEGIN:VEVENT
DTSTART;TZID=America/Moncton:20240713T090000
DTEND;TZID=America/Moncton:20240713T170000
DTSTAMP:20260422T113822
CREATED:20220614T101558Z
LAST-MODIFIED:20240701T232740Z
UID:10000330-1720861200-1720890000@monctonoutdoorenthusiasts.ca
SUMMARY:Moosehorn/Laverty Falls Loop
DESCRIPTION:Hike Moosehorn/Laverty Falls Loop. Amazing Places. 9km. Moderate. Plan to swim at Laverty Falls.  Meet at the Fox Field\, 893 Hillsborough Road\, Riverview for departure at 9:00AM or Fundy National Park Administration Centre at 10:00AM.  Contact Brian Foster at (506) 377-8436.
URL:https://monctonoutdoorenthusiasts.ca/event/pending-moosehorn-laverty-falls-loop/
LOCATION:NB
CATEGORIES:Moderate
END:VEVENT
END:VCALENDAR