BEGIN:VCALENDAR
VERSION:2.0
PRODID:-//Moncton Outdoor Enthusiasts - ECPv6.15.20//NONSGML v1.0//EN
CALSCALE:GREGORIAN
METHOD:PUBLISH
X-ORIGINAL-URL:https://monctonoutdoorenthusiasts.ca
X-WR-CALDESC:Events for Moncton Outdoor Enthusiasts
REFRESH-INTERVAL;VALUE=DURATION:PT1H
X-Robots-Tag:noindex
X-PUBLISHED-TTL:PT1H
BEGIN:VTIMEZONE
TZID:America/Moncton
BEGIN:DAYLIGHT
TZOFFSETFROM:-0400
TZOFFSETTO:-0300
TZNAME:ADT
DTSTART:20230312T060000
END:DAYLIGHT
BEGIN:STANDARD
TZOFFSETFROM:-0300
TZOFFSETTO:-0400
TZNAME:AST
DTSTART:20231105T050000
END:STANDARD
BEGIN:DAYLIGHT
TZOFFSETFROM:-0400
TZOFFSETTO:-0300
TZNAME:ADT
DTSTART:20240310T060000
END:DAYLIGHT
BEGIN:STANDARD
TZOFFSETFROM:-0300
TZOFFSETTO:-0400
TZNAME:AST
DTSTART:20241103T050000
END:STANDARD
BEGIN:DAYLIGHT
TZOFFSETFROM:-0400
TZOFFSETTO:-0300
TZNAME:ADT
DTSTART:20250309T060000
END:DAYLIGHT
BEGIN:STANDARD
TZOFFSETFROM:-0300
TZOFFSETTO:-0400
TZNAME:AST
DTSTART:20251102T050000
END:STANDARD
END:VTIMEZONE
BEGIN:VEVENT
DTSTART;TZID=America/Moncton:20240714T100000
DTEND;TZID=America/Moncton:20240714T153000
DTSTAMP:20260422T114108
CREATED:20220408T103753Z
LAST-MODIFIED:20240612T001348Z
UID:10000420-1720951200-1720971000@monctonoutdoorenthusiasts.ca
SUMMARY:Crooked Creek Lookout
DESCRIPTION:Hike from Riverside school to Crooked. Moderate\, 7-8km. Meet at Fox Field\, 893 Hillsborough Road\, Riverview at 10:00 am or Riverside school at 10:45 am. Contact Brian at 506-377-8436.
URL:https://monctonoutdoorenthusiasts.ca/event/draft-sawmill-creek-bridge-to-the-crooked-creek-lookout/
LOCATION:NB
CATEGORIES:Moderate
END:VEVENT
END:VCALENDAR