BEGIN:VCALENDAR
VERSION:2.0
PRODID:-//Moncton Outdoor Enthusiasts - ECPv6.15.20//NONSGML v1.0//EN
CALSCALE:GREGORIAN
METHOD:PUBLISH
X-WR-CALNAME:Moncton Outdoor Enthusiasts
X-ORIGINAL-URL:https://monctonoutdoorenthusiasts.ca
X-WR-CALDESC:Events for Moncton Outdoor Enthusiasts
REFRESH-INTERVAL;VALUE=DURATION:PT1H
X-Robots-Tag:noindex
X-PUBLISHED-TTL:PT1H
BEGIN:VTIMEZONE
TZID:America/Moncton
BEGIN:DAYLIGHT
TZOFFSETFROM:-0400
TZOFFSETTO:-0300
TZNAME:ADT
DTSTART:20230312T060000
END:DAYLIGHT
BEGIN:STANDARD
TZOFFSETFROM:-0300
TZOFFSETTO:-0400
TZNAME:AST
DTSTART:20231105T050000
END:STANDARD
BEGIN:DAYLIGHT
TZOFFSETFROM:-0400
TZOFFSETTO:-0300
TZNAME:ADT
DTSTART:20240310T060000
END:DAYLIGHT
BEGIN:STANDARD
TZOFFSETFROM:-0300
TZOFFSETTO:-0400
TZNAME:AST
DTSTART:20241103T050000
END:STANDARD
BEGIN:DAYLIGHT
TZOFFSETFROM:-0400
TZOFFSETTO:-0300
TZNAME:ADT
DTSTART:20250309T060000
END:DAYLIGHT
BEGIN:STANDARD
TZOFFSETFROM:-0300
TZOFFSETTO:-0400
TZNAME:AST
DTSTART:20251102T050000
END:STANDARD
END:VTIMEZONE
BEGIN:VEVENT
DTSTART;TZID=America/Moncton:20240920T090000
DTEND;TZID=America/Moncton:20240920T150000
DTSTAMP:20260424T065408
CREATED:20240911T221122Z
LAST-MODIFIED:20240919T155523Z
UID:10000819-1726822800-1726844400@monctonoutdoorenthusiasts.ca
SUMMARY:Friday Activity - Dobson Cleanup - Levi Road to Smith Road
DESCRIPTION:Join Ted for a Friday morning outing to check and clean up our section of the Dobson Trail – Levi Road to Smith Road.   Meet at the Dobson Trail\, 633 Pine Glen Rd\, Pine Glen\, NB\, at 9:00AM or at Levi Road at 9:20AM.  Bring water\, lunch\, gloves\, and good foot wear.  Anyone requiring information\, please contact Ted at at (506) 852-0976. \n 
URL:https://monctonoutdoorenthusiasts.ca/event/friday-activity-dobson-cleanup-levi-road-to-smith-road/
LOCATION:NB
CATEGORIES:Moderate
ORGANIZER;CN="Kevin Dunphy":MAILTO:dunpke@gmail.com
END:VEVENT
END:VCALENDAR