BEGIN:VCALENDAR
VERSION:2.0
PRODID:-//Moncton Outdoor Enthusiasts - ECPv6.15.20//NONSGML v1.0//EN
CALSCALE:GREGORIAN
METHOD:PUBLISH
X-ORIGINAL-URL:https://monctonoutdoorenthusiasts.ca
X-WR-CALDESC:Events for Moncton Outdoor Enthusiasts
REFRESH-INTERVAL;VALUE=DURATION:PT1H
X-Robots-Tag:noindex
X-PUBLISHED-TTL:PT1H
BEGIN:VTIMEZONE
TZID:America/Moncton
BEGIN:DAYLIGHT
TZOFFSETFROM:-0400
TZOFFSETTO:-0300
TZNAME:ADT
DTSTART:20230312T060000
END:DAYLIGHT
BEGIN:STANDARD
TZOFFSETFROM:-0300
TZOFFSETTO:-0400
TZNAME:AST
DTSTART:20231105T050000
END:STANDARD
BEGIN:DAYLIGHT
TZOFFSETFROM:-0400
TZOFFSETTO:-0300
TZNAME:ADT
DTSTART:20240310T060000
END:DAYLIGHT
BEGIN:STANDARD
TZOFFSETFROM:-0300
TZOFFSETTO:-0400
TZNAME:AST
DTSTART:20241103T050000
END:STANDARD
BEGIN:DAYLIGHT
TZOFFSETFROM:-0400
TZOFFSETTO:-0300
TZNAME:ADT
DTSTART:20250309T060000
END:DAYLIGHT
BEGIN:STANDARD
TZOFFSETFROM:-0300
TZOFFSETTO:-0400
TZNAME:AST
DTSTART:20251102T050000
END:STANDARD
END:VTIMEZONE
BEGIN:VEVENT
DTSTART;TZID=America/Moncton:20240925T090000
DTEND;TZID=America/Moncton:20240925T090000
DTSTAMP:20260424T065622
CREATED:20240924T122557Z
LAST-MODIFIED:20240924T123105Z
UID:10000841-1727254800-1727254800@monctonoutdoorenthusiasts.ca
SUMMARY:Hike in the Ings Interval area
DESCRIPTION:Strenuous hike in the Ings Interval area (near Hillsborough).  Around 10 km. \nMeet at 9:00 am at the second parking lot of the Dobson Trail head (633 Pine Glen Rd.\, Riverview\, NB) \nFor more information\, please call Ted (506)852-0976 \n  \n  \n  \n  \n  \n  \n 
URL:https://monctonoutdoorenthusiasts.ca/event/hike-in-the-ings-interval-area/
LOCATION:NB
CATEGORIES:Strenuous
ORGANIZER;CN="Ted Harrison":MAILTO:tedalice27@yahoo.ca
END:VEVENT
END:VCALENDAR