BEGIN:VCALENDAR
VERSION:2.0
PRODID:-//Moncton Outdoor Enthusiasts - ECPv6.15.20//NONSGML v1.0//EN
CALSCALE:GREGORIAN
METHOD:PUBLISH
X-WR-CALNAME:Moncton Outdoor Enthusiasts
X-ORIGINAL-URL:https://monctonoutdoorenthusiasts.ca
X-WR-CALDESC:Events for Moncton Outdoor Enthusiasts
REFRESH-INTERVAL;VALUE=DURATION:PT1H
X-Robots-Tag:noindex
X-PUBLISHED-TTL:PT1H
BEGIN:VTIMEZONE
TZID:America/Moncton
BEGIN:DAYLIGHT
TZOFFSETFROM:-0400
TZOFFSETTO:-0300
TZNAME:ADT
DTSTART:20230312T060000
END:DAYLIGHT
BEGIN:STANDARD
TZOFFSETFROM:-0300
TZOFFSETTO:-0400
TZNAME:AST
DTSTART:20231105T050000
END:STANDARD
BEGIN:DAYLIGHT
TZOFFSETFROM:-0400
TZOFFSETTO:-0300
TZNAME:ADT
DTSTART:20240310T060000
END:DAYLIGHT
BEGIN:STANDARD
TZOFFSETFROM:-0300
TZOFFSETTO:-0400
TZNAME:AST
DTSTART:20241103T050000
END:STANDARD
BEGIN:DAYLIGHT
TZOFFSETFROM:-0400
TZOFFSETTO:-0300
TZNAME:ADT
DTSTART:20250309T060000
END:DAYLIGHT
BEGIN:STANDARD
TZOFFSETFROM:-0300
TZOFFSETTO:-0400
TZNAME:AST
DTSTART:20251102T050000
END:STANDARD
END:VTIMEZONE
BEGIN:VEVENT
DTSTART;TZID=America/Moncton:20240928T090000
DTEND;TZID=America/Moncton:20240928T143000
DTSTAMP:20260424T065439
CREATED:20240922T123956Z
LAST-MODIFIED:20240924T171022Z
UID:10000828-1727514000-1727533800@monctonoutdoorenthusiasts.ca
SUMMARY:Green Snake Trail in Alma
DESCRIPTION:Green Snake Trail… Alma..Easy to Moderate Paced Hike. 10 Km …3 Hrs 5 Km in.. 5 km out.\nMeet at Fox Field – 893 Hillsborough Rd at 9:00 AM  OR – 10:00AM at the public parking lot – School St..Alma ..Behind the ALMA BOATHOUSE restaurant. Contact Brian 506 377 8436\n\nREMINDER…Marilyn’s B D party is Saturday from 2 – 5 PM….we should have completed our hike and back in town around 2 PM
URL:https://monctonoutdoorenthusiasts.ca/event/green-snake-trail-in-alma-3/
LOCATION:NB
CATEGORIES:Moderate
END:VEVENT
BEGIN:VEVENT
DTSTART;TZID=America/Moncton:20240928T093000
DTEND;TZID=America/Moncton:20240928T170000
DTSTAMP:20260424T065439
CREATED:20240922T122025Z
LAST-MODIFIED:20240922T122025Z
UID:10000826-1727515800-1727542800@monctonoutdoorenthusiasts.ca
SUMMARY:Veloroute Acadian Peninsula - Inkerman to Bertrand
DESCRIPTION:Come cycling with us to explore the vibrant fall colours of the Acadian Peninsula\, a cycling paradise with its famous Véloroute. This legendary network boasts over 600 kilometres of meticulously maintained trails.\nSaturday\, September 28th – CHECK in at 9:45 am and DEPART at 10:00AM.\nRoute: Inkerman to Bertrand.\nBegin and finish at the Eglise parossial catholique St-Michel in Inkerman.  (~60 km\, mostly on a paved path).\n106 Rue de l’Eglise\, Inkerman\, NB E8P 1A4
URL:https://monctonoutdoorenthusiasts.ca/event/veloroute-acadian-peninsula-inkerman-to-bertrand/
LOCATION:NB
END:VEVENT
BEGIN:VEVENT
DTSTART;TZID=America/Moncton:20240928T100000
DTEND;TZID=America/Moncton:20240929T170000
DTSTAMP:20260424T065439
CREATED:20240709T113426Z
LAST-MODIFIED:20240922T122827Z
UID:10000783-1727517600-1727629200@monctonoutdoorenthusiasts.ca
SUMMARY:Fall 2024 Véloroute Acadian Peninsula Biking Trip
DESCRIPTION:Fall 2024 Véloroute Acadian Peninsula Biking Trip \nSaturday\, September 28th and Sunday\, September 29th \nCome cycling with us to explore the vibrant fall colors of the Acadian Peninsula\, a cycling paradise with its famous Véloroute. This legendary network boasts over 600 kilometers of meticulously maintained trails. From Grande-Anse to Néguac\, Tracadie to Miscou\, crisscross the charming Acadian Peninsula along well-equipped paths. Enjoy sea views between Caraquet and the historic Acadian village of Bertrand\, embark on an epic adventure to the Miscou lighthouse\, or challenge yourself with a long-distance ride. \nSaturday\, September 28th – CHECK in at 9:45 am and DEPART at 10:00 am \nSaturday\, September 28th – CHECK in at 9:45 am and DEPART at 10:00 am \nRoute: Inkerman to Bertrand. \nBegin and finish at the Inkerman church. (~60 km\, mostly on a paved path). \n106 Rue de l’Eglise\, Inkerman\, NB E8P 1A4 \n  \n  \nSunday\, September 29th – CHECK in at 10:15 am. DEPART at 10:30 am \nRoute: Tracadie region\, covering Circuit 12 + 12B + 12C (~50 km of paved path). \nLeaving from the Deux Rivières Resort. \n100 Deux\, Rivieres St\, Tracadie-Sheila\, NB E1X 4S9 \n  \nNotable Attractions: \n\nCrossing a lifting bridge\nSte-Cécile Church with its flamboyant decorations\nAcadian Peninsula Ecological Park\nMiscou Bridge (one of the rare slopes of the Véloroute)\nWalk on the path in the peat bogs\nMiscou Lighthouse\, the end of the world\n\nSunday\, September 29th – CHECK in at 10:15 am. DEPART at 10:30 am \nRoute: Tracadie region\, covering Circuit 12 + 12B + 12C (~50 km of paved path) \nNotable Attractions: \n\nVisit the replica of the Grand-Pré chapel\nWalk on the heritage trail\nDetour to the canal at Pointe-à-Bouleau\nDetour (12B) towards Pont Gravé\nAdmire the Grande Tracadie River\n\nAccommodations: \n\nDeux Rivières Resort in Tracadie-Sheila (hotel rooms and cabins)\nVarious Airbnbs in the area\n\nBike Rentals: \n\nDeux Rivières Resort\nWelcome Centre in Caraquet\n\nUseful Apps: \n\nTrailForks and Ondago are great for navigating the area\n\nVéloroute Acadian Peninsula Website \n\nhttps://veloroutepa.ca/en\n\nOrganizer – Jennifer Prinz \nQuestions – please contact Jennifer at jprinzpei@gmail.com
URL:https://monctonoutdoorenthusiasts.ca/event/fall-2024-veloroute-acadian-peninsula-biking-trip/
LOCATION:NB
END:VEVENT
BEGIN:VEVENT
DTSTART;TZID=America/Moncton:20240928T140000
DTEND;TZID=America/Moncton:20240928T170000
DTSTAMP:20260424T065439
CREATED:20240924T124517Z
LAST-MODIFIED:20240924T124522Z
UID:10000842-1727532000-1727542800@monctonoutdoorenthusiasts.ca
SUMMARY:Marilyn LeBlanc - Birthday Bash
DESCRIPTION:Although you’d never know it on the trail\, but\, yes\, Marilyn is turning the 8 0. \nYou are invited to join their family birthday party on Saturday\, September 28\, at Chateau Moncton\, from 2:00-5:00PM to celebrate Marilyn\, one of our honorable Life Members.   Her family says it’s not fancy\, and encourage everyone in the club to attend. \n 
URL:https://monctonoutdoorenthusiasts.ca/event/marilyn-leblanc-birthday-bash/
LOCATION:NB
END:VEVENT
END:VCALENDAR