BEGIN:VCALENDAR
VERSION:2.0
PRODID:-//Moncton Outdoor Enthusiasts - ECPv6.15.20//NONSGML v1.0//EN
CALSCALE:GREGORIAN
METHOD:PUBLISH
X-ORIGINAL-URL:https://monctonoutdoorenthusiasts.ca
X-WR-CALDESC:Events for Moncton Outdoor Enthusiasts
REFRESH-INTERVAL;VALUE=DURATION:PT1H
X-Robots-Tag:noindex
X-PUBLISHED-TTL:PT1H
BEGIN:VTIMEZONE
TZID:America/Moncton
BEGIN:DAYLIGHT
TZOFFSETFROM:-0400
TZOFFSETTO:-0300
TZNAME:ADT
DTSTART:20240310T060000
END:DAYLIGHT
BEGIN:STANDARD
TZOFFSETFROM:-0300
TZOFFSETTO:-0400
TZNAME:AST
DTSTART:20241103T050000
END:STANDARD
BEGIN:DAYLIGHT
TZOFFSETFROM:-0400
TZOFFSETTO:-0300
TZNAME:ADT
DTSTART:20250309T060000
END:DAYLIGHT
BEGIN:STANDARD
TZOFFSETFROM:-0300
TZOFFSETTO:-0400
TZNAME:AST
DTSTART:20251102T050000
END:STANDARD
BEGIN:DAYLIGHT
TZOFFSETFROM:-0400
TZOFFSETTO:-0300
TZNAME:ADT
DTSTART:20260308T060000
END:DAYLIGHT
BEGIN:STANDARD
TZOFFSETFROM:-0300
TZOFFSETTO:-0400
TZNAME:AST
DTSTART:20261101T050000
END:STANDARD
END:VTIMEZONE
BEGIN:VEVENT
DTSTART;TZID=America/Moncton:20250614T080000
DTEND;TZID=America/Moncton:20250614T170000
DTSTAMP:20260422T105348
CREATED:20250520T145423Z
LAST-MODIFIED:20250603T112609Z
UID:10000908-1749888000-1749920400@monctonoutdoorenthusiasts.ca
SUMMARY:Laverty/Moosehorn Loop  Kelly Chase
DESCRIPTION:Lavery/Moosehorn Loop – Approx 7.3 km – Moderate/Strenuous. \nExpect wet spots\, some stream crossings\, and rooty and rocky terrain as well as the need to navigate a large eroded boulder area along the trail. \nDepart from Fox Field at 9am or meet at Fundy National Park Headquarters at 10:15. We will then drive to the trailhead located at the parking area at the end of Laverty Road. \nThe hike will begin at the Laverty Falls trailhead\, and will descend gradually but steadily for 2.5 km until we reach the falls. We will then continue along the path until it meets the Moosehorn trail. The trail alternates between stretches of grassy areas\, alder lined riverbanks and gravely  stream sides. We will eventually pass cold water pools and swimming holes along the way until we reach a scenic and eroded boulder area where we will stop for lunch before we resume our hike. \n  \nAfter our lunch break\, initially there is a very steep climb up the Moosehorn trail\, which becomes more of a gradual upward grade for the final 2 km back to the parking area. \n  \nFor questions\, please reach out to Kelly at 506-651-1673. \n  \n 
URL:https://monctonoutdoorenthusiasts.ca/event/goose-river-kelly/
LOCATION:NB
CATEGORIES:Moderate-Strenuous
ORGANIZER;CN="Maureen Wallace":MAILTO:wallacemaureenk@gmail.com
END:VEVENT
END:VCALENDAR