BEGIN:VCALENDAR
VERSION:2.0
PRODID:-//Moncton Outdoor Enthusiasts - ECPv6.15.20//NONSGML v1.0//EN
CALSCALE:GREGORIAN
METHOD:PUBLISH
X-ORIGINAL-URL:https://monctonoutdoorenthusiasts.ca
X-WR-CALDESC:Events for Moncton Outdoor Enthusiasts
REFRESH-INTERVAL;VALUE=DURATION:PT1H
X-Robots-Tag:noindex
X-PUBLISHED-TTL:PT1H
BEGIN:VTIMEZONE
TZID:America/Moncton
BEGIN:DAYLIGHT
TZOFFSETFROM:-0400
TZOFFSETTO:-0300
TZNAME:ADT
DTSTART:20240310T060000
END:DAYLIGHT
BEGIN:STANDARD
TZOFFSETFROM:-0300
TZOFFSETTO:-0400
TZNAME:AST
DTSTART:20241103T050000
END:STANDARD
BEGIN:DAYLIGHT
TZOFFSETFROM:-0400
TZOFFSETTO:-0300
TZNAME:ADT
DTSTART:20250309T060000
END:DAYLIGHT
BEGIN:STANDARD
TZOFFSETFROM:-0300
TZOFFSETTO:-0400
TZNAME:AST
DTSTART:20251102T050000
END:STANDARD
BEGIN:DAYLIGHT
TZOFFSETFROM:-0400
TZOFFSETTO:-0300
TZNAME:ADT
DTSTART:20260308T060000
END:DAYLIGHT
BEGIN:STANDARD
TZOFFSETFROM:-0300
TZOFFSETTO:-0400
TZNAME:AST
DTSTART:20261101T050000
END:STANDARD
END:VTIMEZONE
BEGIN:VEVENT
DTSTART;TZID=America/Moncton:20250624T080000
DTEND;TZID=America/Moncton:20250624T170000
DTSTAMP:20260422T105348
CREATED:20250620T125147Z
LAST-MODIFIED:20250620T185131Z
UID:10001191-1750752000-1750784400@monctonoutdoorenthusiasts.ca
SUMMARY:MOE Camping Trip Mt Carleton
DESCRIPTION:MOE Summer Camping Trip Planning Meeting \n  \nWhen: \nTuesday June 24\, 2025   6:30pm \n30 Englehart\,Suite G\, Dieppe Claimspro office\, drive around to back of building\, parking lot is at far end. \nA meeting will be held to provide information about the Mt Carleton Park and to discuss the schedule of activities.  The goal is to obtain input into a schedule that will allow for the different interests and abilities of all participants. \n  \nAnyone interested and is not yet on the list is welcome to attend to learn more about the trip. \n  \nPhil Hardy
URL:https://monctonoutdoorenthusiasts.ca/event/moe-camping-trip-mt-carleton/
LOCATION:NB
CATEGORIES:Easy
ORGANIZER;CN="Phil Hardy":MAILTO:phil-hardy@hotmail.com
END:VEVENT
END:VCALENDAR