BEGIN:VCALENDAR
VERSION:2.0
PRODID:-//Moncton Outdoor Enthusiasts - ECPv6.15.20//NONSGML v1.0//EN
CALSCALE:GREGORIAN
METHOD:PUBLISH
X-WR-CALNAME:Moncton Outdoor Enthusiasts
X-ORIGINAL-URL:https://monctonoutdoorenthusiasts.ca
X-WR-CALDESC:Events for Moncton Outdoor Enthusiasts
REFRESH-INTERVAL;VALUE=DURATION:PT1H
X-Robots-Tag:noindex
X-PUBLISHED-TTL:PT1H
BEGIN:VTIMEZONE
TZID:America/Moncton
BEGIN:DAYLIGHT
TZOFFSETFROM:-0400
TZOFFSETTO:-0300
TZNAME:ADT
DTSTART:20240310T060000
END:DAYLIGHT
BEGIN:STANDARD
TZOFFSETFROM:-0300
TZOFFSETTO:-0400
TZNAME:AST
DTSTART:20241103T050000
END:STANDARD
BEGIN:DAYLIGHT
TZOFFSETFROM:-0400
TZOFFSETTO:-0300
TZNAME:ADT
DTSTART:20250309T060000
END:DAYLIGHT
BEGIN:STANDARD
TZOFFSETFROM:-0300
TZOFFSETTO:-0400
TZNAME:AST
DTSTART:20251102T050000
END:STANDARD
BEGIN:DAYLIGHT
TZOFFSETFROM:-0400
TZOFFSETTO:-0300
TZNAME:ADT
DTSTART:20260308T060000
END:DAYLIGHT
BEGIN:STANDARD
TZOFFSETFROM:-0300
TZOFFSETTO:-0400
TZNAME:AST
DTSTART:20261101T050000
END:STANDARD
END:VTIMEZONE
BEGIN:VEVENT
DTSTART;TZID=America/Moncton:20250626T080000
DTEND;TZID=America/Moncton:20250626T170000
DTSTAMP:20260422T105214
CREATED:20250624T120539Z
LAST-MODIFIED:20250624T120633Z
UID:10001194-1750924800-1750957200@monctonoutdoorenthusiasts.ca
SUMMARY:Bike night and Music\, Shediac   June 26th\, 6:30 PM
DESCRIPTION:Bike in Shediac\, visit the Giant Lobster! Pointe Do Chene wharf\, Parlee beach! \n1.5 hours. \nMix of street and gravel trail! \nMeet at Parlee Beach gate entry 6:30PM\, Parlee Beach Road\, drive to the end as if you are going to the beach\, parking lot to your right. Entry is free. \nAfter the ride there will be an option to go to Euston Park for refreshments and free Music! \nHelmets mandatory. \nCalvin
URL:https://monctonoutdoorenthusiasts.ca/event/bike-night-and-music-shediac-june-26th-630-pm/
LOCATION:NB
ORGANIZER;CN="Maureen Wallace":MAILTO:wallacemaureenk@gmail.com
END:VEVENT
END:VCALENDAR