BEGIN:VCALENDAR
VERSION:2.0
PRODID:-//Moncton Outdoor Enthusiasts - ECPv6.15.20//NONSGML v1.0//EN
CALSCALE:GREGORIAN
METHOD:PUBLISH
X-ORIGINAL-URL:https://monctonoutdoorenthusiasts.ca
X-WR-CALDESC:Events for Moncton Outdoor Enthusiasts
REFRESH-INTERVAL;VALUE=DURATION:PT1H
X-Robots-Tag:noindex
X-PUBLISHED-TTL:PT1H
BEGIN:VTIMEZONE
TZID:America/Moncton
BEGIN:DAYLIGHT
TZOFFSETFROM:-0400
TZOFFSETTO:-0300
TZNAME:ADT
DTSTART:20240310T060000
END:DAYLIGHT
BEGIN:STANDARD
TZOFFSETFROM:-0300
TZOFFSETTO:-0400
TZNAME:AST
DTSTART:20241103T050000
END:STANDARD
BEGIN:DAYLIGHT
TZOFFSETFROM:-0400
TZOFFSETTO:-0300
TZNAME:ADT
DTSTART:20250309T060000
END:DAYLIGHT
BEGIN:STANDARD
TZOFFSETFROM:-0300
TZOFFSETTO:-0400
TZNAME:AST
DTSTART:20251102T050000
END:STANDARD
BEGIN:DAYLIGHT
TZOFFSETFROM:-0400
TZOFFSETTO:-0300
TZNAME:ADT
DTSTART:20260308T060000
END:DAYLIGHT
BEGIN:STANDARD
TZOFFSETFROM:-0300
TZOFFSETTO:-0400
TZNAME:AST
DTSTART:20261101T050000
END:STANDARD
END:VTIMEZONE
BEGIN:VEVENT
DTSTART;TZID=America/Moncton:20250810T080000
DTEND;TZID=America/Moncton:20250810T170000
DTSTAMP:20260422T175810
CREATED:20250710T185410Z
LAST-MODIFIED:20250806T165537Z
UID:10001197-1754812800-1754845200@monctonoutdoorenthusiasts.ca
SUMMARY:Bridges Walk Riverview  Brian Foster
DESCRIPTION:TWO BRIDGES – RIVERVIEW \nA familiar MODERATE PACED HIKE led by Brian..506 377 8436 \nDistance  7 – 8 kms….Duration.. couple of hours \nDifficulty –> Easy \nMEET \n10:00 AM – Parking lot on left just as you turn left off the Vaughn Harvey bridge – 175 Hillsborough Rd
URL:https://monctonoutdoorenthusiasts.ca/event/bridges-walk-riverview-brian-foster/
LOCATION:NB
CATEGORIES:Easy-Moderate
END:VEVENT
END:VCALENDAR