BEGIN:VCALENDAR
VERSION:2.0
PRODID:-//Moncton Outdoor Enthusiasts - ECPv6.15.20//NONSGML v1.0//EN
CALSCALE:GREGORIAN
METHOD:PUBLISH
X-ORIGINAL-URL:https://monctonoutdoorenthusiasts.ca
X-WR-CALDESC:Events for Moncton Outdoor Enthusiasts
REFRESH-INTERVAL;VALUE=DURATION:PT1H
X-Robots-Tag:noindex
X-PUBLISHED-TTL:PT1H
BEGIN:VTIMEZONE
TZID:America/Moncton
BEGIN:DAYLIGHT
TZOFFSETFROM:-0400
TZOFFSETTO:-0300
TZNAME:ADT
DTSTART:20240310T060000
END:DAYLIGHT
BEGIN:STANDARD
TZOFFSETFROM:-0300
TZOFFSETTO:-0400
TZNAME:AST
DTSTART:20241103T050000
END:STANDARD
BEGIN:DAYLIGHT
TZOFFSETFROM:-0400
TZOFFSETTO:-0300
TZNAME:ADT
DTSTART:20250309T060000
END:DAYLIGHT
BEGIN:STANDARD
TZOFFSETFROM:-0300
TZOFFSETTO:-0400
TZNAME:AST
DTSTART:20251102T050000
END:STANDARD
BEGIN:DAYLIGHT
TZOFFSETFROM:-0400
TZOFFSETTO:-0300
TZNAME:ADT
DTSTART:20260308T060000
END:DAYLIGHT
BEGIN:STANDARD
TZOFFSETFROM:-0300
TZOFFSETTO:-0400
TZNAME:AST
DTSTART:20261101T050000
END:STANDARD
END:VTIMEZONE
BEGIN:VEVENT
DTSTART;TZID=America/Moncton:20250917T080000
DTEND;TZID=America/Moncton:20250917T170000
DTSTAMP:20260424T113807
CREATED:20250916T184203Z
LAST-MODIFIED:20250916T184353Z
UID:10001234-1758096000-1758128400@monctonoutdoorenthusiasts.ca
SUMMARY:Paddle Night  Shediac  Early start 6:00 PM
DESCRIPTION:Paddle night\, Scouduc River Shediac\, Wednesday September 17th 6:00pm.\nLaunch at Riverside Warf\, Riverside road\, parking is on Avard Street across from wharf\, 25m. BYOK and lifejackets are mandatory.\nDepending on conditions\, we will paddle the river\, or if winds are light\, we will paddle in the bay! \n\n\nCal\n506-875-3351
URL:https://monctonoutdoorenthusiasts.ca/event/paddle-night/
END:VEVENT
END:VCALENDAR