BEGIN:VCALENDAR
VERSION:2.0
PRODID:-//Moncton Outdoor Enthusiasts - ECPv6.15.20//NONSGML v1.0//EN
CALSCALE:GREGORIAN
METHOD:PUBLISH
X-ORIGINAL-URL:https://monctonoutdoorenthusiasts.ca
X-WR-CALDESC:Events for Moncton Outdoor Enthusiasts
REFRESH-INTERVAL;VALUE=DURATION:PT1H
X-Robots-Tag:noindex
X-PUBLISHED-TTL:PT1H
BEGIN:VTIMEZONE
TZID:America/Moncton
BEGIN:DAYLIGHT
TZOFFSETFROM:-0400
TZOFFSETTO:-0300
TZNAME:ADT
DTSTART:20240310T060000
END:DAYLIGHT
BEGIN:STANDARD
TZOFFSETFROM:-0300
TZOFFSETTO:-0400
TZNAME:AST
DTSTART:20241103T050000
END:STANDARD
BEGIN:DAYLIGHT
TZOFFSETFROM:-0400
TZOFFSETTO:-0300
TZNAME:ADT
DTSTART:20250309T060000
END:DAYLIGHT
BEGIN:STANDARD
TZOFFSETFROM:-0300
TZOFFSETTO:-0400
TZNAME:AST
DTSTART:20251102T050000
END:STANDARD
BEGIN:DAYLIGHT
TZOFFSETFROM:-0400
TZOFFSETTO:-0300
TZNAME:ADT
DTSTART:20260308T060000
END:DAYLIGHT
BEGIN:STANDARD
TZOFFSETFROM:-0300
TZOFFSETTO:-0400
TZNAME:AST
DTSTART:20261101T050000
END:STANDARD
END:VTIMEZONE
BEGIN:VEVENT
DTSTART;TZID=America/Moncton:20250928T080000
DTEND;TZID=America/Moncton:20250928T170000
DTSTAMP:20260424T115115
CREATED:20250825T124422Z
LAST-MODIFIED:20250927T010748Z
UID:10001216-1759046400-1759078800@monctonoutdoorenthusiasts.ca
SUMMARY:St Anselme Church to Dover   Elizabeth
DESCRIPTION:📍 Trail: St. Anselme Church to Dover Road \nDifficulty: Easy+ \nDistance: 12 km \n📍 Meeting Point: Parking lot across from St. Anselme Church (Amirault Blvd\, Dieppe) \n🕙 Time: 10:00 AM \n🥤 Bring water and a light snack \n📞 Contact: Elizabeth – 863-4494
URL:https://monctonoutdoorenthusiasts.ca/event/st-anselme-church-to-dover-elizabeth/
CATEGORIES:Easy-Moderate
END:VEVENT
END:VCALENDAR