BEGIN:VCALENDAR
VERSION:2.0
PRODID:-//Moncton Outdoor Enthusiasts - ECPv6.15.20//NONSGML v1.0//EN
CALSCALE:GREGORIAN
METHOD:PUBLISH
X-WR-CALNAME:Moncton Outdoor Enthusiasts
X-ORIGINAL-URL:https://monctonoutdoorenthusiasts.ca
X-WR-CALDESC:Events for Moncton Outdoor Enthusiasts
REFRESH-INTERVAL;VALUE=DURATION:PT1H
X-Robots-Tag:noindex
X-PUBLISHED-TTL:PT1H
BEGIN:VTIMEZONE
TZID:America/Moncton
BEGIN:DAYLIGHT
TZOFFSETFROM:-0400
TZOFFSETTO:-0300
TZNAME:ADT
DTSTART:20250309T060000
END:DAYLIGHT
BEGIN:STANDARD
TZOFFSETFROM:-0300
TZOFFSETTO:-0400
TZNAME:AST
DTSTART:20251102T050000
END:STANDARD
BEGIN:DAYLIGHT
TZOFFSETFROM:-0400
TZOFFSETTO:-0300
TZNAME:ADT
DTSTART:20260308T060000
END:DAYLIGHT
BEGIN:STANDARD
TZOFFSETFROM:-0300
TZOFFSETTO:-0400
TZNAME:AST
DTSTART:20261101T050000
END:STANDARD
BEGIN:DAYLIGHT
TZOFFSETFROM:-0400
TZOFFSETTO:-0300
TZNAME:ADT
DTSTART:20270314T060000
END:DAYLIGHT
BEGIN:STANDARD
TZOFFSETFROM:-0300
TZOFFSETTO:-0400
TZNAME:AST
DTSTART:20271107T050000
END:STANDARD
END:VTIMEZONE
BEGIN:VEVENT
DTSTART;TZID=America/Moncton:20260503T130000
DTEND;TZID=America/Moncton:20260503T160000
DTSTAMP:20260424T202922
CREATED:20250905T132352Z
LAST-MODIFIED:20260423T155215Z
UID:10001220-1777813200-1777824000@monctonoutdoorenthusiasts.ca
SUMMARY:Hillsborough Dikes
DESCRIPTION:Hike in Hillsborough on the dikes.  Option to include Graybrook Marsh Walking Trail.   Rated as Easy to Moderate with a distance of 7km. Meet in New Brunswick Railway Museum parking lot on Steeves Street.    New hikers or anyone requiring additional information\, please contact contact Marilyn at 506-233-1251
URL:https://monctonoutdoorenthusiasts.ca/event/hillsborough-10am-marilyn-leblanc/
LOCATION:Hillsborough
CATEGORIES:Easy-Moderate
ORGANIZER;CN="Marilyn Leblanc":MAILTO:ralph5@bellaliant.net
END:VEVENT
END:VCALENDAR