BEGIN:VCALENDAR
VERSION:2.0
PRODID:-//Moncton Outdoor Enthusiasts - ECPv6.15.20//NONSGML v1.0//EN
CALSCALE:GREGORIAN
METHOD:PUBLISH
X-ORIGINAL-URL:https://monctonoutdoorenthusiasts.ca
X-WR-CALDESC:Events for Moncton Outdoor Enthusiasts
REFRESH-INTERVAL;VALUE=DURATION:PT1H
X-Robots-Tag:noindex
X-PUBLISHED-TTL:PT1H
BEGIN:VTIMEZONE
TZID:America/Moncton
BEGIN:DAYLIGHT
TZOFFSETFROM:-0400
TZOFFSETTO:-0300
TZNAME:ADT
DTSTART:20250309T060000
END:DAYLIGHT
BEGIN:STANDARD
TZOFFSETFROM:-0300
TZOFFSETTO:-0400
TZNAME:AST
DTSTART:20251102T050000
END:STANDARD
BEGIN:DAYLIGHT
TZOFFSETFROM:-0400
TZOFFSETTO:-0300
TZNAME:ADT
DTSTART:20260308T060000
END:DAYLIGHT
BEGIN:STANDARD
TZOFFSETFROM:-0300
TZOFFSETTO:-0400
TZNAME:AST
DTSTART:20261101T050000
END:STANDARD
BEGIN:DAYLIGHT
TZOFFSETFROM:-0400
TZOFFSETTO:-0300
TZNAME:ADT
DTSTART:20270314T060000
END:DAYLIGHT
BEGIN:STANDARD
TZOFFSETFROM:-0300
TZOFFSETTO:-0400
TZNAME:AST
DTSTART:20271107T050000
END:STANDARD
END:VTIMEZONE
BEGIN:VEVENT
DTSTART;TZID=America/Moncton:20260408T100000
DTEND;TZID=America/Moncton:20260408T170000
DTSTAMP:20260422T060322
CREATED:20260330T190304Z
LAST-MODIFIED:20260403T144016Z
UID:10001376-1775642400-1775667600@monctonoutdoorenthusiasts.ca
SUMMARY:RIVERFRONT TRAIL - Brian
DESCRIPTION:An EASY MODERATE PACED SOCIAL HIKE from Riverview over the V H Bridge\, down Moncton riverfront trail to  HALL’S CREEK Bridge\, for mid – hike stop\, snack & treats….. 7 – 8 kms…couple of hrs. \n10:00 AM …Meet at 175 Hillsborough Rd P/L \, just accross the V H bridge\, on your left. \nShould you have any questions \, please do not hesitate to contact me…Brian…506 377 8436 \n 
URL:https://monctonoutdoorenthusiasts.ca/event/riverfront-trail-brian/
CATEGORIES:Easy
END:VEVENT
BEGIN:VEVENT
DTSTART;TZID=America/Moncton:20260411T090000
DTEND;TZID=America/Moncton:20260411T180000
DTSTAMP:20260422T060322
CREATED:20260330T233134Z
LAST-MODIFIED:20260411T121604Z
UID:10001378-1775898000-1775930400@monctonoutdoorenthusiasts.ca
SUMMARY:hike in Memramcook - *** Cancelled ***
DESCRIPTION:hike cancelled – Rain way stronger than forcast.
URL:https://monctonoutdoorenthusiasts.ca/event/two-islands-and-davisons/
LOCATION:Two Islands
END:VEVENT
BEGIN:VEVENT
DTSTART;TZID=America/Moncton:20260412T130000
DTEND;TZID=America/Moncton:20260412T170000
DTSTAMP:20260422T060322
CREATED:20260403T145218Z
LAST-MODIFIED:20260403T145726Z
UID:10001379-1775998800-1776013200@monctonoutdoorenthusiasts.ca
SUMMARY:RIVERFRONT TRAIL - Brian
DESCRIPTION:An EASY\, MODERATE PACED SOCIAL HIKE down the Riverview river front trail to OUTHOUSE POINT. \n7 – 8 kms…..couple of hrs \n1:00 PM…Meet at the Riverview Chocolate Station P/L on Coverdale rd \nAny Questions\, contact Brian…506 377 8436 \n 
URL:https://monctonoutdoorenthusiasts.ca/event/sunday-at-riverfront-trail-brian/
CATEGORIES:Easy-Moderate
END:VEVENT
BEGIN:VEVENT
DTSTART;TZID=America/Moncton:20260415T080000
DTEND;TZID=America/Moncton:20260415T170000
DTSTAMP:20260422T060322
CREATED:20260305T185743Z
LAST-MODIFIED:20260403T150412Z
UID:10001308-1776240000-1776272400@monctonoutdoorenthusiasts.ca
SUMMARY:Dobson Trail - Brian
DESCRIPTION:An EASY\, MODERATE PACED SOCIAL HIKE….. 6 -7 kms….couple of hrs \n9:30 AM…Meet at first Dobson P/L on Pine Glen Rd. \nContact Brian….506 377 8436
URL:https://monctonoutdoorenthusiasts.ca/event/dobson-trail-riverview-1000-am-brian/
CATEGORIES:Easy
END:VEVENT
BEGIN:VEVENT
DTSTART;TZID=America/Moncton:20260418T090000
DTEND;TZID=America/Moncton:20260418T170000
DTSTAMP:20260422T060322
CREATED:20260413T191510Z
LAST-MODIFIED:20260413T210529Z
UID:10001381-1776502800-1776531600@monctonoutdoorenthusiasts.ca
SUMMARY:Parrsboro - Cape Sharpe and Partridge Island
DESCRIPTION:Hike in Parrsboro area; Cape Sharpe & Partridge Island\, plus a visit to the Fundy Ocean Research Centre for Energy (FORCE) for lunch and short tour. \nHike in Parrsboro area – Cape Sharpe & Partridge Island\, plus a visit to Fundy Ocean Research Center for Energy (FORCE) for lunch and a short tour. After hike refreshment and/or early supper at Two Islands Brewing in downtown Parrsboro.  Hike is rated as moderate with a distance of 11 km. Please meet at the Centennial Dog Park area at 9:00AM or Amherst Centre Mall (behind FYIdoctors) at 9:45AM.   New hikers or anyone requiring additional information \, better call Paul @506-381-0397. \n 
URL:https://monctonoutdoorenthusiasts.ca/event/cape-sharpe-and-partridge-island/
LOCATION:Parrsboro
END:VEVENT
BEGIN:VEVENT
DTSTART;TZID=America/Moncton:20260419T100000
DTEND;TZID=America/Moncton:20260419T130000
DTSTAMP:20260422T060322
CREATED:20220407T103748Z
LAST-MODIFIED:20260403T114810Z
UID:10000401-1776592800-1776603600@monctonoutdoorenthusiasts.ca
SUMMARY:Riverfront Trail –  St. Anselme Church to Dover Road
DESCRIPTION:Hike on the Riverfront Trail – St. Anselme Church to Dover Road.  Easy+\, 12 km.  Meet at the parking lot across from St. Anselme Church (1009 Amirault St\, Dieppe\, NB E1A 1C9) at 10:00AM. Bring water and a light snack.  New participants or anyone requiring additional information\, please contact Elizabeth at 863-4494.
URL:https://monctonoutdoorenthusiasts.ca/event/hike-on-the-riverfront-trail-st-anselme-church-to-dover-road-2/
CATEGORIES:Easy
END:VEVENT
BEGIN:VEVENT
DTSTART;TZID=America/Moncton:20260425T100000
DTEND;TZID=America/Moncton:20260425T153000
DTSTAMP:20260422T060322
CREATED:20260421T201323Z
LAST-MODIFIED:20260421T232905Z
UID:10001382-1777111200-1777131000@monctonoutdoorenthusiasts.ca
SUMMARY:Dobson Trail - Berryton towards Levi Rd
DESCRIPTION:Come hike a section of the Dobson trail.\n We’ll hike up the newly blazed section from Berryton towards Levy rd. Parallel to the Smith rd.\nIt’s a moderate 4km climb \, for a total of 8km return.\nMeet at Centennial Dog Park on St George Blvd for departure at 10:00AM.\nCarpooling will be essential as the parking area is small.   See you then 🙂\n\nNew hikers or those requiring information\, please contact Jocelyne at 506-850-9894
URL:https://monctonoutdoorenthusiasts.ca/event/smyth-road/
ORGANIZER;CN="Jocelyne Quann":MAILTO:jmjquann@outlook.com
END:VEVENT
BEGIN:VEVENT
DTSTART;TZID=America/Moncton:20260426T080000
DTEND;TZID=America/Moncton:20260426T170000
DTSTAMP:20260422T060322
CREATED:20251019T222626Z
LAST-MODIFIED:20260421T125314Z
UID:10001247-1777190400-1777222800@monctonoutdoorenthusiasts.ca
SUMMARY:Jones Lake to Centennial Park and Back
DESCRIPTION:Meet at Goodlife fitness at 175 Ivan Rand Dr at 10:00am. 10km Easy. \nContact Julian 506-830-6463
URL:https://monctonoutdoorenthusiasts.ca/event/jones-lake-to-centennial-park-and-back/
ORGANIZER;CN="Julian Screawn":MAILTO:screawn@hotmail.com
END:VEVENT
BEGIN:VEVENT
DTSTART;TZID=America/Moncton:20260429T090000
DTEND;TZID=America/Moncton:20260429T170000
DTSTAMP:20260422T060322
CREATED:20260308T134158Z
LAST-MODIFIED:20260403T151211Z
UID:10001327-1777453200-1777482000@monctonoutdoorenthusiasts.ca
SUMMARY:Two Bridges - Brian
DESCRIPTION:An EASY\, MODERATE PACED SOCIAL HIKE around the Two Bridges….7 kms….couple of hrs \n9:30 AM…Meet at 175 Hillsborough Rd P/L\,  just taccross the V H bridge to you left. \nContact Brian….506 377 8436 \n 
URL:https://monctonoutdoorenthusiasts.ca/event/two-bridges-brian-3/
CATEGORIES:Easy
END:VEVENT
BEGIN:VEVENT
DTSTART;TZID=America/Moncton:20260509T090000
DTEND;TZID=America/Moncton:20260509T170000
DTSTAMP:20260422T060322
CREATED:20260306T181438Z
LAST-MODIFIED:20260403T153200Z
UID:10001317-1778317200-1778346000@monctonoutdoorenthusiasts.ca
SUMMARY:WHITE ROCK - Brian
DESCRIPTION:A MODERATE PACED & CHALLENGING Hike around the perimiter trails of White Rock Recreational Park \n11 – 13 kms ……3 – 4 hrs. Be sure you are prepared for the hilly\, rugged terrain\, the distance and the time. \n9:30 AM..RIDE SHARING…Fox Field\, 889 Hillsborough Rd \, Riverview \n10:00 AM..SIGN IN & HIKE at W R ….Golf Club Rd\, Hillsborough. \nContact Brian…506 377 8436
URL:https://monctonoutdoorenthusiasts.ca/event/white-rock/
CATEGORIES:Moderate-Strenuous
END:VEVENT
BEGIN:VEVENT
DTSTART;TZID=America/Moncton:20260513T090000
DTEND;TZID=America/Moncton:20260513T170000
DTSTAMP:20260422T060322
CREATED:20260305T193154Z
LAST-MODIFIED:20260405T172705Z
UID:10001310-1778662800-1778691600@monctonoutdoorenthusiasts.ca
SUMMARY:Hillsborough Dykes - Brian
DESCRIPTION:An EASY MODERATE PACED SOCIAL HIKE along the historic dykes in Hillsborough. \n7 – 8 kms…..Couple of hours \n9:30 AM  –  RIDE SHARING…Fox Field \, 889 Hillsborough Rd\, Riverview \n10:00 AM  – SIGN IN & HIKE..P/L behind post office on Steeves St\, by Train Station. \nContact Brian…506 377 8436
URL:https://monctonoutdoorenthusiasts.ca/event/hillsborough-dykes-10am-brian/
CATEGORIES:Easy
END:VEVENT
BEGIN:VEVENT
DTSTART;TZID=America/Moncton:20260524T080000
DTEND;TZID=America/Moncton:20260524T170000
DTSTAMP:20260422T060322
CREATED:20260308T132131Z
LAST-MODIFIED:20260405T174428Z
UID:10001325-1779609600-1779642000@monctonoutdoorenthusiasts.ca
SUMMARY:Crooked Creek - Brian
DESCRIPTION:A MODERATE PACED SOCIAL HIKE up Crooked Creek Trail\, in Riverside – Albert\,  for panoramic views of both the easstern and northern valleys\, followed by a stop at the river and a casual stroll through the village. \n8 kms….2 1/2  hrs……A rather long\, gradual climb to the summit…rest stops planned \n10:00 AM  –  RIDE SHARING…Fox Field\, 889 Hillsbourgh Rd in Riverview \n10:45 AM  –  SIGN IN & HIKE …Consolidated School on Water St in Riverside – Albert ( big green school ) \nAny questions…Contact Brian     506 377 8436
URL:https://monctonoutdoorenthusiasts.ca/event/crooked-creek-brian/
CATEGORIES:Easy-Moderate
END:VEVENT
BEGIN:VEVENT
DTSTART;TZID=America/Moncton:20260527T090000
DTEND;TZID=America/Moncton:20260527T170000
DTSTAMP:20260422T060322
CREATED:20260308T132415Z
LAST-MODIFIED:20260405T175419Z
UID:10001326-1779872400-1779901200@monctonoutdoorenthusiasts.ca
SUMMARY:Riverfront - Brian
DESCRIPTION:A MODERATE PACED SOCIAL HIKE. On the Riverview side\, hike down the Riverfront Trail to the end\, back track\, out to OUTHOUSE POINT for rest\, snacks and treats.   8 kms….Couple of hrs. \n9:30 AM  –  Meet P/L 175 Hillsborough Rd\, Just to your left off the V H Bridge. \nContact Brian…506 377 8436 \n 
URL:https://monctonoutdoorenthusiasts.ca/event/riverfront-halls-creek-brian/
CATEGORIES:Easy
END:VEVENT
BEGIN:VEVENT
DTSTART;TZID=America/Moncton:20260528T183000
DTEND;TZID=America/Moncton:20260528T200000
DTSTAMP:20260422T060322
CREATED:20260421T205853Z
LAST-MODIFIED:20260421T205957Z
UID:10001383-1779993000-1779998400@monctonoutdoorenthusiasts.ca
SUMMARY:Hike Planning/Gaspesie Camping Information Session
DESCRIPTION:Join us for a hike planning meeting as well as an information session for the Gaspesie Camping Trip.\nMore details/agenda to be inserted in the coming weeks.\n\nResurgo Place\, 20 Mountain Rd\, Moncton\, NB E1C 2J8\nTime – 6:30PM – 8:00PM \n 
URL:https://monctonoutdoorenthusiasts.ca/event/hike-planning-gaspesie-camping-information-session/
LOCATION:Resurgo Place\, 20 Mountain Rd\, Moncton\, NB\, E1C 2J8\, Canada
ORGANIZER;CN="Kevin Dunphy":MAILTO:dunpke@gmail.com
END:VEVENT
BEGIN:VEVENT
DTSTART;TZID=America/Moncton:20260610T090000
DTEND;TZID=America/Moncton:20260610T170000
DTSTAMP:20260422T060322
CREATED:20260306T124504Z
LAST-MODIFIED:20260308T190151Z
UID:10001314-1781082000-1781110800@monctonoutdoorenthusiasts.ca
SUMMARY:Centennial Park - Brian
DESCRIPTION:Easy…7 – 8 kms   Couple of hrs…9 AM \nDetails to follow
URL:https://monctonoutdoorenthusiasts.ca/event/centennial-park-brian-3/
CATEGORIES:Easy
END:VEVENT
BEGIN:VEVENT
DTSTART;TZID=America/Moncton:20260614T130000
DTEND;TZID=America/Moncton:20260614T170000
DTSTAMP:20260422T060322
CREATED:20260306T124821Z
LAST-MODIFIED:20260308T131457Z
UID:10001315-1781442000-1781456400@monctonoutdoorenthusiasts.ca
SUMMARY:Two Bridges - Brian
DESCRIPTION:Easy   6 – 7 kms ….couple of hrs….10 AM \nDetails to follow
URL:https://monctonoutdoorenthusiasts.ca/event/two-bridges-brian/
CATEGORIES:Easy
END:VEVENT
BEGIN:VEVENT
DTSTART;TZID=America/Moncton:20260617T090000
DTEND;TZID=America/Moncton:20260617T170000
DTSTAMP:20260422T060322
CREATED:20260308T135236Z
LAST-MODIFIED:20260308T135236Z
UID:10001329-1781686800-1781715600@monctonoutdoorenthusiasts.ca
SUMMARY:Mill Creek - Brian
DESCRIPTION:Easy   7 – 8 kms…Couple of hrs…9 AM \nDetails to follow
URL:https://monctonoutdoorenthusiasts.ca/event/mill-creek-brian-2/
CATEGORIES:Easy
END:VEVENT
BEGIN:VEVENT
DTSTART;TZID=America/Moncton:20260711T080000
DTEND;TZID=America/Moncton:20260718T170000
DTSTAMP:20260422T060322
CREATED:20251114T124832Z
LAST-MODIFIED:20251114T124836Z
UID:10001265-1783756800-1784394000@monctonoutdoorenthusiasts.ca
SUMMARY:Annual Camping Trip Gaspe
DESCRIPTION:Hosted by Calvin \, Phil\, and others. \nDetails to follow.
URL:https://monctonoutdoorenthusiasts.ca/event/annual-camping-trip-gaspe/
ORGANIZER;CN="Maureen Wallace":MAILTO:wallacemaureenk@gmail.com
END:VEVENT
BEGIN:VEVENT
DTSTART;TZID=America/Moncton:20260711T090000
DTEND;TZID=America/Moncton:20260711T153000
DTSTAMP:20260422T060322
CREATED:20260306T183012Z
LAST-MODIFIED:20260306T184115Z
UID:10001319-1783760400-1783783800@monctonoutdoorenthusiasts.ca
SUMMARY:Bennett Brook - Brian
DESCRIPTION:Fundy National Park    Hike 13 kms…..3 1/2 hrs
URL:https://monctonoutdoorenthusiasts.ca/event/bennett-brook-brian/
CATEGORIES:Easy-Moderate
END:VEVENT
BEGIN:VEVENT
DTSTART;TZID=America/Moncton:20260926T090000
DTEND;TZID=America/Moncton:20260926T170000
DTSTAMP:20260422T060322
CREATED:20260306T182308Z
LAST-MODIFIED:20260306T182308Z
UID:10001318-1790413200-1790442000@monctonoutdoorenthusiasts.ca
SUMMARY:WHITE ROCK - Brian
DESCRIPTION:Central Trails ….11-12 kms…..3 1/2 hrs
URL:https://monctonoutdoorenthusiasts.ca/event/white-rock-brian-3/
CATEGORIES:Moderate-Strenuous
END:VEVENT
BEGIN:VEVENT
DTSTART;TZID=America/Moncton:20261014T090000
DTEND;TZID=America/Moncton:20261014T153000
DTSTAMP:20260422T060322
CREATED:20260306T183614Z
LAST-MODIFIED:20260306T183614Z
UID:10001320-1791968400-1791991800@monctonoutdoorenthusiasts.ca
SUMMARY:FRIARS NOSE - AMPHITHEATER - Brian
DESCRIPTION:Fall foliage hike   Hike  7-8 kms ..3 + hrs
URL:https://monctonoutdoorenthusiasts.ca/event/friars-nose-amphitheater-brian/
CATEGORIES:Moderate-Strenuous
END:VEVENT
END:VCALENDAR