BEGIN:VCALENDAR
VERSION:2.0
PRODID:-//Moncton Outdoor Enthusiasts - ECPv6.15.20//NONSGML v1.0//EN
CALSCALE:GREGORIAN
METHOD:PUBLISH
X-WR-CALNAME:Moncton Outdoor Enthusiasts
X-ORIGINAL-URL:https://monctonoutdoorenthusiasts.ca
X-WR-CALDESC:Events for Moncton Outdoor Enthusiasts
REFRESH-INTERVAL;VALUE=DURATION:PT1H
X-Robots-Tag:noindex
X-PUBLISHED-TTL:PT1H
BEGIN:VTIMEZONE
TZID:America/Moncton
BEGIN:DAYLIGHT
TZOFFSETFROM:-0400
TZOFFSETTO:-0300
TZNAME:ADT
DTSTART:20220313T060000
END:DAYLIGHT
BEGIN:STANDARD
TZOFFSETFROM:-0300
TZOFFSETTO:-0400
TZNAME:AST
DTSTART:20221106T050000
END:STANDARD
BEGIN:DAYLIGHT
TZOFFSETFROM:-0400
TZOFFSETTO:-0300
TZNAME:ADT
DTSTART:20230312T060000
END:DAYLIGHT
BEGIN:STANDARD
TZOFFSETFROM:-0300
TZOFFSETTO:-0400
TZNAME:AST
DTSTART:20231105T050000
END:STANDARD
BEGIN:DAYLIGHT
TZOFFSETFROM:-0400
TZOFFSETTO:-0300
TZNAME:ADT
DTSTART:20240310T060000
END:DAYLIGHT
BEGIN:STANDARD
TZOFFSETFROM:-0300
TZOFFSETTO:-0400
TZNAME:AST
DTSTART:20241103T050000
END:STANDARD
END:VTIMEZONE
BEGIN:VEVENT
DTSTART;TZID=America/Moncton:20230510T130000
DTEND;TZID=America/Moncton:20230510T163000
DTSTAMP:20260425T074838
CREATED:20230510T123748Z
LAST-MODIFIED:20230510T123748Z
UID:10000508-1683723600-1683736200@monctonoutdoorenthusiasts.ca
SUMMARY:Hike from Levi to Smith road (Dobson Trail) and return
DESCRIPTION:What’s better than a walk in the wood this afternoon.  Walk from Levi to Smith road and return (light trail clean-up).  Meet us at the Dobson Trail Head (second parking lot) at 1:00PM.  About 8 KM -Moderate \nTed 506-852-0976
URL:https://monctonoutdoorenthusiasts.ca/event/hike-from-levi-to-smith-road-dobson-trail-and-return/
ORGANIZER;CN="Ted Harrison":MAILTO:tedalice27@yahoo.ca
END:VEVENT
BEGIN:VEVENT
DTSTART;TZID=America/Moncton:20230426T131500
DTEND;TZID=America/Moncton:20230426T160000
DTSTAMP:20260425T074838
CREATED:20230426T002517Z
LAST-MODIFIED:20230426T002517Z
UID:10000505-1682514900-1682524800@monctonoutdoorenthusiasts.ca
SUMMARY:Hike Stoney Creek area.
DESCRIPTION:Hike in the Stoney Creek area.  Meet at the second parking lot at the Dobson Trail Head in Riverview at 1:15 PM.  Approximate 8 km – Moderate \nTed (506)852-0976
URL:https://monctonoutdoorenthusiasts.ca/event/hike-stoney-creek-area/
CATEGORIES:Moderate
ORGANIZER;CN="Ted Harrison":MAILTO:tedalice27@yahoo.ca
END:VEVENT
BEGIN:VEVENT
DTSTART;TZID=America/Moncton:20230423T100000
DTEND;TZID=America/Moncton:20230423T170000
DTSTAMP:20260425T074838
CREATED:20230421T151237Z
LAST-MODIFIED:20230421T151242Z
UID:10000503-1682244000-1682269200@monctonoutdoorenthusiasts.ca
SUMMARY:Mill Creek Chocolate River Walk
DESCRIPTION:Meet at Hawthorne Park\, corner of Hawthorne and Irwin\, in Point park\, Riverview at 10:00am.  8-10km. \nLevel: Easy-Moderate. \nContact Julian at 506-830-6463
URL:https://monctonoutdoorenthusiasts.ca/event/mill-creek-chocolate-river-walk/
CATEGORIES:Easy-Moderate
END:VEVENT
BEGIN:VEVENT
DTSTART;TZID=America/Moncton:20230408T080000
DTEND;TZID=America/Moncton:20230408T170000
DTSTAMP:20260425T074838
CREATED:20221214T205942Z
LAST-MODIFIED:20230406T202859Z
UID:10000461-1680940800-1680973200@monctonoutdoorenthusiasts.ca
SUMMARY:Two Bridges Training Walk
DESCRIPTION:Third training walk for our 42km\, 40th Anniversary Event. Distance 26km. Two laps of 13km.  Come out and do one or two laps. Meet at La Bikery\, 120 Assomption Blvd. Bring a lunch and adequate water. \nRating: Strenuous. Contact Julian\, 506-830-6463. \nStart time first lap is 10:00am.\nStart time for the second lap is 1:00pm.
URL:https://monctonoutdoorenthusiasts.ca/event/two-bridges-training-walk/
CATEGORIES:Strenuous
END:VEVENT
BEGIN:VEVENT
DTSTART;TZID=America/Moncton:20230407T080000
DTEND;TZID=America/Moncton:20230407T170000
DTSTAMP:20260425T074838
CREATED:20230406T202145Z
LAST-MODIFIED:20230406T202145Z
UID:10000500-1680854400-1680886800@monctonoutdoorenthusiasts.ca
SUMMARY:Two Rivers
DESCRIPTION:With regard to a hike to Two Rivers tomorrow (good friday)\, it is on. Meet at the corner by the Old Bank Museum and the store in Riverside/Albert at 11:00 AM and we will proceed from there to the parking area in New Horton. If anyone is carpooling\, they could meet at the usual ball field location in Point Park at 10:15. The tide will be nearing high when we are there so probably no beach walking\, but rather dyke walking.\nPaul 588-3034
URL:https://monctonoutdoorenthusiasts.ca/event/two-rivers/
END:VEVENT
BEGIN:VEVENT
DTSTART;TZID=America/Moncton:20230401T093000
DTEND;TZID=America/Moncton:20230401T110000
DTSTAMP:20260425T074838
CREATED:20230331T235237Z
LAST-MODIFIED:20230331T235237Z
UID:10000499-1680341400-1680346800@monctonoutdoorenthusiasts.ca
SUMMARY:Irishtown Nature Park
DESCRIPTION:A walk in the park before the rain.  Meet in main parking lot at 9:30 AM \nTed (506)852-0976. Easy
URL:https://monctonoutdoorenthusiasts.ca/event/irishtown-nature-park-2/
CATEGORIES:Easy
ORGANIZER;CN="Ted Harrison":MAILTO:tedalice27@yahoo.ca
END:VEVENT
BEGIN:VEVENT
DTSTART;TZID=America/Moncton:20230325T080000
DTEND;TZID=America/Moncton:20230325T170000
DTSTAMP:20260425T074838
CREATED:20230310T142526Z
LAST-MODIFIED:20230310T142526Z
UID:10000492-1679731200-1679763600@monctonoutdoorenthusiasts.ca
SUMMARY:Two Islands N.S.
DESCRIPTION:TBA
URL:https://monctonoutdoorenthusiasts.ca/event/two-islands-n-s/
END:VEVENT
BEGIN:VEVENT
DTSTART;TZID=America/Moncton:20230319T080000
DTEND;TZID=America/Moncton:20230319T170000
DTSTAMP:20260425T074838
CREATED:20221214T004647Z
LAST-MODIFIED:20230227T234153Z
UID:10000458-1679212800-1679245200@monctonoutdoorenthusiasts.ca
SUMMARY:Two Bridges Training Walk
DESCRIPTION:Second training walk for our 42km\, 40th Anniversary Event. Distance 20km. Location:To be announced. Rating: Moderate-Strenuous. Contact Julian\, 506-830-6463. Start time 10:00am.
URL:https://monctonoutdoorenthusiasts.ca/event/two-bridges-training-walk-2/
CATEGORIES:Moderate-Strenuous
END:VEVENT
BEGIN:VEVENT
DTSTART;TZID=America/Moncton:20230318T080000
DTEND;TZID=America/Moncton:20230318T170000
DTSTAMP:20260425T074838
CREATED:20230309T152308Z
LAST-MODIFIED:20230315T134857Z
UID:10000491-1679126400-1679158800@monctonoutdoorenthusiasts.ca
SUMMARY:Sentier de l’École in Grande-Digue
DESCRIPTION:March 18.  Distance 10km.   Rating: Easy – Moderate. \nMeet at 12:00pm at Irving\, 64 Champlain Street\, Dieppe or at 12:30PM in the parking lot of École Grande-Digue\, 365 Route 530\, Grande-Digue. We will be parking at the school\, near the playground.\, where Maureen will meet the group and our trek will commence there. \nSpring commences on March 20 so let’s usher out winter by snowshoeing 10 km on a flat trail that winds through beautiful Acadian forest from Grande-Digue to St. Marcel and back. We won’t be eating lunch on the trail but will certainly take water and snack breaks. Following our trek\, all are cordially invited to the home of Bob and Maureen Wallace\, 2317 Route 530\, Grande-Digue for some Kent County hospitality in the form of baked beans (some will contain pork and some will be vegetarian) and brown bread. Kindly text Maureen at (506) 850-9401 if you plan to come\, or if you have any questions. If anyone needs to borrow snowshoes\, the local Sentier Pluriel has a free snowshoe loan program\, this link will provide the details.https://sentierpluriel.ca/en/snowshoe/  \n 
URL:https://monctonoutdoorenthusiasts.ca/event/sentier-de-lecole-in-grande-digue/
CATEGORIES:Moderate
END:VEVENT
BEGIN:VEVENT
DTSTART;TZID=America/Moncton:20230301T090000
DTEND;TZID=America/Moncton:20230301T170000
DTSTAMP:20260425T074838
CREATED:20230228T174607Z
LAST-MODIFIED:20230228T175533Z
UID:10000488-1677661200-1677690000@monctonoutdoorenthusiasts.ca
SUMMARY:Kouchibouguac Fat Biking
DESCRIPTION:Going to Kouchibouquac to Fat Bike tomorrow morning\, Wednesday Mar. 1. Probably leave around 9:00am. \nIf you are interested\, let me know. \nJocelyne  506-850-9894 \nYou can reserve a fat bike at \n$10/hr \n\nKouchibouquac Rentals:\n506-876-1254
URL:https://monctonoutdoorenthusiasts.ca/event/kouchibouguac-fat-biking/
END:VEVENT
BEGIN:VEVENT
DTSTART;TZID=America/Moncton:20230228T080000
DTEND;TZID=America/Moncton:20230228T170000
DTSTAMP:20260425T074838
CREATED:20230227T191948Z
LAST-MODIFIED:20230426T120016Z
UID:10000482-1677571200-1677603600@monctonoutdoorenthusiasts.ca
SUMMARY:Outdoor skating (Dieppe)
DESCRIPTION:Come and enjoy an evening of skating at the Dieppe Oval Place 1604\, behind City Hall . Helmet optional but highly recommended. All levels welcome. Meet 6h45 on the benches around the ice. Ice time 7h-8h. Contact Ginette.
URL:https://monctonoutdoorenthusiasts.ca/event/outdoor-skating-dieppe/
CATEGORIES:Easy
END:VEVENT
BEGIN:VEVENT
DTSTART;TZID=America/Moncton:20230226T100000
DTEND;TZID=America/Moncton:20230226T170000
DTSTAMP:20260425T074838
CREATED:20221213T234535Z
LAST-MODIFIED:20230216T124856Z
UID:10000455-1677405600-1677430800@monctonoutdoorenthusiasts.ca
SUMMARY:Two Bridges Training Walk
DESCRIPTION:First training walk for our 42km\, 40th Anniversary Event.  Distance 15km (3 laps). Everyone is welcome\, you can do as many laps as you wish.  Location: 600 Mapleton Rd\, Moncton. Meet at the main parking lot near the lodge and across from Princess Auto.   Rating: Moderate-Strenuous. Contact Julian\, 506-830-6463. Start time 10:30am.
URL:https://monctonoutdoorenthusiasts.ca/event/two-bridges-training-walk-3/
CATEGORIES:Moderate-Strenuous
ORGANIZER;CN="Julian Screawn":MAILTO:screawn@hotmail.com
END:VEVENT
BEGIN:VEVENT
DTSTART;TZID=America/Moncton:20230224T180000
DTEND;TZID=America/Moncton:20230224T190000
DTSTAMP:20260425T074838
CREATED:20230214T222556Z
LAST-MODIFIED:20230426T120535Z
UID:10000476-1677261600-1677265200@monctonoutdoorenthusiasts.ca
SUMMARY:Cancel due to weather and poor ice condition/ Outdoor skating
DESCRIPTION:Cancel due to weather and poor ice condition/Come and enjoy an evening of skating at the Riverview Winter Wonderland located on Quinn Court. Helmet optional but highly recommended. All levels welcome. Meet at 6h45 on the ice. Ice time 7h-8h. Contact Ginette.
URL:https://monctonoutdoorenthusiasts.ca/event/outdoor-skating-5/
CATEGORIES:Easy
END:VEVENT
BEGIN:VEVENT
DTSTART;TZID=America/Moncton:20230215T180000
DTEND;TZID=America/Moncton:20230215T190000
DTSTAMP:20260425T074838
CREATED:20230215T124249Z
LAST-MODIFIED:20230426T120608Z
UID:10000477-1676484000-1676487600@monctonoutdoorenthusiasts.ca
SUMMARY:CANCEL/ Outdoor skating
DESCRIPTION:CANCEL/ Come and enjoy an evening of skating at the Dieppe Oval Place 1604\, behind City Hall. Helmet optional but highly recommended. All levels welcome. Meet 5h45 at one of the benches around the ice. Ice time 6h to 7h. Contact Ginette.
URL:https://monctonoutdoorenthusiasts.ca/event/outdoor-skating-6/
CATEGORIES:Easy
END:VEVENT
BEGIN:VEVENT
DTSTART;TZID=America/Moncton:20230212T130000
DTEND;TZID=America/Moncton:20230212T170000
DTSTAMP:20260425T074838
CREATED:20211211T103526Z
LAST-MODIFIED:20221214T004213Z
UID:10000381-1676206800-1676221200@monctonoutdoorenthusiasts.ca
SUMMARY:Snowshoe at Broadleaf Farms
DESCRIPTION:Snowshoe at Broadleaf Farms from the Restaurant to the Lodge and return. Meet at the Petro Can Station 506 Hillsborough Rd\, Riverview at 1:00 pm or Broadleaf Ranch at 1:45 pm. Contact Paul at 588-3034
URL:https://monctonoutdoorenthusiasts.ca/event/pending-review-snowshoe-at-broadleaf-farms/
CATEGORIES:Moderate
END:VEVENT
BEGIN:VEVENT
DTSTART;TZID=America/Moncton:20230211T100000
DTEND;TZID=America/Moncton:20230211T170000
DTSTAMP:20260425T074838
CREATED:20221213T235121Z
LAST-MODIFIED:20230130T142320Z
UID:10000457-1676109600-1676134800@monctonoutdoorenthusiasts.ca
SUMMARY:Snowshoe Tracy Lake Trail in Fundy National Park: Cancelled
DESCRIPTION:Hike or Snowshoe Tracy Lake Trail in Fundy National Park. Moderate – 14km. Meet at the Fox Field Parking Lot\, 893 Hillsborough Rd\, Riverview\, NB \, at 10:00am or Park Headquarters at 11:00am. Contact Ralph at 386-6579
URL:https://monctonoutdoorenthusiasts.ca/event/snowshoe-tracy-lake-trail-in-fundy-national-park/
CATEGORIES:Moderate-Strenuous
ORGANIZER;CN="Ralph Leblanc":MAILTO:ralph5@bellaliant.net
END:VEVENT
BEGIN:VEVENT
DTSTART;TZID=America/Moncton:20230208T131500
DTEND;TZID=America/Moncton:20230208T150000
DTSTAMP:20260425T074838
CREATED:20230208T125812Z
LAST-MODIFIED:20230208T125812Z
UID:10000474-1675862100-1675868400@monctonoutdoorenthusiasts.ca
SUMMARY:Snowshoe Tower Road area
DESCRIPTION:Snowshoeing this afternoon in the Tower Road area.  Meet at Dobson Trail Head Riverview at 1:15pm (Ted 506-852-0976)
URL:https://monctonoutdoorenthusiasts.ca/event/snowshoe-tower-road-area/
CATEGORIES:Moderate
ORGANIZER;CN="Ted Harrison":MAILTO:tedalice27@yahoo.ca
END:VEVENT
BEGIN:VEVENT
DTSTART;TZID=America/Moncton:20230207T183000
DTEND;TZID=America/Moncton:20230207T193000
DTSTAMP:20260425T074838
CREATED:20230124T134321Z
LAST-MODIFIED:20230426T120647Z
UID:10000471-1675794600-1675798200@monctonoutdoorenthusiasts.ca
SUMMARY:CHANGE OF LOCATION\, CENTENNIAL PARK/ Outdoor skating
DESCRIPTION:CHANGE OF LOCATION\, CENTENNIAL PARK/ Come and enjoy an evening of skating at the Dieppe Oval Place 1604\, behind City Hall . Helmet optional but highly recommended. All levels welcome. Meet 6h15 at one of the benches around the ice. Ice time 6h30-7h30. Contact Ginette.
URL:https://monctonoutdoorenthusiasts.ca/event/outdoor-skating-4/
CATEGORIES:Easy
ORGANIZER;CN="Ginette Thibodeau":MAILTO:githi_2012@yahoo.ca
END:VEVENT
BEGIN:VEVENT
DTSTART;TZID=America/Moncton:20230205T100000
DTEND;TZID=America/Moncton:20230205T170000
DTSTAMP:20260425T074838
CREATED:20211215T112608Z
LAST-MODIFIED:20230204T032107Z
UID:10000392-1675591200-1675616400@monctonoutdoorenthusiasts.ca
SUMMARY:White Rock Recreational Area
DESCRIPTION:CHANGE of  location for Sunday Feb. 5th \nWe will be hiking (approx. 6km) at the White Rock Recreational Park in Hillsborough. \nBring Ice grippers (maybe snowshoes). There will be some hills. \nMeet at the Fox Field parking lot- 893 Hillsborough Rd. Riverview at 10:00 am. or meet at White Rock rec area (by the sign) around 10:25 am \nContact Jocelyne at 506-850-9894. \n.
URL:https://monctonoutdoorenthusiasts.ca/event/pending-review-walker-road-area-near-sackville/
CATEGORIES:Moderate
ORGANIZER;CN="Jocelyne Quann":MAILTO:jmjquann@outlook.com
END:VEVENT
BEGIN:VEVENT
DTSTART;TZID=America/Moncton:20230204T100000
DTEND;TZID=America/Moncton:20230204T170000
DTSTAMP:20260425T074838
CREATED:20230103T224824Z
LAST-MODIFIED:20230125T141151Z
UID:10000465-1675504800-1675530000@monctonoutdoorenthusiasts.ca
SUMMARY:Haily Road: Cancelled
DESCRIPTION:Snowshoe or Walk depending on conditions. Meet at 924 Albert Mines road \, Curryville\, NB. at 10:00. About 13 km\,  Moderate.  Contact Mustafa at 5068982221.
URL:https://monctonoutdoorenthusiasts.ca/event/haily-road/
ORGANIZER;CN="Mustafa":MAILTO:mustafakassemali@gmail.com
END:VEVENT
BEGIN:VEVENT
DTSTART;TZID=America/Moncton:20230203T190000
DTEND;TZID=America/Moncton:20230203T200000
DTSTAMP:20260425T074838
CREATED:20230124T133352Z
LAST-MODIFIED:20230426T120718Z
UID:10000469-1675450800-1675454400@monctonoutdoorenthusiasts.ca
SUMMARY:CANCEL due to weather/ Outdoor skating
DESCRIPTION:CANCEL due to weather/ Come and enjoy an evening of skating at the Ian Fowler Oval at the Avenir Centre (150 Canada Street) Moncton. Helmet optional but highly recommended. All levels welcome. Meet 6h45 at one of the benches around the ice. Ice time 7h-8h. Contact Ginette.
URL:https://monctonoutdoorenthusiasts.ca/event/outdoor-skating-2/
CATEGORIES:Easy
ORGANIZER;CN="Ginette Thibodeau":MAILTO:githi_2012@yahoo.ca
END:VEVENT
BEGIN:VEVENT
DTSTART;TZID=America/Moncton:20230131T183000
DTEND;TZID=America/Moncton:20230131T193000
DTSTAMP:20260425T074838
CREATED:20230124T134007Z
LAST-MODIFIED:20230426T115606Z
UID:10000470-1675189800-1675193400@monctonoutdoorenthusiasts.ca
SUMMARY:Outdoor skating
DESCRIPTION:Come and enjoy an evening of skating at the Dieppe Oval Place 1604\, behind City Hall . Helmet optional but highly recommended. All levels welcome. Meet 6h15 at one of the benches around the ice. Ice time 6h30-7h30. Contact Ginette.
URL:https://monctonoutdoorenthusiasts.ca/event/outdoor-skating-3/
CATEGORIES:Easy
ORGANIZER;CN="Ginette Thibodeau":MAILTO:githi_2012@yahoo.ca
END:VEVENT
BEGIN:VEVENT
DTSTART;TZID=America/Moncton:20230129T100000
DTEND;TZID=America/Moncton:20230129T100000
DTSTAMP:20260425T074838
CREATED:20211215T113517Z
LAST-MODIFIED:20221214T003826Z
UID:10000289-1674986400-1674986400@monctonoutdoorenthusiasts.ca
SUMMARY:Snowshoe to Pink Rock
DESCRIPTION:Snowshoe to Pink Rock. Moderate\, 8 km. Meet at the Irving Station\, 64 Champlain St\, Dieppe at 10:00 am. Contact Paul at 506 588-3034
URL:https://monctonoutdoorenthusiasts.ca/event/pending-review-snowshoe-to-pink-rock/
CATEGORIES:Moderate
END:VEVENT
BEGIN:VEVENT
DTSTART;TZID=America/Moncton:20230127T190000
DTEND;TZID=America/Moncton:20230127T200000
DTSTAMP:20260425T074838
CREATED:20230124T133013Z
LAST-MODIFIED:20230426T115539Z
UID:10000468-1674846000-1674849600@monctonoutdoorenthusiasts.ca
SUMMARY:Outdoor skating
DESCRIPTION:Come and enjoy an evening of skating at the Ian Fowler Oval at the Avenir Centre (150 Canada Street) Moncton. Helmet optional but highly recommended. All levels welcome. Meet 6h45 at one of the benches around the ice. Ice time 7h-8h. Contact Ginette.
URL:https://monctonoutdoorenthusiasts.ca/event/outdoor-skating/
CATEGORIES:Easy
ORGANIZER;CN="Ginette Thibodeau":MAILTO:githi_2012@yahoo.ca
END:VEVENT
BEGIN:VEVENT
DTSTART;TZID=America/Moncton:20230125T131500
DTEND;TZID=America/Moncton:20230125T150000
DTSTAMP:20260425T074838
CREATED:20230125T150043Z
LAST-MODIFIED:20230125T150203Z
UID:10000472-1674652500-1674658800@monctonoutdoorenthusiasts.ca
SUMMARY:Snowshoeing Pineglen area
DESCRIPTION:Snowshoeing in the Pineglen area.  Meet at Dobson Trailhead parking lot in Riverview at 1:15 pm.   Moderate.                Ted (506)852-0976 \n 
URL:https://monctonoutdoorenthusiasts.ca/event/snowshoeing-pineglen-area/
CATEGORIES:Moderate
ORGANIZER;CN="Ted Harrison":MAILTO:tedalice27@yahoo.ca
END:VEVENT
BEGIN:VEVENT
DTSTART;TZID=America/Moncton:20230121T100000
DTEND;TZID=America/Moncton:20230121T170000
DTSTAMP:20260425T074838
CREATED:20211215T112637Z
LAST-MODIFIED:20230120T155917Z
UID:10000394-1674295200-1674320400@monctonoutdoorenthusiasts.ca
SUMMARY:Cancelled - Dobson Trail - Section of Levi Road to Smith Road
DESCRIPTION:Dobson Trail – Section of Levi Road to Smith Road – 6-8km moderate. Meet at the Riverview – Fox Field Parking Lot – 893 Hillsborough Rd\, Riverview\,\, at 10:00AM. Contact Ted at 506-852-0976
URL:https://monctonoutdoorenthusiasts.ca/event/pending-review-dobson-trail-section-of-levi-road-to-smith-road/
CATEGORIES:Moderate
ORGANIZER;CN="Ted Harrison":MAILTO:tedalice27@yahoo.ca
END:VEVENT
BEGIN:VEVENT
DTSTART;TZID=America/Moncton:20230119T180000
DTEND;TZID=America/Moncton:20230119T203000
DTSTAMP:20260425T074838
CREATED:20211215T141325Z
LAST-MODIFIED:20230118T151131Z
UID:10000297-1674151200-1674160200@monctonoutdoorenthusiasts.ca
SUMMARY:Thursday Night City Social Walks
DESCRIPTION:Thursday Night City Social Walks – Time: 6:00 p.m. Distance: 5-10 Km. Meet at Centennial Park\, main parking lot\, Centennial Park Road\, near play area   Leader: Julian 506-830-6463
URL:https://monctonoutdoorenthusiasts.ca/event/thursday-night-city-social-walks-16/
CATEGORIES:Easy-Moderate
ORGANIZER;CN="Julian Screawn":MAILTO:screawn@hotmail.com
END:VEVENT
BEGIN:VEVENT
DTSTART;TZID=America/Moncton:20230114T090000
DTEND;TZID=America/Moncton:20230114T143000
DTSTAMP:20260425T074838
CREATED:20221213T234655Z
LAST-MODIFIED:20230113T180136Z
UID:10000456-1673686800-1673706600@monctonoutdoorenthusiasts.ca
SUMMARY:Cancelled: Herring Cove\, Tippen Lot\, Golf Course
DESCRIPTION:Snowshoe from headquarters to Herring Cove then\, Tippen Lot to Point Wolfe Road\, then through golf course back to headquarters. Rated strenuous. meet at Fox Field Parking Lot – 893 Hillsborough Rd\, Riverview\, at 9:00am or at FNP headquarters at 11:00am.Call Paul @ 588-3034
URL:https://monctonoutdoorenthusiasts.ca/event/herring-cove-tippenlot-golf-course/
CATEGORIES:Strenuous
END:VEVENT
BEGIN:VEVENT
DTSTART;TZID=America/Moncton:20230111T130000
DTEND;TZID=America/Moncton:20230111T160000
DTSTAMP:20260425T074838
CREATED:20230110T233536Z
LAST-MODIFIED:20230110T233536Z
UID:10000467-1673442000-1673452800@monctonoutdoorenthusiasts.ca
SUMMARY:Aboujagane “Club Chasse et Pêche” trails hike
DESCRIPTION:Hike the trails at the “Club Chasse et Pêche” in Aboujagane.  Meeting place Irving at Champlain/Paul St. in Dieppe 1:00 pm.  Recommend bringing grippers.  If meeting at the club\, from Highway 15\, take exit 43 and turn right on Rte 933.  You will pass the Golf course and when you reach Aboujagane Rd.\, turn right.  The Club is on the left on this road.  Moderate.  Ted (506)852-0976
URL:https://monctonoutdoorenthusiasts.ca/event/aboujagane-club-chasse-et-peche-trails-hike/
CATEGORIES:Moderate
END:VEVENT
BEGIN:VEVENT
DTSTART;TZID=America/Moncton:20230107T090000
DTEND;TZID=America/Moncton:20230107T170000
DTSTAMP:20260425T074838
CREATED:20211215T112652Z
LAST-MODIFIED:20221214T002352Z
UID:10000395-1673082000-1673110800@monctonoutdoorenthusiasts.ca
SUMMARY:Adair’s Wilderness Lodge to Pigeon’s Sugar Camp
DESCRIPTION:Snowshoe from Adair’s Wilderness Lodge to Pigeon’s Sugar Camp & return. Moderate to Strenuous\, approx. 9 km. Meet at Centennial Park by Dog Park at 9:00 am or Adair’s Wilderness Lodge at 10:30 am. Contact Paul at 588-3034.
URL:https://monctonoutdoorenthusiasts.ca/event/pending-review-adairs-wilderness-lodge-to-pigeons-sugar-camp/
CATEGORIES:Moderate-Strenuous
END:VEVENT
END:VCALENDAR