BEGIN:VCALENDAR
VERSION:2.0
PRODID:-//Moncton Outdoor Enthusiasts - ECPv6.15.20//NONSGML v1.0//EN
CALSCALE:GREGORIAN
METHOD:PUBLISH
X-WR-CALNAME:Moncton Outdoor Enthusiasts
X-ORIGINAL-URL:https://monctonoutdoorenthusiasts.ca
X-WR-CALDESC:Events for Moncton Outdoor Enthusiasts
REFRESH-INTERVAL;VALUE=DURATION:PT1H
X-Robots-Tag:noindex
X-PUBLISHED-TTL:PT1H
BEGIN:VTIMEZONE
TZID:America/Moncton
BEGIN:DAYLIGHT
TZOFFSETFROM:-0400
TZOFFSETTO:-0300
TZNAME:ADT
DTSTART:20210314T060000
END:DAYLIGHT
BEGIN:STANDARD
TZOFFSETFROM:-0300
TZOFFSETTO:-0400
TZNAME:AST
DTSTART:20211107T050000
END:STANDARD
BEGIN:DAYLIGHT
TZOFFSETFROM:-0400
TZOFFSETTO:-0300
TZNAME:ADT
DTSTART:20220313T060000
END:DAYLIGHT
BEGIN:STANDARD
TZOFFSETFROM:-0300
TZOFFSETTO:-0400
TZNAME:AST
DTSTART:20221106T050000
END:STANDARD
BEGIN:DAYLIGHT
TZOFFSETFROM:-0400
TZOFFSETTO:-0300
TZNAME:ADT
DTSTART:20230312T060000
END:DAYLIGHT
BEGIN:STANDARD
TZOFFSETFROM:-0300
TZOFFSETTO:-0400
TZNAME:AST
DTSTART:20231105T050000
END:STANDARD
BEGIN:DAYLIGHT
TZOFFSETFROM:-0400
TZOFFSETTO:-0300
TZNAME:ADT
DTSTART:20240310T060000
END:DAYLIGHT
BEGIN:STANDARD
TZOFFSETFROM:-0300
TZOFFSETTO:-0400
TZNAME:AST
DTSTART:20241103T050000
END:STANDARD
END:VTIMEZONE
BEGIN:VEVENT
DTSTART;TZID=America/Moncton:20230125T131500
DTEND;TZID=America/Moncton:20230125T150000
DTSTAMP:20260425T114640
CREATED:20230125T150043Z
LAST-MODIFIED:20230125T150203Z
UID:10000472-1674652500-1674658800@monctonoutdoorenthusiasts.ca
SUMMARY:Snowshoeing Pineglen area
DESCRIPTION:Snowshoeing in the Pineglen area.  Meet at Dobson Trailhead parking lot in Riverview at 1:15 pm.   Moderate.                Ted (506)852-0976 \n 
URL:https://monctonoutdoorenthusiasts.ca/event/snowshoeing-pineglen-area/
CATEGORIES:Moderate
ORGANIZER;CN="Ted Harrison":MAILTO:tedalice27@yahoo.ca
END:VEVENT
BEGIN:VEVENT
DTSTART;TZID=America/Moncton:20230121T100000
DTEND;TZID=America/Moncton:20230121T170000
DTSTAMP:20260425T114640
CREATED:20211215T112637Z
LAST-MODIFIED:20230120T155917Z
UID:10000394-1674295200-1674320400@monctonoutdoorenthusiasts.ca
SUMMARY:Cancelled - Dobson Trail - Section of Levi Road to Smith Road
DESCRIPTION:Dobson Trail – Section of Levi Road to Smith Road – 6-8km moderate. Meet at the Riverview – Fox Field Parking Lot – 893 Hillsborough Rd\, Riverview\,\, at 10:00AM. Contact Ted at 506-852-0976
URL:https://monctonoutdoorenthusiasts.ca/event/pending-review-dobson-trail-section-of-levi-road-to-smith-road/
CATEGORIES:Moderate
ORGANIZER;CN="Ted Harrison":MAILTO:tedalice27@yahoo.ca
END:VEVENT
BEGIN:VEVENT
DTSTART;TZID=America/Moncton:20230119T180000
DTEND;TZID=America/Moncton:20230119T203000
DTSTAMP:20260425T114640
CREATED:20211215T141325Z
LAST-MODIFIED:20230118T151131Z
UID:10000297-1674151200-1674160200@monctonoutdoorenthusiasts.ca
SUMMARY:Thursday Night City Social Walks
DESCRIPTION:Thursday Night City Social Walks – Time: 6:00 p.m. Distance: 5-10 Km. Meet at Centennial Park\, main parking lot\, Centennial Park Road\, near play area   Leader: Julian 506-830-6463
URL:https://monctonoutdoorenthusiasts.ca/event/thursday-night-city-social-walks-16/
CATEGORIES:Easy-Moderate
ORGANIZER;CN="Julian Screawn":MAILTO:screawn@hotmail.com
END:VEVENT
BEGIN:VEVENT
DTSTART;TZID=America/Moncton:20230114T090000
DTEND;TZID=America/Moncton:20230114T143000
DTSTAMP:20260425T114640
CREATED:20221213T234655Z
LAST-MODIFIED:20230113T180136Z
UID:10000456-1673686800-1673706600@monctonoutdoorenthusiasts.ca
SUMMARY:Cancelled: Herring Cove\, Tippen Lot\, Golf Course
DESCRIPTION:Snowshoe from headquarters to Herring Cove then\, Tippen Lot to Point Wolfe Road\, then through golf course back to headquarters. Rated strenuous. meet at Fox Field Parking Lot – 893 Hillsborough Rd\, Riverview\, at 9:00am or at FNP headquarters at 11:00am.Call Paul @ 588-3034
URL:https://monctonoutdoorenthusiasts.ca/event/herring-cove-tippenlot-golf-course/
CATEGORIES:Strenuous
END:VEVENT
BEGIN:VEVENT
DTSTART;TZID=America/Moncton:20230111T130000
DTEND;TZID=America/Moncton:20230111T160000
DTSTAMP:20260425T114640
CREATED:20230110T233536Z
LAST-MODIFIED:20230110T233536Z
UID:10000467-1673442000-1673452800@monctonoutdoorenthusiasts.ca
SUMMARY:Aboujagane “Club Chasse et Pêche” trails hike
DESCRIPTION:Hike the trails at the “Club Chasse et Pêche” in Aboujagane.  Meeting place Irving at Champlain/Paul St. in Dieppe 1:00 pm.  Recommend bringing grippers.  If meeting at the club\, from Highway 15\, take exit 43 and turn right on Rte 933.  You will pass the Golf course and when you reach Aboujagane Rd.\, turn right.  The Club is on the left on this road.  Moderate.  Ted (506)852-0976
URL:https://monctonoutdoorenthusiasts.ca/event/aboujagane-club-chasse-et-peche-trails-hike/
CATEGORIES:Moderate
END:VEVENT
BEGIN:VEVENT
DTSTART;TZID=America/Moncton:20230107T090000
DTEND;TZID=America/Moncton:20230107T170000
DTSTAMP:20260425T114640
CREATED:20211215T112652Z
LAST-MODIFIED:20221214T002352Z
UID:10000395-1673082000-1673110800@monctonoutdoorenthusiasts.ca
SUMMARY:Adair’s Wilderness Lodge to Pigeon’s Sugar Camp
DESCRIPTION:Snowshoe from Adair’s Wilderness Lodge to Pigeon’s Sugar Camp & return. Moderate to Strenuous\, approx. 9 km. Meet at Centennial Park by Dog Park at 9:00 am or Adair’s Wilderness Lodge at 10:30 am. Contact Paul at 588-3034.
URL:https://monctonoutdoorenthusiasts.ca/event/pending-review-adairs-wilderness-lodge-to-pigeons-sugar-camp/
CATEGORIES:Moderate-Strenuous
END:VEVENT
BEGIN:VEVENT
DTSTART;TZID=America/Moncton:20221208T183000
DTEND;TZID=America/Moncton:20221208T203000
DTSTAMP:20260425T114640
CREATED:20211215T141347Z
LAST-MODIFIED:20221207T141849Z
UID:10000299-1670524200-1670531400@monctonoutdoorenthusiasts.ca
SUMMARY:Thursday Night City Social Walks
DESCRIPTION:Thursday Night City Social Walks – Time: 6:00 p.m. Distance: 5-10 Km.  Enjoy walking the streets and trails of Moncton\, Dieppe and Riverview with your fellow Enthusiasts.  Meeting place and route to be announced every week.  Leader: Julian 506-830-6463
URL:https://monctonoutdoorenthusiasts.ca/event/thursday-night-city-social-walks-17/
CATEGORIES:Easy-Moderate
END:VEVENT
BEGIN:VEVENT
DTSTART;TZID=America/Moncton:20221204T130000
DTEND;TZID=America/Moncton:20221204T170000
DTSTAMP:20260425T114640
CREATED:20220615T094009Z
LAST-MODIFIED:20220916T230534Z
UID:10000440-1670158800-1670173200@monctonoutdoorenthusiasts.ca
SUMMARY:Humphrey Brook plus Side Trail
DESCRIPTION:Hike the Humphrey Brook Trail from Mill Road to Harrisville & return. Includes a bonus side trail. Easy 9-10 km. Meet at corner of Mill Rd & Martin St at 1:00pm. Contact Marilyn 386-6579.
URL:https://monctonoutdoorenthusiasts.ca/event/pending-humphrey-brook/
CATEGORIES:Easy
ORGANIZER;CN="Marilyn Leblanc":MAILTO:ralph5@bellaliant.net
END:VEVENT
BEGIN:VEVENT
DTSTART;TZID=America/Moncton:20221202T080000
DTEND;TZID=America/Moncton:20221202T170000
DTSTAMP:20260425T114640
CREATED:20221130T214441Z
LAST-MODIFIED:20221130T214441Z
UID:10000453-1669968000-1670000400@monctonoutdoorenthusiasts.ca
SUMMARY:Hike in Hillsborough @ White Rocks
DESCRIPTION:Hike in Hillsborough \,Enjoy beautiful walking White Rock Recreational Area\,  then work our way back to our cars\, 7-8 km\, Easy.  Meet on First Entrance \, 11:00 am. Cheryl Mclvor will be leading the hike.
URL:https://monctonoutdoorenthusiasts.ca/event/hike-in-hillsborough-white-rocks/
CATEGORIES:Easy
END:VEVENT
BEGIN:VEVENT
DTSTART;TZID=America/Moncton:20221201T183000
DTEND;TZID=America/Moncton:20221201T183000
DTSTAMP:20260425T114640
CREATED:20220407T104412Z
LAST-MODIFIED:20221117T210802Z
UID:10000398-1669919400-1669919400@monctonoutdoorenthusiasts.ca
SUMMARY:Thursday Night City Social Walks
DESCRIPTION:Thursday Night City Social Walks – Time: 6:00 p.m. Distance: 5-10 Km.  Enjoy walking the streets and trails of Moncton\, Dieppe and Riverview with your fellow Enthusiasts.  Meeting place and route to be announced every week.  Leader: Julian 506-830-6463
URL:https://monctonoutdoorenthusiasts.ca/event/thursday-night-city-social-walks-23/
CATEGORIES:Easy-Moderate
ORGANIZER;CN="Julian Screawn":MAILTO:screawn@hotmail.com
END:VEVENT
BEGIN:VEVENT
DTSTART;TZID=America/Moncton:20221124T183000
DTEND;TZID=America/Moncton:20221124T183000
DTSTAMP:20260425T114640
CREATED:20220407T104246Z
LAST-MODIFIED:20221117T210644Z
UID:10000400-1669314600-1669314600@monctonoutdoorenthusiasts.ca
SUMMARY:Thursday Night City Social Walks
DESCRIPTION:Thursday Night City Social Walks – Time: 6:00 p.m. Distance: 5-10 Km.  Enjoy walking the streets and trails of Moncton\, Dieppe and Riverview with your fellow Enthusiasts.  Meeting place and route to be announced every week.  Leader: Julian 506-830-6463
URL:https://monctonoutdoorenthusiasts.ca/event/thursday-night-city-social-walks-22/
CATEGORIES:Easy-Moderate
ORGANIZER;CN="Julian Screawn":MAILTO:screawn@hotmail.com
END:VEVENT
BEGIN:VEVENT
DTSTART;VALUE=DATE:20221123
DTEND;VALUE=DATE:20221124
DTSTAMP:20260425T114640
CREATED:20221122T131850Z
LAST-MODIFIED:20221122T131850Z
UID:10000452-1669161600-1669247999@monctonoutdoorenthusiasts.ca
SUMMARY:Hike at the APASOA trail along Scoudouc River Shediac.
DESCRIPTION:At the APASOA trail along Scoudouc River Shediac. Meet at Irving Dieppe 9:30 Moderate about 9 km. Contact Ted 853-0976
URL:https://monctonoutdoorenthusiasts.ca/event/hike-at-the-apasoa-trail-along-scoudouc-river-shediac/
END:VEVENT
BEGIN:VEVENT
DTSTART;TZID=America/Moncton:20221117T183000
DTEND;TZID=America/Moncton:20221117T183000
DTSTAMP:20260425T114640
CREATED:20220407T104527Z
LAST-MODIFIED:20221117T210728Z
UID:10000427-1668709800-1668709800@monctonoutdoorenthusiasts.ca
SUMMARY:Thursday Night City Social Walks
DESCRIPTION:Thursday Night City Social Walks – Time: 6:00 p.m. Distance: 5-10 Km.  Enjoy walking the streets and trails of Moncton\, Dieppe and Riverview with your fellow Enthusiasts.  Meeting place and route to be announced every week.  Leader: Julian 506-830-6463
URL:https://monctonoutdoorenthusiasts.ca/event/thursday-night-city-social-walks-24/
CATEGORIES:Easy-Moderate
ORGANIZER;CN="Julian Screawn":MAILTO:screawn@hotmail.com
END:VEVENT
BEGIN:VEVENT
DTSTART;TZID=America/Moncton:20221111T080000
DTEND;TZID=America/Moncton:20221111T170000
DTSTAMP:20260425T114640
CREATED:20220916T230846Z
LAST-MODIFIED:20221110T133222Z
UID:10000351-1668153600-1668186000@monctonoutdoorenthusiasts.ca
SUMMARY:Third Vault Falls Trail in Fundy National Park
DESCRIPTION:Hike the Third Vault Falls Trail in Fundy National Park. Moderate 8 km. Meet at Foxfield (Baseball field) at 893 Hillsborough Road\, Riverview at 10:00 am or Park Headquarters at 11:15 am. Leader Paul.
URL:https://monctonoutdoorenthusiasts.ca/event/third-vault-falls-trail-in-fundy-national-park/
CATEGORIES:Moderate
END:VEVENT
BEGIN:VEVENT
DTSTART;TZID=America/Moncton:20221110T183000
DTEND;TZID=America/Moncton:20221110T183000
DTSTAMP:20260425T114640
CREATED:20220407T104625Z
LAST-MODIFIED:20220919T155909Z
UID:10000416-1668105000-1668105000@monctonoutdoorenthusiasts.ca
SUMMARY:Thursday Night City Social Walks
DESCRIPTION:Thursday Night City Social Walks – Time: 6:30 p.m. Distance: 5-10 Km.  Enjoy walking the streets and trails of Moncton\, Dieppe and Riverview with your fellow Enthusiasts.  Meeting place and route to be announced every week.  Leader: Julian 506-830-6463
URL:https://monctonoutdoorenthusiasts.ca/event/thursday-night-city-social-walks-25/
CATEGORIES:Easy-Moderate
ORGANIZER;CN="Julian Screawn":MAILTO:screawn@hotmail.com
END:VEVENT
BEGIN:VEVENT
DTSTART;TZID=America/Moncton:20221105T100000
DTEND;TZID=America/Moncton:20221105T170000
DTSTAMP:20260425T114640
CREATED:20220916T230740Z
LAST-MODIFIED:20220918T113847Z
UID:10000349-1667642400-1667667600@monctonoutdoorenthusiasts.ca
SUMMARY:Hike Maple Grove and Tippenlot in Fundy National Park
DESCRIPTION:Hike Maple Grove and Tippenlot in Fundy National Park. Strenuous – 10KM. Meet at the Petro Canada\, 506 Hillsborough Road\, Riverview\, at 10:00AM or park headquarters at 11:15 am. Contact Ralph at 386-6579.
URL:https://monctonoutdoorenthusiasts.ca/event/hike-white-tail-and-tippenlot-in-fundy-national-park/
CATEGORIES:Strenuous
ORGANIZER;CN="Ralph Leblanc":MAILTO:ralph5@bellaliant.net
END:VEVENT
BEGIN:VEVENT
DTSTART;TZID=America/Moncton:20221103T183000
DTEND;TZID=America/Moncton:20221103T183000
DTSTAMP:20260425T114640
CREATED:20220407T104738Z
LAST-MODIFIED:20220919T155838Z
UID:10000415-1667500200-1667500200@monctonoutdoorenthusiasts.ca
SUMMARY:Thursday Night City Social Walks
DESCRIPTION:Thursday Night City Social Walks – Time: 6:30 p.m. Distance: 5-10 Km.  Enjoy walking the streets and trails of Moncton\, Dieppe and Riverview with your fellow Enthusiasts.  Meeting place and route to be announced every week.  Leader: Julian 506-830-6463
URL:https://monctonoutdoorenthusiasts.ca/event/thursday-night-city-social-walks-26/
CATEGORIES:Easy-Moderate
ORGANIZER;CN="Julian Screawn":MAILTO:screawn@hotmail.com
END:VEVENT
BEGIN:VEVENT
DTSTART;TZID=America/Moncton:20221023T100000
DTEND;TZID=America/Moncton:20221023T170000
DTSTAMP:20260425T114640
CREATED:20220330T225201Z
LAST-MODIFIED:20221019T141301Z
UID:10000402-1666519200-1666544400@monctonoutdoorenthusiasts.ca
SUMMARY:Point Park and Mill Creek
DESCRIPTION:Walk the trail along the river in Riverview up to Mill Creek. Meeting time 10:00am at the Petro Canada parking lot in Riverview.
URL:https://monctonoutdoorenthusiasts.ca/event/point-park-and-mill-creek/
CATEGORIES:Easy
ORGANIZER;CN="Julian Screawn":MAILTO:screawn@hotmail.com
END:VEVENT
BEGIN:VEVENT
DTSTART;TZID=America/Moncton:20221022T090000
DTEND;TZID=America/Moncton:20221022T090000
DTSTAMP:20260425T114640
CREATED:20210928T100631Z
LAST-MODIFIED:20220916T230555Z
UID:10000251-1666429200-1666429200@monctonoutdoorenthusiasts.ca
SUMMARY:Parlee Brook Falls\, Friar’s Nose and Glebe Road
DESCRIPTION:Hike to the Parlee Brook Falls (location of Ice Wall) and Friar’s Nose\, off the Parlee Brook Rd. near Poley Mt. then drive 6km to Glebe Rd to hike to the falls at the location of Glebe Road Ice Wall. Strenuous\, 12 km. Meet at Centennial Park by Dog Park at 9: 00 am or Parlee Brook Falls Trailhead at 10:00am. Contact Kevin at  871-4457.
URL:https://monctonoutdoorenthusiasts.ca/event/parlee-brook-falls-and-friars-nose/
CATEGORIES:Strenuous
ORGANIZER;CN="Kevin Dunphy":MAILTO:dunpke@gmail.com
END:VEVENT
BEGIN:VEVENT
DTSTART;TZID=America/Moncton:20221020T180000
DTEND;TZID=America/Moncton:20221020T180000
DTSTAMP:20260425T114640
CREATED:20210929T103851Z
LAST-MODIFIED:20221019T185504Z
UID:10000364-1666288800-1666288800@monctonoutdoorenthusiasts.ca
SUMMARY:Social Bike Ride
DESCRIPTION:Social Bike Ride ~12km Meet at 5:30pm\, La Bikery 120 Assumption \nBlvd. Contact: Julian 830-6463.
URL:https://monctonoutdoorenthusiasts.ca/event/social-bike-ride/
LOCATION:La Bikery\, 120 Assumption Blvd.\, Moncton\, New Brunswick\, Canada
CATEGORIES:Moderate
ORGANIZER;CN="Julian Screawn":MAILTO:screawn@hotmail.com
END:VEVENT
BEGIN:VEVENT
DTSTART;TZID=America/Moncton:20221016T100000
DTEND;TZID=America/Moncton:20221016T170000
DTSTAMP:20260425T114640
CREATED:20220922T141428Z
LAST-MODIFIED:20221002T231930Z
UID:10000450-1665914400-1665939600@monctonoutdoorenthusiasts.ca
SUMMARY:Fall Bike Ride
DESCRIPTION:Enjoy the vibrant reds and golds of Autumn on your bicycle. We will ride to the Green Pig in Salisbury and back. We will take Coverdale Road to Salisbury\, and return via Salisbury road. Meet at the Riverview Superstore at 10:00am. Bring lunch or grab a pizza in Salisbury. Total distance is 44km. Pace will be moderate.  Contact Julian at 506-830-6463
URL:https://monctonoutdoorenthusiasts.ca/event/fall-bike-ride/
CATEGORIES:Moderate
ORGANIZER;CN="Julian Screawn":MAILTO:screawn@hotmail.com
END:VEVENT
BEGIN:VEVENT
DTSTART;TZID=America/Moncton:20221013T180000
DTEND;TZID=America/Moncton:20221013T180000
DTSTAMP:20260425T114640
CREATED:20210929T110441Z
LAST-MODIFIED:20220919T160806Z
UID:10000365-1665684000-1665684000@monctonoutdoorenthusiasts.ca
SUMMARY:Social Bike Ride
DESCRIPTION:Social Bike Ride ~12km Meet at 6:00pm\, La Bikery 120 Assumption \nBlvd. Contact: Julian 830-6463.
URL:https://monctonoutdoorenthusiasts.ca/event/social-bike-ride-2/
LOCATION:La Bikery\, 120 Assumption Blvd.\, Moncton\, New Brunswick\, Canada
CATEGORIES:Moderate
ORGANIZER;CN="Julian Screawn":MAILTO:screawn@hotmail.com
END:VEVENT
BEGIN:VEVENT
DTSTART;TZID=America/Moncton:20221009T130000
DTEND;TZID=America/Moncton:20221009T130000
DTSTAMP:20260425T114640
CREATED:20210929T102222Z
LAST-MODIFIED:20220916T230439Z
UID:10000361-1665320400-1665320400@monctonoutdoorenthusiasts.ca
SUMMARY:Humphrey Brook Trail from Mill Rd. to Harrisville Blvd
DESCRIPTION:Walk the Humphrey Brook Trail from Mill Rd. to Harrisville Blvd. and return. Easy\, 9 km.  Meet at the corner of Mill Rd and Martin St. at 10:00 am. Contact Elizabeth at 383-1853.
URL:https://monctonoutdoorenthusiasts.ca/event/humphrey-brook-trail-from-mill-rd-to-harrisville-blvd/
CATEGORIES:Easy
END:VEVENT
BEGIN:VEVENT
DTSTART;TZID=America/Moncton:20221001T100000
DTEND;TZID=America/Moncton:20221001T170000
DTSTAMP:20260425T114640
CREATED:20220916T230332Z
LAST-MODIFIED:20220929T234614Z
UID:10000345-1664618400-1664643600@monctonoutdoorenthusiasts.ca
SUMMARY:CANCELLED - Bouctouche Eco Trail from The Dunes to the Irving Arboretum
DESCRIPTION:Hike from the Bouctouche Eco Trail from Bouctouche Dunes to the Irving Arboretum in Bouctouche. 12 km Easy. Meet at Irving Gas Station 64 Champlain St. at 10 am. Or at parking lot opposite the Arboretum at 10:30 am. Contact Kevin at 871-4457.
URL:https://monctonoutdoorenthusiasts.ca/event/bouctouche-eco-trail-from-the-dunes-to-the-irving-arboretum/
CATEGORIES:Easy
ORGANIZER;CN="Kevin Dunphy":MAILTO:dunpke@gmail.com
END:VEVENT
BEGIN:VEVENT
DTSTART;TZID=America/Moncton:20220925T130000
DTEND;TZID=America/Moncton:20220925T170000
DTSTAMP:20260425T114640
CREATED:20220615T111508Z
LAST-MODIFIED:20220922T141801Z
UID:10000442-1664110800-1664125200@monctonoutdoorenthusiasts.ca
SUMMARY:CANCELLED - Sandhill Side Trail - Dobson Trail
DESCRIPTION:Sandhill Side Trail to Tower Rd and return. Easy-moderate 8km. Meet at Dobson Trailhead at 12:45pm or Sandhill access on Pine Glen Road at 1:00pm. Contact Marilyn 223-1251.
URL:https://monctonoutdoorenthusiasts.ca/event/sandhill-side-trail-dobson-trail/
CATEGORIES:Easy-Moderate
ORGANIZER;CN="Marilyn Leblanc":MAILTO:ralph5@bellaliant.net
END:VEVENT
BEGIN:VEVENT
DTSTART;TZID=America/Moncton:20220918T080000
DTEND;TZID=America/Moncton:20220918T170000
DTSTAMP:20260425T114640
CREATED:20220615T150849Z
LAST-MODIFIED:20220914T112523Z
UID:10000443-1663488000-1663520400@monctonoutdoorenthusiasts.ca
SUMMARY:Riverfront Trail
DESCRIPTION:Riverfront Trail from Irving in Dieppe to the Gunningsville Bridge and return. Meet at Irving Station at 10:00\, 64 Champlain St\, Dieppe.  Easy 8 km.  Contact Ralph at 386-6579
URL:https://monctonoutdoorenthusiasts.ca/event/riverfront-trail/
CATEGORIES:Easy
ORGANIZER;CN="Ralph Leblanc":MAILTO:ralph5@bellaliant.net
END:VEVENT
BEGIN:VEVENT
DTSTART;TZID=America/Moncton:20220917T083000
DTEND;TZID=America/Moncton:20220917T170000
DTSTAMP:20260425T114640
CREATED:20220830T152220Z
LAST-MODIFIED:20220830T152220Z
UID:10000340-1663403400-1663434000@monctonoutdoorenthusiasts.ca
SUMMARY:Devil’s Bend Trail and Escarpment Trail in Economy Falls area
DESCRIPTION:Hike the Devil’s Bend Trail and Escarpment Trail in Economy Falls area. Moderate to strenuous\, 13 km. Bring water shoes. Meet at the Irving Station\, 64 Champlain St\, Dieppe at 8:30 am or Amherst Centre Mall at 9:30 am. Contact Merlin at 902-667-8224.
URL:https://monctonoutdoorenthusiasts.ca/event/devils-bend-trail-and-escarpment-trail-in-economy-falls-area/
CATEGORIES:Moderate-Strenuous
END:VEVENT
BEGIN:VEVENT
DTSTART;TZID=America/Moncton:20220915T190000
DTEND;TZID=America/Moncton:20220915T210000
DTSTAMP:20260425T114640
CREATED:20220911T085536Z
LAST-MODIFIED:20231116T003029Z
UID:10000343-1663268400-1663275600@monctonoutdoorenthusiasts.ca
SUMMARY:Fall Scheduling Meeting
DESCRIPTION:Fall Scheduling Meeting \n\n\n\nTime:  7:00 pm Thursday\, September 15\, 2022 \n\n\n\nLocation: 80 Mount Pleasant Road\, Moncton\, (Please park on the road\, the lot is for residents only) \n\n\n\nThe Fall Scheduling Meeting will be held to prepare a schedule of events for October\, November and December 2022.  All members are encouraged to attend and participate.  This is a good opportunity for members to become involved in operation of the club.  Any member can offer to lead an event or suggest an event.  (An event normally refers to a hike but could include other types of outdoor activities including weekend trips.)  If you cannot attend and would like to submit an event or events please email me and provide any date constraints. \n\n\n\nIf you are not experienced leader and would like to lead events\, please contact me at phil-hardy@hotmail.com or 902-432-0050.
URL:https://monctonoutdoorenthusiasts.ca/event/fall-scheduling-meeting/
ORGANIZER;CN="Phil Hardy":MAILTO:phil-hardy@hotmail.com
END:VEVENT
BEGIN:VEVENT
DTSTART;TZID=America/Moncton:20220910T080000
DTEND;TZID=America/Moncton:20220910T170000
DTSTAMP:20260425T114640
CREATED:20220613T092846Z
LAST-MODIFIED:20220907T082302Z
UID:10000328-1662796800-1662829200@monctonoutdoorenthusiasts.ca
SUMMARY:Foster Brook trail in Fundy National Park
DESCRIPTION:Foster Brook trail in Fundy National Park\, followed by the Shiphaven & Point Wolfe Beach Trails. One strenuous hill\, one river crossing. Water shoes recommended. Moderate to strenuous 10km. Meet at the Petro Canada\, 506 Hillsborough Rd\, Riverview for departure at 10am or Park Headquarters at 11:15 am.  Contact Phil at 902-432-0050‬.
URL:https://monctonoutdoorenthusiasts.ca/event/draft-foster-brook-trail-in-fundy-national-park/
CATEGORIES:Moderate-Strenuous
END:VEVENT
BEGIN:VEVENT
DTSTART;TZID=America/Moncton:20220904T130000
DTEND;TZID=America/Moncton:20220904T170000
DTSTAMP:20260425T114640
CREATED:20220901T143954Z
LAST-MODIFIED:20220901T143954Z
UID:10000341-1662296400-1662310800@monctonoutdoorenthusiasts.ca
SUMMARY:Irishtown Park Walk and Magnetic Hill Winery Visit
DESCRIPTION:Hike for this Sunday the 4th of September. Hike in Irishtown park with a visit to the gorgeous Magnetic Hill winery after. Hike about 6 kms. then off to the winery. If you have not been to the winery it is absolutely gorgeous (3 tiered patio) and the wine is delicious. They have charcuterie boards for sale and the views are really impressive.. This winery is where one of our members (Brian Coyle) has constructed many of the fine wooden structures that adorn this property. Hike rated easy. Meet time at 1:00 at Irishtown Park parking lot. Call Paul @ 588-3034
URL:https://monctonoutdoorenthusiasts.ca/event/irishtown-park-walk-and-magnetic-hill-winery-visit/
CATEGORIES:Easy
END:VEVENT
END:VCALENDAR