BEGIN:VCALENDAR
VERSION:2.0
PRODID:-//Moncton Outdoor Enthusiasts - ECPv6.15.20//NONSGML v1.0//EN
CALSCALE:GREGORIAN
METHOD:PUBLISH
X-WR-CALNAME:Moncton Outdoor Enthusiasts
X-ORIGINAL-URL:https://monctonoutdoorenthusiasts.ca
X-WR-CALDESC:Events for Moncton Outdoor Enthusiasts
REFRESH-INTERVAL;VALUE=DURATION:PT1H
X-Robots-Tag:noindex
X-PUBLISHED-TTL:PT1H
BEGIN:VTIMEZONE
TZID:America/Moncton
BEGIN:DAYLIGHT
TZOFFSETFROM:-0400
TZOFFSETTO:-0300
TZNAME:ADT
DTSTART:20220313T060000
END:DAYLIGHT
BEGIN:STANDARD
TZOFFSETFROM:-0300
TZOFFSETTO:-0400
TZNAME:AST
DTSTART:20221106T050000
END:STANDARD
BEGIN:DAYLIGHT
TZOFFSETFROM:-0400
TZOFFSETTO:-0300
TZNAME:ADT
DTSTART:20230312T060000
END:DAYLIGHT
BEGIN:STANDARD
TZOFFSETFROM:-0300
TZOFFSETTO:-0400
TZNAME:AST
DTSTART:20231105T050000
END:STANDARD
BEGIN:DAYLIGHT
TZOFFSETFROM:-0400
TZOFFSETTO:-0300
TZNAME:ADT
DTSTART:20240310T060000
END:DAYLIGHT
BEGIN:STANDARD
TZOFFSETFROM:-0300
TZOFFSETTO:-0400
TZNAME:AST
DTSTART:20241103T050000
END:STANDARD
BEGIN:DAYLIGHT
TZOFFSETFROM:-0400
TZOFFSETTO:-0300
TZNAME:ADT
DTSTART:20250309T060000
END:DAYLIGHT
BEGIN:STANDARD
TZOFFSETFROM:-0300
TZOFFSETTO:-0400
TZNAME:AST
DTSTART:20251102T050000
END:STANDARD
END:VTIMEZONE
BEGIN:VEVENT
DTSTART;TZID=America/Moncton:20240310T130000
DTEND;TZID=America/Moncton:20240310T170000
DTSTAMP:20260422T214002
CREATED:20211215T112703Z
LAST-MODIFIED:20240221T233737Z
UID:10000397-1710075600-1710090000@monctonoutdoorenthusiasts.ca
SUMMARY:Irishtown Nature Park
DESCRIPTION:Hike Irishtown Nature Park. Easy. Meet in main parking lot of Irishtown Park at 1pm Contact Elizabeth at 383-1853.
URL:https://monctonoutdoorenthusiasts.ca/event/pending-review-irishtown-nature-park-and-tankville/
CATEGORIES:Easy
END:VEVENT
BEGIN:VEVENT
DTSTART;TZID=America/Moncton:20240309T100000
DTEND;TZID=America/Moncton:20240309T150000
DTSTAMP:20260422T214002
CREATED:20230307T001132Z
LAST-MODIFIED:20240308T222815Z
UID:10000490-1709978400-1709996400@monctonoutdoorenthusiasts.ca
SUMMARY:Hike in the Sackville area
DESCRIPTION:Hike in Westcock (near Sackville).  Will start at St. Ann’s Anglican Church (all heathens still welcome). It will be rated as moderate\, around 10 to 12 kms max. There will be a bit of road hiking\, cemetery hiking\, dyke hiking\, forest hiking and gravel pit lookout hiking. Lunch on rocks situated on the Cumberland Basin. Meet time at 10:00 am at the Irving Station\, 64 Champlain St\, Dieppe with a secondary meeting place at MacDonalds in Sackville right off the highway at between 10:30 am and 10:45 am. \nTed 506-852-0976 \n 
URL:https://monctonoutdoorenthusiasts.ca/event/snowshoeing-tomorrow-march-7-2023-shenstone-area/
CATEGORIES:Moderate
ORGANIZER;CN="Ted Harrison":MAILTO:tedalice27@yahoo.ca
END:VEVENT
BEGIN:VEVENT
DTSTART;TZID=America/Moncton:20240307T180000
DTEND;TZID=America/Moncton:20240307T193000
DTSTAMP:20260422T214002
CREATED:20220407T104838Z
LAST-MODIFIED:20241021T125517Z
UID:10000554-1709834400-1709839800@monctonoutdoorenthusiasts.ca
SUMMARY:Thursday Night City Social Walks
DESCRIPTION:Thursday Night City Social Walks will restart again on Halloween night – Time: 6:30 p.m. Distance: 5-10 Km. Meeting place\, Dairy Queen\, 264 Coverdale Rd\, Riverview.
URL:https://monctonoutdoorenthusiasts.ca/event/thursday-night-city-social-walks-27/2024-03-07/
CATEGORIES:Easy-Moderate
ORGANIZER;CN="Julian Screawn":MAILTO:screawn@hotmail.com
END:VEVENT
BEGIN:VEVENT
DTSTART;TZID=America/Moncton:20240302T100000
DTEND;TZID=America/Moncton:20240302T150000
DTSTAMP:20260422T214002
CREATED:20230416T102321Z
LAST-MODIFIED:20231116T011513Z
UID:10000502-1709373600-1709391600@monctonoutdoorenthusiasts.ca
SUMMARY:Hike Memramcook/Gaytons area
DESCRIPTION:We will start at the Bridge on La Vallee and hike to Gaytons.  Park across from the Dupuis Funeral Home. \n11 Km Moderate.  Meet at 10:00 am at the Dieppe Irving Champlain/Paul streets.  Bring water and lunch. \nTed (506)852-0976
URL:https://monctonoutdoorenthusiasts.ca/event/hike-memramcook-gaytons-area/
ORGANIZER;CN="Ted Harrison":MAILTO:tedalice27@yahoo.ca
END:VEVENT
BEGIN:VEVENT
DTSTART;TZID=America/Moncton:20240229T180000
DTEND;TZID=America/Moncton:20240229T193000
DTSTAMP:20260422T214002
CREATED:20220407T104838Z
LAST-MODIFIED:20241021T125517Z
UID:10000553-1709229600-1709235000@monctonoutdoorenthusiasts.ca
SUMMARY:Thursday Night City Social Walks
DESCRIPTION:Thursday Night City Social Walks will restart again on Halloween night – Time: 6:30 p.m. Distance: 5-10 Km. Meeting place\, Dairy Queen\, 264 Coverdale Rd\, Riverview.
URL:https://monctonoutdoorenthusiasts.ca/event/thursday-night-city-social-walks-27/2024-02-29/
CATEGORIES:Easy-Moderate
ORGANIZER;CN="Julian Screawn":MAILTO:screawn@hotmail.com
END:VEVENT
BEGIN:VEVENT
DTSTART;VALUE=DATE:20240229
DTEND;VALUE=DATE:20240301
DTSTAMP:20260422T214002
CREATED:20240227T192940Z
LAST-MODIFIED:20240227T192940Z
UID:10000597-1709164800-1709251199@monctonoutdoorenthusiasts.ca
SUMMARY:Thursday night social walk Leap Year! Feb 29th
DESCRIPTION:Thursday night social walk.\nMeet at 6:30pm at YMCA Twin Oaks.\nWe’ll do the Northwest Trail and some street walking 6.5km 1.5H.\nGrippers might be useful. Headlamps required ! \nWhy do Solange want to lead Feb 29th hike ?\nBecause she wanted to make sure it didnt “leap” behind
URL:https://monctonoutdoorenthusiasts.ca/event/thursday-night-social-walk-leap-year-feb-29th/
END:VEVENT
BEGIN:VEVENT
DTSTART;TZID=America/Moncton:20240225T123000
DTEND;TZID=America/Moncton:20240225T190000
DTSTAMP:20260422T214002
CREATED:20231116T011310Z
LAST-MODIFIED:20240222T161106Z
UID:10000575-1708864200-1708887600@monctonoutdoorenthusiasts.ca
SUMMARY:Sentier Pluriel
DESCRIPTION:Hike on the Sentiers Pluriel in Grande-Digue for 2-3 hours. After our hike\, all are cordially invited chez Bob and Maureen for a baked beans and brown bread supper. The trail has some icy areas so ice grippers are strongly recommended. Meet at 12:30PM at the Irving at 64 Champlain St.\, Dieppe or at 1:00PM at 43 Grande-Digue Road\, Grande-Digue. Please carpool as the lot is not large. Maureen will meet the group in Grande-Digue. There will be a one day post full moon moonrise at 7:13 pm that evening. Anyone who wants to stay later to enjoy a beautiful moonrise over the water is welcome to stay on for that.
URL:https://monctonoutdoorenthusiasts.ca/event/sentier-pluriel/
END:VEVENT
BEGIN:VEVENT
DTSTART;TZID=America/Moncton:20240224T083000
DTEND;TZID=America/Moncton:20240224T163000
DTSTAMP:20260422T214002
CREATED:20240221T153437Z
LAST-MODIFIED:20240222T142431Z
UID:10000586-1708763400-1708792200@monctonoutdoorenthusiasts.ca
SUMMARY:Midland Ice Caves and Sussex Bluffs
DESCRIPTION:February 24 2024 – \nTwo Hikes … Choose ONE… or Chose BOTH… \n\nMIDLAND ICE CAVES.  Hike to the fascinating Midland Ice Caves near Norton\, NB.   Moderate hike – approximately 5km – 2 hours.   Ice Grippers/Crampons/Cleats are a MUST.      9:00AM… Meet at Centennial Park – Dog Park lot – 61 Rotary Lodge Ln\, Moncton\, NB.  Second meeting location – Norton One Stop – 19 Route 124\, Norton\, NB (Exit 175)\nSUSSEX BLUFFS.\n\nEasy hike – approximately 5km – 2 hours. Hike to the first two bluffs…. A spectacular view over the rolling hills of Dutch Valley.  Ice Grippers/Crampons/Cleats are a recommended. \nFor participants only doing Sussex Bluffs\, meet time is 12:00NOON – at Centennial Park – Dog Park lot – 61 Rotary Lodge Ln\, Moncton\, NB for ride sharing or at 1:00PM at Parking Lot at end of Sullivan Drive\, Sussex. \nNew hikers or any one requiring further information\, please contact Brian at (506) 377-8436. \n 
URL:https://monctonoutdoorenthusiasts.ca/event/midland-ice-caves-and-sussex-bluffs/
CATEGORIES:Easy,Easy-Moderate
END:VEVENT
BEGIN:VEVENT
DTSTART;TZID=America/Moncton:20240222T180000
DTEND;TZID=America/Moncton:20240222T193000
DTSTAMP:20260422T214002
CREATED:20220407T104838Z
LAST-MODIFIED:20241021T125517Z
UID:10000552-1708624800-1708630200@monctonoutdoorenthusiasts.ca
SUMMARY:Thursday Night City Social Walks
DESCRIPTION:Thursday Night City Social Walks will restart again on Halloween night – Time: 6:30 p.m. Distance: 5-10 Km. Meeting place\, Dairy Queen\, 264 Coverdale Rd\, Riverview.
URL:https://monctonoutdoorenthusiasts.ca/event/thursday-night-city-social-walks-27/2024-02-22/
CATEGORIES:Easy-Moderate
ORGANIZER;CN="Julian Screawn":MAILTO:screawn@hotmail.com
END:VEVENT
BEGIN:VEVENT
DTSTART;TZID=America/Moncton:20240217T100000
DTEND;TZID=America/Moncton:20240217T170000
DTSTAMP:20260422T214002
CREATED:20211211T111726Z
LAST-MODIFIED:20231116T010214Z
UID:10000387-1708164000-1708189200@monctonoutdoorenthusiasts.ca
SUMMARY:Parlee Brook Amphitheatre and Friar’s Nose
DESCRIPTION:Hike to the Parlee Brook Falls (location of Ice Wall) and Friar’s Nose\, off the Parlee Brook Rd. near Poley Mt. Strenuous\, 8 km. Bring snowshoes and ice grippers.  Meet at Centennial Park by Dog Park at 10:00am or Parlee Brook Rd at 11:00am. Contact Kevin at  506-871-4457.
URL:https://monctonoutdoorenthusiasts.ca/event/pending-review-parlee-brook-falls-location-of-ice-wall-and-friars-nose/
CATEGORIES:Moderate-Strenuous
ORGANIZER;CN="Kevin Dunphy":MAILTO:dunpke@gmail.com
END:VEVENT
BEGIN:VEVENT
DTSTART;TZID=America/Moncton:20240215T180000
DTEND;TZID=America/Moncton:20240215T193000
DTSTAMP:20260422T214002
CREATED:20220407T104838Z
LAST-MODIFIED:20241021T125517Z
UID:10000551-1708020000-1708025400@monctonoutdoorenthusiasts.ca
SUMMARY:Thursday Night City Social Walks
DESCRIPTION:Thursday Night City Social Walks will restart again on Halloween night – Time: 6:30 p.m. Distance: 5-10 Km. Meeting place\, Dairy Queen\, 264 Coverdale Rd\, Riverview.
URL:https://monctonoutdoorenthusiasts.ca/event/thursday-night-city-social-walks-27/2024-02-15/
CATEGORIES:Easy-Moderate
ORGANIZER;CN="Julian Screawn":MAILTO:screawn@hotmail.com
END:VEVENT
BEGIN:VEVENT
DTSTART;TZID=America/Moncton:20240210T100000
DTEND;TZID=America/Moncton:20240210T163000
DTSTAMP:20260422T214002
CREATED:20240207T224836Z
LAST-MODIFIED:20240207T224836Z
UID:10000581-1707559200-1707582600@monctonoutdoorenthusiasts.ca
SUMMARY:XC Skiing Beaver Ski Club or Kouchibouguac National Park
DESCRIPTION:Saturday\, February 10 2024 X-C Skiing – Beaver Ski Club or Kouchibouguac.\nRated as Moderate\n☆☆☆The location will depend on the trail conditions.☆☆☆\nIf people want to rent XC skis\, then we’ll go to Kouchibouguac.\nWear layers.  Bring sunglasses\, water\, a snack or light lunch.  Have your Wheaties before leaving home. \nMeet at the Dieppe Irving\, 64 Champlain Blvd for departure at 10:00AM. \nContact Jocelyne at 506-850-9894 for additional details.
URL:https://monctonoutdoorenthusiasts.ca/event/xc-skiing-beaver-ski-club-or-kouchibouguac-national-park/
CATEGORIES:Moderate
ORGANIZER;CN="Jocelyne Quann":MAILTO:jmjquann@outlook.com
END:VEVENT
BEGIN:VEVENT
DTSTART;TZID=America/Moncton:20240210T080000
DTEND;TZID=America/Moncton:20240210T170000
DTSTAMP:20260422T214002
CREATED:20231116T005709Z
LAST-MODIFIED:20240209T130407Z
UID:10000574-1707552000-1707584400@monctonoutdoorenthusiasts.ca
SUMMARY:Sackville - Waterfowl Park and Urban Walk
DESCRIPTION:Join Paul and local historians as we trek the circumference of the Sackville Waterfowl Park including a tangent tangle with urban Sackville to sample the majestic architecture of old and new.   Possible siting of Gina’s old place.  Extra special siting opportunity of our lifer – Merlin.  Should be a easy/moderate pace with a length of 10km. Bring your grippers/crampons.  Meet at Irving\, 64 Champlain Blvd\, Dieppe at 10:00AM or Sackville MacDonalds’s parking lot\, 222 Main St\, Sackville\, at 10:30AM.  New hikers or anyone requiring additional information\, better call Paul @ 506-381-0397
URL:https://monctonoutdoorenthusiasts.ca/event/cape-maringouin/
END:VEVENT
BEGIN:VEVENT
DTSTART;TZID=America/Moncton:20240208T180000
DTEND;TZID=America/Moncton:20240208T193000
DTSTAMP:20260422T214002
CREATED:20220407T104838Z
LAST-MODIFIED:20241021T125517Z
UID:10000550-1707415200-1707420600@monctonoutdoorenthusiasts.ca
SUMMARY:Thursday Night City Social Walks
DESCRIPTION:Thursday Night City Social Walks will restart again on Halloween night – Time: 6:30 p.m. Distance: 5-10 Km. Meeting place\, Dairy Queen\, 264 Coverdale Rd\, Riverview.
URL:https://monctonoutdoorenthusiasts.ca/event/thursday-night-city-social-walks-27/2024-02-08/
CATEGORIES:Easy-Moderate
ORGANIZER;CN="Julian Screawn":MAILTO:screawn@hotmail.com
END:VEVENT
BEGIN:VEVENT
DTSTART;TZID=America/Moncton:20240208T130000
DTEND;TZID=America/Moncton:20240208T153000
DTSTAMP:20260422T214002
CREATED:20240208T132356Z
LAST-MODIFIED:20240208T132356Z
UID:10000582-1707397200-1707406200@monctonoutdoorenthusiasts.ca
SUMMARY:Snowshoeing Levi Road area
DESCRIPTION:Meet at 2nd parking lot of the Dobson Trail Head (633 Pine Glen Rd.\, Riverview) at 1:00pm
URL:https://monctonoutdoorenthusiasts.ca/event/snowshoeing-levi-road-area/
CATEGORIES:Moderate
ORGANIZER;CN="Ted Harrison":MAILTO:tedalice27@yahoo.ca
END:VEVENT
BEGIN:VEVENT
DTSTART;TZID=America/Moncton:20240204T100000
DTEND;TZID=America/Moncton:20240204T170000
DTSTAMP:20260422T214002
CREATED:20211215T112619Z
LAST-MODIFIED:20231116T005408Z
UID:10000393-1707040800-1707066000@monctonoutdoorenthusiasts.ca
SUMMARY:Crowley Farm Rd. Trail
DESCRIPTION:Hike the Crowley Farm Rd. Trail. 2 hours Moderate. Meet on the Crowley Farm Rd. at 10:00am. Contact Marilyn at 233-1251.
URL:https://monctonoutdoorenthusiasts.ca/event/pending-review-crowley-farm-rd-trail/
CATEGORIES:Moderate
ORGANIZER;CN="Marilyn Leblanc":MAILTO:ralph5@bellaliant.net
END:VEVENT
BEGIN:VEVENT
DTSTART;TZID=America/Moncton:20240201T180000
DTEND;TZID=America/Moncton:20240201T193000
DTSTAMP:20260422T214002
CREATED:20220407T104838Z
LAST-MODIFIED:20241021T125517Z
UID:10000549-1706810400-1706815800@monctonoutdoorenthusiasts.ca
SUMMARY:Thursday Night City Social Walks
DESCRIPTION:Thursday Night City Social Walks will restart again on Halloween night – Time: 6:30 p.m. Distance: 5-10 Km. Meeting place\, Dairy Queen\, 264 Coverdale Rd\, Riverview.
URL:https://monctonoutdoorenthusiasts.ca/event/thursday-night-city-social-walks-27/2024-02-01/
CATEGORIES:Easy-Moderate
ORGANIZER;CN="Julian Screawn":MAILTO:screawn@hotmail.com
END:VEVENT
BEGIN:VEVENT
DTSTART;TZID=America/Moncton:20240127T093000
DTEND;TZID=America/Moncton:20240127T143000
DTSTAMP:20260422T214002
CREATED:20230823T123110Z
LAST-MODIFIED:20231116T004904Z
UID:10000524-1706347800-1706365800@monctonoutdoorenthusiasts.ca
SUMMARY:Hike or Snowshoe in Kouchibouguac National Park
DESCRIPTION:Hike in Kouchibouguac National Park.  Meet at the Irving Station\, Champlain/Paul St\, Dieppe at 9:30am or 10:30am at KNP Headquarters. Contact Ted at (506)852-0976. \nEasy / maybe a swim
URL:https://monctonoutdoorenthusiasts.ca/event/9875/
CATEGORIES:Easy-Moderate
ORGANIZER;CN="Ted Harrison":MAILTO:tedalice27@yahoo.ca
END:VEVENT
BEGIN:VEVENT
DTSTART;TZID=America/Moncton:20240125T180000
DTEND;TZID=America/Moncton:20240125T193000
DTSTAMP:20260422T214002
CREATED:20220407T104838Z
LAST-MODIFIED:20241021T125517Z
UID:10000548-1706205600-1706211000@monctonoutdoorenthusiasts.ca
SUMMARY:Thursday Night City Social Walks
DESCRIPTION:Thursday Night City Social Walks will restart again on Halloween night – Time: 6:30 p.m. Distance: 5-10 Km. Meeting place\, Dairy Queen\, 264 Coverdale Rd\, Riverview.
URL:https://monctonoutdoorenthusiasts.ca/event/thursday-night-city-social-walks-27/2024-01-25/
CATEGORIES:Easy-Moderate
ORGANIZER;CN="Julian Screawn":MAILTO:screawn@hotmail.com
END:VEVENT
BEGIN:VEVENT
DTSTART;TZID=America/Moncton:20240120T100000
DTEND;TZID=America/Moncton:20240120T170000
DTSTAMP:20260422T214002
CREATED:20211215T112552Z
LAST-MODIFIED:20231116T004228Z
UID:10000391-1705744800-1705770000@monctonoutdoorenthusiasts.ca
SUMMARY:Hike/Snowshoe the Black Horse Trail in Fundy National Park
DESCRIPTION:Hike/Snowshoe the Black Horse Trail in Fundy National Park. Moderate plus\, 8-9 km. Meet at Foxfield\, 893 Hillsborough Rd\, Riverview at 10:00 am or Park Headquarters at 11:00 am. Contact Ralph at 386-6579.
URL:https://monctonoutdoorenthusiasts.ca/event/pending-review-snowshoe-the-black-horse-trail-in-fundy-national-park/
CATEGORIES:Moderate
ORGANIZER;CN="Ralph Leblanc":MAILTO:ralph5@bellaliant.net
END:VEVENT
BEGIN:VEVENT
DTSTART;TZID=America/Moncton:20240118T180000
DTEND;TZID=America/Moncton:20240118T193000
DTSTAMP:20260422T214002
CREATED:20220407T104838Z
LAST-MODIFIED:20241021T125517Z
UID:10000547-1705600800-1705606200@monctonoutdoorenthusiasts.ca
SUMMARY:Thursday Night City Social Walks
DESCRIPTION:Thursday Night City Social Walks will restart again on Halloween night – Time: 6:30 p.m. Distance: 5-10 Km. Meeting place\, Dairy Queen\, 264 Coverdale Rd\, Riverview.
URL:https://monctonoutdoorenthusiasts.ca/event/thursday-night-city-social-walks-27/2024-01-18/
CATEGORIES:Easy-Moderate
ORGANIZER;CN="Julian Screawn":MAILTO:screawn@hotmail.com
END:VEVENT
BEGIN:VEVENT
DTSTART;TZID=America/Moncton:20240117T130000
DTEND;TZID=America/Moncton:20240117T153000
DTSTAMP:20260422T214002
CREATED:20240117T130346Z
LAST-MODIFIED:20240117T130346Z
UID:10000580-1705496400-1705505400@monctonoutdoorenthusiasts.ca
SUMMARY:Hike in the Cocagne Area
DESCRIPTION:Hike in Cocagne area.  7-8 km Easy/moderate.  Meet at Irving Champlain/Paul St.\, at 1:00 pm  (Ted 506-852-0976) If you wish to go directly in Cocagne (please call Ted)\, we will  meet at the parking lot at the end of exit 15 ramp. Grippers are recommended.
URL:https://monctonoutdoorenthusiasts.ca/event/hike-in-the-cocagne-area/
CATEGORIES:Easy-Moderate
ORGANIZER;CN="Ted Harrison":MAILTO:tedalice27@yahoo.ca
END:VEVENT
BEGIN:VEVENT
DTSTART;TZID=America/Moncton:20240113T080000
DTEND;TZID=America/Moncton:20240113T170000
DTSTAMP:20260422T214002
CREATED:20231116T003618Z
LAST-MODIFIED:20240109T122338Z
UID:10000573-1705132800-1705165200@monctonoutdoorenthusiasts.ca
SUMMARY:Kent Hills - to Beaverbrook Cabin
DESCRIPTION:Hike or snowshoe in Kent Hills with Gale.   Hike from Prosser Ridge Road to Beaverbrook Cabin for lunch and a panoramic vista to observe the beauty of one of the most photographed remote locations on the Dobson Trail.   Hike is rated as Moderate to Strenuous (Hills)\, 8km.  Meet at 2nd Dobson Trail Parking lot\, 633 Pine Glen Rd\, Pine Glen\, NB at 10:00AM\,  or at trailhead\, 265 Prosser Brook Rd\, Parkindale\, NB at 10:30AM.  Grippers are highly recommended.  Make sure you pack your snowshoes.  Please contact Gale at 506-874-3177 for additional details. \n 
URL:https://monctonoutdoorenthusiasts.ca/event/kent-hills/
CATEGORIES:Moderate-Strenuous
END:VEVENT
BEGIN:VEVENT
DTSTART;TZID=America/Moncton:20240111T180000
DTEND;TZID=America/Moncton:20240111T193000
DTSTAMP:20260422T214002
CREATED:20220407T104838Z
LAST-MODIFIED:20241021T125517Z
UID:10000546-1704996000-1705001400@monctonoutdoorenthusiasts.ca
SUMMARY:Thursday Night City Social Walks
DESCRIPTION:Thursday Night City Social Walks will restart again on Halloween night – Time: 6:30 p.m. Distance: 5-10 Km. Meeting place\, Dairy Queen\, 264 Coverdale Rd\, Riverview.
URL:https://monctonoutdoorenthusiasts.ca/event/thursday-night-city-social-walks-27/2024-01-11/
CATEGORIES:Easy-Moderate
ORGANIZER;CN="Julian Screawn":MAILTO:screawn@hotmail.com
END:VEVENT
BEGIN:VEVENT
DTSTART;TZID=America/Moncton:20240106T100000
DTEND;TZID=America/Moncton:20240106T100000
DTSTAMP:20260422T214002
CREATED:20220521T084412Z
LAST-MODIFIED:20240103T232700Z
UID:10000326-1704535200-1704535200@monctonoutdoorenthusiasts.ca
SUMMARY:White Rock in Hillsborough
DESCRIPTION:Join Brian for a historical hike through the White Rock area\, formerly an extensive Gypsum mining site from the mid-1800s to the mid-1900s.  Travel some of the miner’s trails and see the reminiscence of their work.  Planned hike length of 8km with a further option of 2km for those who would like to go further.  Hike is rated as moderate. Meet at Fox Field (Baseball field) at 893 Hillsborough Road\, Riverview\, NB. for departure at 10:00AM or at the White Rock Recreational Park 297 Taylor Lane\, Hillsborough\, NB at 10:30AM.   Ice Grippers/Crampons are encouraged and highly recommended.  Dress warmly.  Contact Brian at 506-377-8486 for any additional details.
URL:https://monctonoutdoorenthusiasts.ca/event/white-rock-in-hillsborough/
CATEGORIES:Moderate
END:VEVENT
BEGIN:VEVENT
DTSTART;TZID=America/Moncton:20240104T180000
DTEND;TZID=America/Moncton:20240104T193000
DTSTAMP:20260422T214002
CREATED:20220407T104838Z
LAST-MODIFIED:20241021T125517Z
UID:10000545-1704391200-1704396600@monctonoutdoorenthusiasts.ca
SUMMARY:Thursday Night City Social Walks
DESCRIPTION:Thursday Night City Social Walks will restart again on Halloween night – Time: 6:30 p.m. Distance: 5-10 Km. Meeting place\, Dairy Queen\, 264 Coverdale Rd\, Riverview.
URL:https://monctonoutdoorenthusiasts.ca/event/thursday-night-city-social-walks-27/2024-01-04/
CATEGORIES:Easy-Moderate
ORGANIZER;CN="Julian Screawn":MAILTO:screawn@hotmail.com
END:VEVENT
BEGIN:VEVENT
DTSTART;TZID=America/Moncton:20231231T100000
DTEND;TZID=America/Moncton:20231231T140000
DTSTAMP:20260422T214002
CREATED:20230812T173131Z
LAST-MODIFIED:20231228T113001Z
UID:10000523-1704016800-1704031200@monctonoutdoorenthusiasts.ca
SUMMARY:Hike Berryton/Prosser Ridge section of Dobson Trail
DESCRIPTION:Hike Berryton/Prosser Ridge section of Dobson Trail.   Meet at Dobson Trailhead (second parking lot) at 10:00am or Smith Rd. parking lot at 10:30am. \nModerate \nTed (506)852-0976
URL:https://monctonoutdoorenthusiasts.ca/event/hike-in-stoney-creek-area/
CATEGORIES:Moderate
ORGANIZER;CN="Ted Harrison":MAILTO:tedalice27@yahoo.ca
END:VEVENT
BEGIN:VEVENT
DTSTART;TZID=America/Moncton:20231230T080000
DTEND;TZID=America/Moncton:20231230T170000
DTSTAMP:20260422T214002
CREATED:20231116T002959Z
LAST-MODIFIED:20231228T131507Z
UID:10000287-1703923200-1703955600@monctonoutdoorenthusiasts.ca
SUMMARY:Walk from Shediac to Parlee Beach
DESCRIPTION:Walk from Shediac to Parlee Beach\, the Pointe du Chene wharf and back. You will be able to sink your toes in the sand\, enjoy the sounds of the surf\, have lunch on a deck overlooking the beach\, see the activity on a functioning wharf and marina and then scoot back on the trail to your vehicles. Rated easy to moderate (due to length)\, 98% flat. Meet at Irving in Dieppe at 10:00AM or the parking lot for Canada Public Works\, 10 Weldon St\, Shediac\, NB at 10:30AM. Contact Phil at 902-432-0050.
URL:https://monctonoutdoorenthusiasts.ca/event/walk-from-shediac-to-parlee-beach/
ORGANIZER;CN="Phil Hardy":MAILTO:phil-hardy@hotmail.com
END:VEVENT
BEGIN:VEVENT
DTSTART;TZID=America/Moncton:20231228T180000
DTEND;TZID=America/Moncton:20231228T193000
DTSTAMP:20260422T214002
CREATED:20220407T104838Z
LAST-MODIFIED:20241021T125517Z
UID:10000544-1703786400-1703791800@monctonoutdoorenthusiasts.ca
SUMMARY:Thursday Night City Social Walks
DESCRIPTION:Thursday Night City Social Walks will restart again on Halloween night – Time: 6:30 p.m. Distance: 5-10 Km. Meeting place\, Dairy Queen\, 264 Coverdale Rd\, Riverview.
URL:https://monctonoutdoorenthusiasts.ca/event/thursday-night-city-social-walks-27/2023-12-28/
CATEGORIES:Easy-Moderate
ORGANIZER;CN="Julian Screawn":MAILTO:screawn@hotmail.com
END:VEVENT
BEGIN:VEVENT
DTSTART;TZID=America/Moncton:20231221T180000
DTEND;TZID=America/Moncton:20231221T193000
DTSTAMP:20260422T214002
CREATED:20220407T104838Z
LAST-MODIFIED:20241021T125517Z
UID:10000543-1703181600-1703187000@monctonoutdoorenthusiasts.ca
SUMMARY:Thursday Night City Social Walks
DESCRIPTION:Thursday Night City Social Walks will restart again on Halloween night – Time: 6:30 p.m. Distance: 5-10 Km. Meeting place\, Dairy Queen\, 264 Coverdale Rd\, Riverview.
URL:https://monctonoutdoorenthusiasts.ca/event/thursday-night-city-social-walks-27/2023-12-21/
CATEGORIES:Easy-Moderate
ORGANIZER;CN="Julian Screawn":MAILTO:screawn@hotmail.com
END:VEVENT
END:VCALENDAR