BEGIN:VCALENDAR
VERSION:2.0
PRODID:-//Moncton Outdoor Enthusiasts - ECPv6.15.20//NONSGML v1.0//EN
CALSCALE:GREGORIAN
METHOD:PUBLISH
X-WR-CALNAME:Moncton Outdoor Enthusiasts
X-ORIGINAL-URL:https://monctonoutdoorenthusiasts.ca
X-WR-CALDESC:Events for Moncton Outdoor Enthusiasts
REFRESH-INTERVAL;VALUE=DURATION:PT1H
X-Robots-Tag:noindex
X-PUBLISHED-TTL:PT1H
BEGIN:VTIMEZONE
TZID:America/Moncton
BEGIN:DAYLIGHT
TZOFFSETFROM:-0400
TZOFFSETTO:-0300
TZNAME:ADT
DTSTART:20230312T060000
END:DAYLIGHT
BEGIN:STANDARD
TZOFFSETFROM:-0300
TZOFFSETTO:-0400
TZNAME:AST
DTSTART:20231105T050000
END:STANDARD
BEGIN:DAYLIGHT
TZOFFSETFROM:-0400
TZOFFSETTO:-0300
TZNAME:ADT
DTSTART:20240310T060000
END:DAYLIGHT
BEGIN:STANDARD
TZOFFSETFROM:-0300
TZOFFSETTO:-0400
TZNAME:AST
DTSTART:20241103T050000
END:STANDARD
BEGIN:DAYLIGHT
TZOFFSETFROM:-0400
TZOFFSETTO:-0300
TZNAME:ADT
DTSTART:20250309T060000
END:DAYLIGHT
BEGIN:STANDARD
TZOFFSETFROM:-0300
TZOFFSETTO:-0400
TZNAME:AST
DTSTART:20251102T050000
END:STANDARD
END:VTIMEZONE
BEGIN:VEVENT
DTSTART;TZID=America/Moncton:20240612T190000
DTEND;TZID=America/Moncton:20240612T203000
DTSTAMP:20260422T190547
CREATED:20240221T154949Z
LAST-MODIFIED:20240606T174146Z
UID:10000587-1718218800-1718224200@monctonoutdoorenthusiasts.ca
SUMMARY:MOE - Summer Hike Planning Meeting
DESCRIPTION:Hike Planning Meeting.  Any one interested in leading a MOE event\, learning to lead\, have an interested in organizing events\, or want to become more involved in our club\, please join us as we fill in our calendar for July\, August\, and September. \nLocation:  55 Lemonwood Court\, Moncton\, NB   Start time – 7:00PM. \nGoogle Plus Code 44CV+X5G Moncton\, New Brunswick \n 
URL:https://monctonoutdoorenthusiasts.ca/event/moe-summer-hike-planning-meeting-2/
ORGANIZER;CN="Kevin Dunphy":MAILTO:dunpke@gmail.com
END:VEVENT
BEGIN:VEVENT
DTSTART;TZID=America/Moncton:20240609T100000
DTEND;TZID=America/Moncton:20240609T170000
DTSTAMP:20260422T190547
CREATED:20240222T001829Z
LAST-MODIFIED:20240607T192247Z
UID:10000594-1717927200-1717952400@monctonoutdoorenthusiasts.ca
SUMMARY:Tidnish Dock Walking Trail
DESCRIPTION:Walk on the remains of 1880’s mega project to connect Amherst to the Northumberland Strait with a railway to transport small cargo ships.  Distance of 8km.  Easy.  Meet at Irving Station\, 64 Champlain Street\, Dieppe\,  at 10:00AM\, or at Port Elgin Shell\, 42 Shemogue Rd\, Port Elgin\, at 10:45AM.  Bring water and a light lunch. Contact Brian at 506-377-8436. \nGoogle Maps Plus Codes \nDieppe Irving Station – 36VV+GM Dieppe\, New Brunswick \nPort Elgin Shell – 3W34+4P Port Elgin\, New Brunswick \nTrailhead – XXG3+6X5 Tidnish Bridge\, Nova Scotia
URL:https://monctonoutdoorenthusiasts.ca/event/tignish-dock-walking-trail/
END:VEVENT
BEGIN:VEVENT
DTSTART;TZID=America/Moncton:20240608T090000
DTEND;TZID=America/Moncton:20240608T170000
DTSTAMP:20260422T190547
CREATED:20211208T130437Z
LAST-MODIFIED:20240523T223721Z
UID:10000237-1717837200-1717866000@monctonoutdoorenthusiasts.ca
SUMMARY:Third Vault Falls/Kinnie Brook
DESCRIPTION:Hike Third Vault Falls in Fundy National Park. 7.4km return.  Hike will be at a moderate pace with rest stops.  Trail is rated as Moderate with steep descent to falls.  Enjoy lunch at the base of the falls. Following return to vehicles\, drive ~3.7km to Kinnie Brook Trailhead parking ().  Kinnie Brook trail is a well-maintained trail leading through the calm and pleasant woods as it approaches Kinnie Brook. Wooden stairways lead down to the waterway and a nice viewpoint. Moderate pace on trail rated as Easy.  Meet at the Fox Field (Baseball field) at 893 Hillsborough Road\, Riverview at 9:00AM or a Fundy Park Headquarters at 10:00AM. New hikers or anyone requiring information\, please contact Brian at 506-377-8436. \nGoogle Map Plus Codes – \nFox Field – 3784+7V Riverview\, New Brunswick \nFundy Park Headquarters – H2WX+793 Alma Parish\, New Brunswick \nThird Vault Trailhead Parking – JXFF+VFQ Alma Parish\, New Brunswick \nKinnie Brook Trailhead Parking – J242+FH Alma\, New Brunswick \n 
URL:https://monctonoutdoorenthusiasts.ca/event/hearst-lodge/
END:VEVENT
BEGIN:VEVENT
DTSTART;TZID=America/Moncton:20240606T183000
DTEND;TZID=America/Moncton:20240606T183000
DTSTAMP:20260422T190547
CREATED:20240508T120609Z
LAST-MODIFIED:20240915T201040Z
UID:10000642-1717698600-1717698600@monctonoutdoorenthusiasts.ca
SUMMARY:Thursday Night Social Bike Rides
DESCRIPTION:Social Bike Ride ~15-20km km Meet at 6:30pm\, La Bikery 120 Assumption Blvd. Rides will be cancelled if it is raining. Contact: Julian 506-830-66463
URL:https://monctonoutdoorenthusiasts.ca/event/thursday-night-social-bike-rides/2024-06-06/
ORGANIZER;CN="Julian Screawn":MAILTO:screawn@hotmail.com
END:VEVENT
BEGIN:VEVENT
DTSTART;TZID=America/Moncton:20240601T090000
DTEND;TZID=America/Moncton:20240601T170000
DTSTAMP:20260422T190547
CREATED:20230823T141134Z
LAST-MODIFIED:20240530T103403Z
UID:10000479-1717232400-1717261200@monctonoutdoorenthusiasts.ca
SUMMARY:Fundy Trail Parkway: Big Salmon River to Seely Beach
DESCRIPTION:Hike from Fundy Trail Parkway Interpretive Center to Seely Beach.  Distance of 8.5km.  Rated as Strenuous.  Experienced\, fit hikers please.   Shuttling of vehicles is a requirement. Entrance fee to Fundy Trail Provincial Park is a requirement. Adults – $14.00.  Seniors (65+) – $12.00.  Meet at Centennial Park by Dog Park at 9:00AM\,  Fundy National Park Interpretive Center at 10:00AM\, or at Fundy Trail Provincial Park East Gate at 10:40AM. Contact Paul at 506-381-0397. \n  \nGoogle Plus Codes \nCentennial Dog Park – 35MJ+H7 Moncton\, New Brunswick \nFundy National Park – Visitor Center – H2WX+6M Alma\, New Brunswick \nFundy Trail Parkway – East Gate – GM2J+F2J Little Salmon River West\, New Brunswick \nFundy Trail Interpretive Center – CHCW+H7 Salmon River\, New Brunswick
URL:https://monctonoutdoorenthusiasts.ca/event/big-salmon-river-to-seely-beach-fundy-trail-parkway/
CATEGORIES:Moderate
END:VEVENT
BEGIN:VEVENT
DTSTART;TZID=America/Moncton:20240530T183000
DTEND;TZID=America/Moncton:20240530T183000
DTSTAMP:20260422T190547
CREATED:20240508T120609Z
LAST-MODIFIED:20240915T201040Z
UID:10000640-1717093800-1717093800@monctonoutdoorenthusiasts.ca
SUMMARY:Thursday Night Social Bike Rides
DESCRIPTION:Social Bike Ride ~15-20km km Meet at 6:30pm\, La Bikery 120 Assumption Blvd. Rides will be cancelled if it is raining. Contact: Julian 506-830-66463
URL:https://monctonoutdoorenthusiasts.ca/event/thursday-night-social-bike-rides/2024-05-30/
ORGANIZER;CN="Julian Screawn":MAILTO:screawn@hotmail.com
END:VEVENT
BEGIN:VEVENT
DTSTART;TZID=America/Moncton:20240525T083000
DTEND;TZID=America/Moncton:20240525T183000
DTSTAMP:20260422T190547
CREATED:20230227T192106Z
LAST-MODIFIED:20240430T202852Z
UID:10000483-1716625800-1716661800@monctonoutdoorenthusiasts.ca
SUMMARY:Split Rock and Troy Trail/ Coastal trails in Saint John
DESCRIPTION:Join Gale for a scenic 11km coastal hike on the connecting trails of Split Rock and Troy’s Trail near Lorneville\, NB. Challenge yourself with this moderate to strenuous trek\, complete with steep ascents and descents and unapparelled views\, in a designated Nature Preserve. Spoiler alert\, there is a 4k road section at the end\, which satisfies any  elevation quota we may not have met on the trail….oh\, and that ONE last hill. \nMeet in Centennial Park’s Dog Park parking lot 61 Rotary Lodge Lane\, Moncton\,  at 8:30AM or at the Split Rock Trailhead\, 4179-4279 Black Beach Rd\, Saint John\, NB at 10:15AM.   New hikers or anyone requiring information\, please contact Gale at 506-874-3177.
URL:https://monctonoutdoorenthusiasts.ca/event/split-rock-and-troy-trail-coastal-trails-in-saint-john/
CATEGORIES:Moderate-Strenuous
END:VEVENT
BEGIN:VEVENT
DTSTART;TZID=America/Moncton:20240523T183000
DTEND;TZID=America/Moncton:20240523T183000
DTSTAMP:20260422T190547
CREATED:20240508T120609Z
LAST-MODIFIED:20240915T201040Z
UID:10000638-1716489000-1716489000@monctonoutdoorenthusiasts.ca
SUMMARY:Thursday Night Social Bike Rides
DESCRIPTION:Social Bike Ride ~15-20km km Meet at 6:30pm\, La Bikery 120 Assumption Blvd. Rides will be cancelled if it is raining. Contact: Julian 506-830-66463
URL:https://monctonoutdoorenthusiasts.ca/event/thursday-night-social-bike-rides/2024-05-23/
ORGANIZER;CN="Julian Screawn":MAILTO:screawn@hotmail.com
END:VEVENT
BEGIN:VEVENT
DTSTART;TZID=America/Moncton:20240520T090000
DTEND;TZID=America/Moncton:20240520T170000
DTSTAMP:20260422T190547
CREATED:20220408T101721Z
LAST-MODIFIED:20240519T203944Z
UID:10000424-1716195600-1716224400@monctonoutdoorenthusiasts.ca
SUMMARY:Earltown\, Portage\, and Rogart Mountain Trails - May 20
DESCRIPTION:Hike the Earltown Lake\, Portage\, and Rogart Mountain Trails in the Earltown area of Nova Scotia. Moderate 12kmMeet at the Irving Station\, 64 Champlain Blvd\, Dieppe\, at 9:00AM\, or at Amherst Center Mall (behind FYIdoctors building) at 9:45AM.  New hikers or anyone requiring information\, please contact Merlin at 902-667-8224
URL:https://monctonoutdoorenthusiasts.ca/event/draft-earltown-area/
LOCATION:Earltown
CATEGORIES:Moderate
END:VEVENT
BEGIN:VEVENT
DTSTART;TZID=America/Moncton:20240516T183000
DTEND;TZID=America/Moncton:20240516T183000
DTSTAMP:20260422T190547
CREATED:20240508T120609Z
LAST-MODIFIED:20240915T201040Z
UID:10000636-1715884200-1715884200@monctonoutdoorenthusiasts.ca
SUMMARY:Thursday Night Social Bike Rides
DESCRIPTION:Social Bike Ride ~15-20km km Meet at 6:30pm\, La Bikery 120 Assumption Blvd. Rides will be cancelled if it is raining. Contact: Julian 506-830-66463
URL:https://monctonoutdoorenthusiasts.ca/event/thursday-night-social-bike-rides/2024-05-16/
ORGANIZER;CN="Julian Screawn":MAILTO:screawn@hotmail.com
END:VEVENT
BEGIN:VEVENT
DTSTART;TZID=America/Moncton:20240511T090000
DTEND;TZID=America/Moncton:20240511T150000
DTSTAMP:20260422T190547
CREATED:20240108T122859Z
LAST-MODIFIED:20240425T112606Z
UID:10000578-1715418000-1715439600@monctonoutdoorenthusiasts.ca
SUMMARY:White Rock Recreational Area - Perimeter Trails
DESCRIPTION:Hike the perimeter trails\, gradually ascending more than 300 meters\, in historic White rock Recreational Park\, Hillsborough.   Distance of 9-10km.  About 3 hrs.  Rated as Moderate/Strenuous.  A few challenging hills\, however\, frequent “catch your breath stops ” are planned. \nMeet at Fox Field\, 893 Hillsborough Rd in Riverview at 9:30AM or 10:00AM at White Rock Recreational Area parking lot\, Golf Club Road\, in Hillsborough. \nContact Brian  506 377 8436
URL:https://monctonoutdoorenthusiasts.ca/event/white-rock-recreational-area/
LOCATION:White Rock Recreational Area\, 297 Taylor Lane\, Hillsborough\, New Brunswick\, Canada
END:VEVENT
BEGIN:VEVENT
DTSTART;TZID=America/Moncton:20240505T100000
DTEND;TZID=America/Moncton:20240505T143000
DTSTAMP:20260422T190547
CREATED:20240422T153647Z
LAST-MODIFIED:20240501T213530Z
UID:10000610-1714903200-1714919400@monctonoutdoorenthusiasts.ca
SUMMARY:Social Walk for Mental Health - Shediac to Parlee Beach\, Pointe-du-Chene Wharf and return
DESCRIPTION:May 6 – 12 2024 is Mental Health Week across Canada \nJoin Calvin on this walk from Shediac to Parlee Beach\, the Pointe-du-Chene wharf and back. You will be able to sink your toes in the sand\, enjoy the sounds of the surf\, have lunch on a deck overlooking the beach\, see the activity on a functioning wharf and marina and then scoot back on the trail to your vehicles. 10km. Rated easy to moderate (due to length)\, 98% flat. \nPrior to the walk\, Calvin will share his personal story of losing a close friend who passed away after struggling with mental illness.  This is not a fundraiser\, simply a walk to raise awareness of mental health issues affecting our lives.  Encourage your friends to join you on this outing. \nMeet at Irving\, 64 Champlain Blvd\, in Dieppe at 10:00AM or the parking lot for Canada Public Works\, 10 Weldon St\, Shediac\, NB at 10:30AM. Contact Calvin at 506-875-3351.
URL:https://monctonoutdoorenthusiasts.ca/event/walk-from-shediac-to-parlee-beach-2/
LOCATION:Shediac
ORGANIZER;CN="Maureen Wallace":MAILTO:wallacemaureenk@gmail.com
END:VEVENT
BEGIN:VEVENT
DTSTART;TZID=America/Moncton:20240504T090000
DTEND;TZID=America/Moncton:20240504T170000
DTSTAMP:20260422T190547
CREATED:20230802T005146Z
LAST-MODIFIED:20240430T154704Z
UID:10000519-1714813200-1714842000@monctonoutdoorenthusiasts.ca
SUMMARY:Cape Chignecto Provincal Park - McGahey Canyon Loop
DESCRIPTION:Saturday May 4th –  Join us at the Cape Chignecto Provincial Park to do the McGahey Canyon Loop. Like all the trails in this beautiful park this is a nice one. About 8kms of a combination of wooded\, babbling brook bliss with a scenic beach walk to end the hike. The prospect of dining at one of the great restaurants in N.S. called the Wild Caraway might be on the agenda. It is an old homestead house across from the wharf\, they use many of their own herbs and spices and try to locally source all of their food. Great hike\, not to be missed. Rated as moderate with one long upward climb. Meet at Irving\, 64 Champlain Blvd\, in Dieppe\, at 9:00AM or Amherst Mall (behind FYiDoctors) at 9:45AM \nCall Paul 506-381-0397 or Kevin 506-871-4457.
URL:https://monctonoutdoorenthusiasts.ca/event/mcgahey-brook-canyon-trail-in-cape-chignecto-provincal-park/
CATEGORIES:Moderate
ORGANIZER;CN="Kevin Dunphy":MAILTO:dunpke@gmail.com
END:VEVENT
BEGIN:VEVENT
DTSTART;TZID=America/Moncton:20240420T100000
DTEND;TZID=America/Moncton:20240420T140000
DTSTAMP:20260422T190547
CREATED:20240417T213006Z
LAST-MODIFIED:20240419T222608Z
UID:10000600-1713607200-1713621600@monctonoutdoorenthusiasts.ca
SUMMARY:Earth Day Cleanup - Riverview
DESCRIPTION:Note change in start time due to impending rain. \nPlease join Brian Foster as Moncton Outdoor Enthusiasts participate in Earth Day clean up of Fox Field Parking Lot and the access trail to Mill Creek Nature Park.  Meet at Fox Field\, 893 Hillsborough Rd\, Riverview\, NB at 9:00AM.   Bring lunch and water.   Garbage bags provided.  Gloves provided.  Bring your own gloves if you have them.  In case of rain\, meet at same location at 11:00AM on Sunday. \n6-8 persons required for this cleanup.  Please confirm your attendance by contacting Brian at (506) 377-8436
URL:https://monctonoutdoorenthusiasts.ca/event/earth-day-cleanup-riverview/
CATEGORIES:Easy
END:VEVENT
BEGIN:VEVENT
DTSTART;TZID=America/Moncton:20240420T090000
DTEND;TZID=America/Moncton:20240420T150000
DTSTAMP:20260422T190547
CREATED:20240417T214610Z
LAST-MODIFIED:20240417T214610Z
UID:10000601-1713603600-1713625200@monctonoutdoorenthusiasts.ca
SUMMARY:Earth Day Cleanup - Moncton Zoo
DESCRIPTION:Please join Kevin as Moncton Outdoor Enthusiasts participate in Earth Day clean up of Moncton Zoo.  Meet at the zoo main parking lot at 9:00AM on Saturday April 20.  Bring lunch and water.   Garbage bags provided.  Gloves provided.  Bring your own gloves if you have them.   For further details\, contact Kevin at (506) 871-4457.
URL:https://monctonoutdoorenthusiasts.ca/event/earth-day-cleanup-moncton-zoo/
CATEGORIES:Easy
END:VEVENT
BEGIN:VEVENT
DTSTART;TZID=America/Moncton:20240420T090000
DTEND;TZID=America/Moncton:20240420T150000
DTSTAMP:20260422T190547
CREATED:20240411T235353Z
LAST-MODIFIED:20240417T214349Z
UID:10000599-1713603600-1713625200@monctonoutdoorenthusiasts.ca
SUMMARY:Earth Day - Clean Up - Centennial Park
DESCRIPTION:Please join Ginette and Gale as Moncton Outdoor Enthusiasts participate in Earth Day clean up of Centennial Park.  Meet in the dog park parking lot at 9:00AM on Saturday April 20.  Bring lunch and water.   Garbage bags provided.  Gloves provided.  Bring your own gloves if you have them.   For further details\, contact Kevin at (506) 871-4457.
URL:https://monctonoutdoorenthusiasts.ca/event/moncton-riverview-dieppe-earth-day-clean-up/
CATEGORIES:Easy
END:VEVENT
BEGIN:VEVENT
DTSTART;TZID=America/Moncton:20240419T100000
DTEND;TZID=America/Moncton:20240419T143000
DTSTAMP:20260422T190547
CREATED:20240418T171949Z
LAST-MODIFIED:20240418T172542Z
UID:10000609-1713520800-1713537000@monctonoutdoorenthusiasts.ca
SUMMARY:Hike a portion of the Dobson trail starting at Smith road and then on through to Baltimore area
DESCRIPTION:Hike part of the Dobson trail starting at Smith road.  Meeting place at 10:00 am  at 2nd entrance of the Dobson Trail Head (633 Pine Glen Rd.\, Riverview\, NB).  Bring lunch/snack and water. \nIf planning to attend\, please confirm (Ted 506-852-0976)\nAbout 11km – Moderate
URL:https://monctonoutdoorenthusiasts.ca/event/hike-a-portion-of-dobson-trail-starting-at-smith-road-and-then-to-baltimore-area/
CATEGORIES:Moderate
ORGANIZER;CN="Ted Harrison":MAILTO:tedalice27@yahoo.ca
END:VEVENT
BEGIN:VEVENT
DTSTART;TZID=America/Moncton:20240418T180000
DTEND;TZID=America/Moncton:20240418T193000
DTSTAMP:20260422T190547
CREATED:20220407T104838Z
LAST-MODIFIED:20241021T125517Z
UID:10000560-1713463200-1713468600@monctonoutdoorenthusiasts.ca
SUMMARY:Thursday Night City Social Walks
DESCRIPTION:Thursday Night City Social Walks will restart again on Halloween night – Time: 6:30 p.m. Distance: 5-10 Km. Meeting place\, Dairy Queen\, 264 Coverdale Rd\, Riverview.
URL:https://monctonoutdoorenthusiasts.ca/event/thursday-night-city-social-walks-27/2024-04-18/
CATEGORIES:Easy-Moderate
ORGANIZER;CN="Julian Screawn":MAILTO:screawn@hotmail.com
END:VEVENT
BEGIN:VEVENT
DTSTART;TZID=America/Moncton:20240413T093000
DTEND;TZID=America/Moncton:20240413T170000
DTSTAMP:20260422T190547
CREATED:20220408T113726Z
LAST-MODIFIED:20240222T004306Z
UID:10000318-1713000600-1713027600@monctonoutdoorenthusiasts.ca
SUMMARY:Mary's Point
DESCRIPTION:Hike around the Mary’s Point Islands.  Moderate 10 km.  Meet at the Petro Can 506 Hillsborough Rd\, Riverview departure time 9:30 or meet at 10:15 at the junction of 114 and 915 in Riverside/Albert in the Old Bank Museum at the corner. Contact Paul at 588-3034.
URL:https://monctonoutdoorenthusiasts.ca/event/marys-point/
CATEGORIES:Moderate
END:VEVENT
BEGIN:VEVENT
DTSTART;TZID=America/Moncton:20240411T180000
DTEND;TZID=America/Moncton:20240411T193000
DTSTAMP:20260422T190547
CREATED:20220407T104838Z
LAST-MODIFIED:20241021T125517Z
UID:10000559-1712858400-1712863800@monctonoutdoorenthusiasts.ca
SUMMARY:Thursday Night City Social Walks
DESCRIPTION:Thursday Night City Social Walks will restart again on Halloween night – Time: 6:30 p.m. Distance: 5-10 Km. Meeting place\, Dairy Queen\, 264 Coverdale Rd\, Riverview.
URL:https://monctonoutdoorenthusiasts.ca/event/thursday-night-city-social-walks-27/2024-04-11/
CATEGORIES:Easy-Moderate
ORGANIZER;CN="Julian Screawn":MAILTO:screawn@hotmail.com
END:VEVENT
BEGIN:VEVENT
DTSTART;TZID=America/Moncton:20240407T080000
DTEND;TZID=America/Moncton:20240407T170000
DTSTAMP:20260422T190547
CREATED:20240222T003646Z
LAST-MODIFIED:20240222T003646Z
UID:10000285-1712476800-1712509200@monctonoutdoorenthusiasts.ca
SUMMARY:Cape Jourimain
DESCRIPTION:Cape Jourimain 8-10 kms. Easy to moderate. Forest and beach. Meet at 10am the Irving station\, 64 Champlain Street\, Dieppe. Paul 588-3034.
URL:https://monctonoutdoorenthusiasts.ca/event/cape-jourimain/
END:VEVENT
BEGIN:VEVENT
DTSTART;TZID=America/Moncton:20240406T080000
DTEND;TZID=America/Moncton:20240406T170000
DTSTAMP:20260422T190547
CREATED:20240222T003841Z
LAST-MODIFIED:20240401T221643Z
UID:10000595-1712390400-1712422800@monctonoutdoorenthusiasts.ca
SUMMARY:No Hike Planned...Yet
DESCRIPTION:No hike is planned for April 6th.  If you wish to lead a hike on this day\, please contact Kevin Dunphy at (506) 871-4457.
URL:https://monctonoutdoorenthusiasts.ca/event/ralph-hike-2/
END:VEVENT
BEGIN:VEVENT
DTSTART;TZID=America/Moncton:20240404T180000
DTEND;TZID=America/Moncton:20240404T193000
DTSTAMP:20260422T190547
CREATED:20220407T104838Z
LAST-MODIFIED:20241021T125517Z
UID:10000558-1712253600-1712259000@monctonoutdoorenthusiasts.ca
SUMMARY:Thursday Night City Social Walks
DESCRIPTION:Thursday Night City Social Walks will restart again on Halloween night – Time: 6:30 p.m. Distance: 5-10 Km. Meeting place\, Dairy Queen\, 264 Coverdale Rd\, Riverview.
URL:https://monctonoutdoorenthusiasts.ca/event/thursday-night-city-social-walks-27/2024-04-04/
CATEGORIES:Easy-Moderate
ORGANIZER;CN="Julian Screawn":MAILTO:screawn@hotmail.com
END:VEVENT
BEGIN:VEVENT
DTSTART;TZID=America/Moncton:20240331T103000
DTEND;TZID=America/Moncton:20240331T170000
DTSTAMP:20260422T190547
CREATED:20220422T230008Z
LAST-MODIFIED:20240329T185618Z
UID:10000325-1711881000-1711904400@monctonoutdoorenthusiasts.ca
SUMMARY:Dennis/Waterside Beach in the morning
DESCRIPTION:The location of the hike on Sunday has changed because of muddy wet ground on part of the Hopewell Rock Trails.\nNew hike location is Dennis/Waterside Beaches. Should be lots of water coming out of cliffs and the waterfall\, but very little on our feet. Low tide is 11:11AM.\nMeet at Fox Field – 893 Hillsborough Rd\, Riverview\, NB at 9:00AM or at Old Bank Museum in Riverside – 5985 King St\, Riverside-Albert\, NB at 9:45AM.  Contact Paul at 506-381-0397\n 
URL:https://monctonoutdoorenthusiasts.ca/event/dennis-beach-2/
CATEGORIES:Moderate
END:VEVENT
BEGIN:VEVENT
DTSTART;TZID=America/Moncton:20240330T080000
DTEND;TZID=America/Moncton:20240330T170000
DTSTAMP:20260422T190547
CREATED:20240221T234411Z
LAST-MODIFIED:20240329T185810Z
UID:10000592-1711785600-1711818000@monctonoutdoorenthusiasts.ca
SUMMARY:CANCELLED - Ted Hike
DESCRIPTION:Saturday hike is cancelled due to weather.
URL:https://monctonoutdoorenthusiasts.ca/event/ted-hike/
END:VEVENT
BEGIN:VEVENT
DTSTART;TZID=America/Moncton:20240328T180000
DTEND;TZID=America/Moncton:20240328T193000
DTSTAMP:20260422T190547
CREATED:20220407T104838Z
LAST-MODIFIED:20241021T125517Z
UID:10000557-1711648800-1711654200@monctonoutdoorenthusiasts.ca
SUMMARY:Thursday Night City Social Walks
DESCRIPTION:Thursday Night City Social Walks will restart again on Halloween night – Time: 6:30 p.m. Distance: 5-10 Km. Meeting place\, Dairy Queen\, 264 Coverdale Rd\, Riverview.
URL:https://monctonoutdoorenthusiasts.ca/event/thursday-night-city-social-walks-27/2024-03-28/
CATEGORIES:Easy-Moderate
ORGANIZER;CN="Julian Screawn":MAILTO:screawn@hotmail.com
END:VEVENT
BEGIN:VEVENT
DTSTART;TZID=America/Moncton:20240323T000000
DTEND;TZID=America/Moncton:20240323T235900
DTSTAMP:20260422T190547
CREATED:20221117T132141Z
LAST-MODIFIED:20240322T110638Z
UID:10000451-1711152000-1711238340@monctonoutdoorenthusiasts.ca
SUMMARY:Dickson Falls-Upper Salmon River
DESCRIPTION:Hike from the FNP visitor center down Point Wolfe road to Dickson falls and return. Point Wolfe road is closed for the season so there should be no traffic. Moderate\, 7km with a big hill.  Have lunch at the the Falls.  Upon return to visitor center\, hike 2km to Salmon Rearing Station and return.  Moderate hike with one steep hill.  Meet at Fox Field (Baseball field) at 893 Hillsborough Road\, Riverview at 10:00AM or the Fundy Park Visitor center at 11:00AM.  Bring your grippers/crampons/cleats\, in case they are required.  Contact Brian at 506-377-8436.
URL:https://monctonoutdoorenthusiasts.ca/event/dickson-falls/
CATEGORIES:Easy-Moderate
END:VEVENT
BEGIN:VEVENT
DTSTART;TZID=America/Moncton:20240321T180000
DTEND;TZID=America/Moncton:20240321T193000
DTSTAMP:20260422T190547
CREATED:20220407T104838Z
LAST-MODIFIED:20241021T125517Z
UID:10000556-1711044000-1711049400@monctonoutdoorenthusiasts.ca
SUMMARY:Thursday Night City Social Walks
DESCRIPTION:Thursday Night City Social Walks will restart again on Halloween night – Time: 6:30 p.m. Distance: 5-10 Km. Meeting place\, Dairy Queen\, 264 Coverdale Rd\, Riverview.
URL:https://monctonoutdoorenthusiasts.ca/event/thursday-night-city-social-walks-27/2024-03-21/
CATEGORIES:Easy-Moderate
ORGANIZER;CN="Julian Screawn":MAILTO:screawn@hotmail.com
END:VEVENT
BEGIN:VEVENT
DTSTART;TZID=America/Moncton:20240317T100000
DTEND;TZID=America/Moncton:20240317T170000
DTSTAMP:20260422T190547
CREATED:20211211T105316Z
LAST-MODIFIED:20240222T201328Z
UID:10000386-1710669600-1710694800@monctonoutdoorenthusiasts.ca
SUMMARY:Riverside Albert to Lookoff at Crooked Creek
DESCRIPTION:Riverside/Albert to the look off at Crooked Creek. We will be going down to the river from a trail off of the main road (not the super steep descent to the falls). The hike is 7 km and rated as moderate and scenic. We are not sure of conditions so bring grippers and snowshoes just in case. Meet at the Riverview – Fox Field Parking Lot – 893 Hillsborough Rd\, Riverview at 10:00AM or Riverside-Albert School at 10:45AM. Call Marilyn @ 386-6579.
URL:https://monctonoutdoorenthusiasts.ca/event/pending-review-riverside-albert-to-lookoff-at-crooked-creek/
CATEGORIES:Moderate
ORGANIZER;CN="Marilyn Leblanc":MAILTO:ralph5@bellaliant.net
END:VEVENT
BEGIN:VEVENT
DTSTART;TZID=America/Moncton:20240316T090000
DTEND;TZID=America/Moncton:20240316T170000
DTSTAMP:20260422T190547
CREATED:20220310T110506Z
LAST-MODIFIED:20240314T175811Z
UID:10000405-1710579600-1710608400@monctonoutdoorenthusiasts.ca
SUMMARY:Two Islands in Parrsboro N.S.
DESCRIPTION:Hike at Two Islands in Parrsboro N.S. on Saturday the 16th March. We will be hosted by the legendary Terri McCulloch who will lead us on a beach hike next to the powerful tidal waters of the Minas Basin. This hike rated as moderate for most and will include some road walking on a lonely road with sensational views to be had. After the hike we will be going to Davison’s Maple Sugar Emporium for a fabulous meal. They serve pancakes with syrup and much more. Reservations have been made for 3:30PM. We have done this before to great reviews. Meet at Irving – 64 Champlain Blvd\, at 9:00AM\, Amherst Mall at 9:45AM\, or at the Fundy Geological Museum parking lot\, in Parrsboro\, at approximately 10:45-11:00AM.  Not to be missed.  For more details\, contact Paul at 506-381-0397
URL:https://monctonoutdoorenthusiasts.ca/event/two-islands-in-parrsboro-n-s/
CATEGORIES:Moderate
END:VEVENT
END:VCALENDAR