BEGIN:VCALENDAR
VERSION:2.0
PRODID:-//Moncton Outdoor Enthusiasts - ECPv6.15.20//NONSGML v1.0//EN
CALSCALE:GREGORIAN
METHOD:PUBLISH
X-ORIGINAL-URL:https://monctonoutdoorenthusiasts.ca
X-WR-CALDESC:Events for Moncton Outdoor Enthusiasts
REFRESH-INTERVAL;VALUE=DURATION:PT1H
X-Robots-Tag:noindex
X-PUBLISHED-TTL:PT1H
BEGIN:VTIMEZONE
TZID:America/Moncton
BEGIN:DAYLIGHT
TZOFFSETFROM:-0400
TZOFFSETTO:-0300
TZNAME:ADT
DTSTART:20230312T060000
END:DAYLIGHT
BEGIN:STANDARD
TZOFFSETFROM:-0300
TZOFFSETTO:-0400
TZNAME:AST
DTSTART:20231105T050000
END:STANDARD
BEGIN:DAYLIGHT
TZOFFSETFROM:-0400
TZOFFSETTO:-0300
TZNAME:ADT
DTSTART:20240310T060000
END:DAYLIGHT
BEGIN:STANDARD
TZOFFSETFROM:-0300
TZOFFSETTO:-0400
TZNAME:AST
DTSTART:20241103T050000
END:STANDARD
BEGIN:DAYLIGHT
TZOFFSETFROM:-0400
TZOFFSETTO:-0300
TZNAME:ADT
DTSTART:20250309T060000
END:DAYLIGHT
BEGIN:STANDARD
TZOFFSETFROM:-0300
TZOFFSETTO:-0400
TZNAME:AST
DTSTART:20251102T050000
END:STANDARD
END:VTIMEZONE
BEGIN:VEVENT
DTSTART;TZID=America/Moncton:20240718T183000
DTEND;TZID=America/Moncton:20240718T183000
DTSTAMP:20260422T200159
CREATED:20240508T120609Z
LAST-MODIFIED:20240915T201040Z
UID:10000654-1721327400-1721327400@monctonoutdoorenthusiasts.ca
SUMMARY:Thursday Night Social Bike Rides
DESCRIPTION:Social Bike Ride ~15-20km km Meet at 6:30pm\, La Bikery 120 Assumption Blvd. Rides will be cancelled if it is raining. Contact: Julian 506-830-66463
URL:https://monctonoutdoorenthusiasts.ca/event/thursday-night-social-bike-rides/2024-07-18/
ORGANIZER;CN="Julian Screawn":MAILTO:screawn@hotmail.com
END:VEVENT
BEGIN:VEVENT
DTSTART;VALUE=DATE:20240720
DTEND;VALUE=DATE:20240721
DTSTAMP:20260422T200159
CREATED:20240609T190800Z
LAST-MODIFIED:20240609T190800Z
UID:10000780-1721433600-1721519999@monctonoutdoorenthusiasts.ca
SUMMARY:2024 MOE Summer Camping Trip - Travel/Camping Information
DESCRIPTION:The 2024 MOE camping trip is to be in Gros Morne National Park\, Newfoundland and Labrador with hiking scheduled from Sunday\, July 21st to Saturday\, July 27th.\n\nGroup camping is reserved at Berry Hill Campground that will accommodate 25 people.  The cost in 2023 was $6.50 per person per night.  Do not contact the Park if you plan to stay the Group Camping area\, however\, you must notify Phil Hardy (contact information below).  If you don’t plan to stay in the group camping you may book a motel or cabin in the community of Rocky Harbour (approx. 5km from the Campground).  These would have to be booked directly with the business.\n\nThe main thing that is different with this trip is the ferry from North Sydney\, NS to Port aux Basques\, NL.  There are 2 crossings daily\, one daytime and one overnight.  Please study the website carefully at marineatlantic.ca.  It is suggested to take the overnight trip to allow for driving in daytime.  Please book early\, even if you are not certain you can go.  The ferry appears to be free cancellation if more than 48 hours prior to trip.\n\nIf ensure you email your name\, email address\, phone number\, arrival and departure dates as well as where you will be staying ( group camping\, rustic shelter\, individual camping site or other accommodation) to Phil Hardy.\n\nLinks:\nGros Morne National Park – https://parks.canada.ca/pn-np/nl/grosmorne\nMarine Atlantic – https://www.marineatlantic.ca/\n\nPhil Hardy – Contact Information\ne-mail – phil-hardy@hotmail.com\nphone – 1-902-432-0050
URL:https://monctonoutdoorenthusiasts.ca/event/2024-moe-summer-camping-trip-travel-camping-information/
END:VEVENT
BEGIN:VEVENT
DTSTART;TZID=America/Moncton:20240720T090000
DTEND;TZID=America/Moncton:20240720T170000
DTSTAMP:20260422T200159
CREATED:20240612T000446Z
LAST-MODIFIED:20240711T180632Z
UID:10000480-1721466000-1721494800@monctonoutdoorenthusiasts.ca
SUMMARY:Fundy Footpath from Walton Glenn Gorge to Eye of the Needle
DESCRIPTION:Please note this hike requires the purchase of a day pass to the Fundy Parkway Provincial Park (FPPP)\, unless you currently have a season’s pass.  Alternatively\, you may pickup a complimentary pass\, at least 3 days prior\, at any Public Library. \nThis is a challenging\, rewarding 11km hike\, rated as Strenuous\, which takes you from parking lot P15\, near the East Gate of FPPP\, down the link trail to the world famous\, Fundy Footpath\, on the Fundy Coast.  Descending to the Little Salmon River through beautiful views and vistas and begin crossings of the waterway making your way to the “Eye of the Needle”\, considered by many to be in the bowels of NB’s Grand Canyon.  Water crossing at the Eye of the Needle\, possibly waist deep. \nWalking/hiking poles are strongly recommended\, as are hard-soled water shoes or old sneakers.   The water component of this hike is no less than 2km and will be uncomfortable without proper footwear. \nA lunch and photo opportunity will be after passing through the eye and before ascending out of the gorge. \nMeet at Centennial Park – Dog Park\, 61 Rotary Lodge Ln\, Moncton\, NB  at 9:00AM\, or Wolfe Lake Pavilion\, Fundy National Park\,  9577 NB-114\, Chambers Settlement\, NB at 10:00AM\, or Fundy Trail Provincial Park – East Entrance at 10:40AM.   Please contact Gale Connor-Breau via the contact us form. \nContact \n \n  \n 
URL:https://monctonoutdoorenthusiasts.ca/event/fundy-footpath-from-walton-glenn-gorge-to-eye-of-the-needle/
CATEGORIES:Moderate-Strenuous
END:VEVENT
BEGIN:VEVENT
DTSTART;VALUE=DATE:20240721
DTEND;VALUE=DATE:20240729
DTSTAMP:20260422T200159
CREATED:20240209T013343Z
LAST-MODIFIED:20240528T151313Z
UID:10000583-1721520000-1722211199@monctonoutdoorenthusiasts.ca
SUMMARY:2024 Camping Trip - Gros Morne National Park
DESCRIPTION:The 2024 MOE camping trip is to be in Gros Morne National Park\, Newfoundland and Labrador with hiking scheduled from Sunday\, July 21st to Saturday\, July 27th.\n\nReservations have been made for group camping at Berry Hill Campground that will accommodate 25 people.  The cost in 2023 was $6.50 per person per night.  You do not have to contact the Park if you are staying in the Group Camping area\, you just have to notify Phil.  See contact information below.  If you don’t want to stay in the group camping you can to book a motel or cabin in the community of Rocky Harbour (approx. 5km from the Campground).  These would have to be booked directly with the business.\n\nThe main thing that is different with this trip is the ferry from North Sydney\, NS to Port aux Basques\, NL.  There are 2 crossings daily\, one daytime and one overnight.  Please study the website carefully at marineatlantic.ca.  It is suggested that you take the overnight trip to allow for driving in daytime.  It is better to book early even if you are not certain you can go.  The ferry appears to be free cancellation if more than 48 hours prior to trip.\n\nIf you plan to attend\,  please email Phil Hardy with your name\, email address\, phone number\, arrival and departure dates as well as where you will be staying ( group camping\, rustic shelter\, individual camping site or other accommodation).\nContact Phil if you have any questions.\n\nLinks:\nGros Morne National Park – https://parks.canada.ca/pn-np/nl/grosmorne\nMarine Atlantic – https://www.marineatlantic.ca/\n\nPhil Hardy\nphil-hardy@hotmail.com\n902-432-0050
URL:https://monctonoutdoorenthusiasts.ca/event/2024-camping-trip-gros-morne-national-park/
LOCATION:Gros Morne National Park
ORGANIZER;CN="Phil Hardy":MAILTO:phil-hardy@hotmail.com
END:VEVENT
BEGIN:VEVENT
DTSTART;TZID=America/Moncton:20240721T090000
DTEND;TZID=America/Moncton:20240721T160000
DTSTAMP:20260422T200159
CREATED:20240417T222859Z
LAST-MODIFIED:20240609T200038Z
UID:10000602-1721552400-1721577600@monctonoutdoorenthusiasts.ca
SUMMARY:Gros Morne - Sunday July 21 - Lookout Trail/Lighthouse\, East Point & Boardwalk Trails
DESCRIPTION:Lookout Trail – Get to know this 5.5-km loop trail near Woody Point\, Newfoundland and Labrador. Generally considered a moderately challenging route\, it takes an average of 2 hr 9 min to complete. This is a very popular area for birding\, hiking\, and running\, so you’ll likely encounter other people while exploring.  Rated as moderate. \nEast Point & Boardwalk – 6km.  More details to follow.
URL:https://monctonoutdoorenthusiasts.ca/event/gros-morne-sunday-july-21/
LOCATION:Gros Morne National Park
CATEGORIES:Moderate
ORGANIZER;CN="Phil Hardy":MAILTO:phil-hardy@hotmail.com
END:VEVENT
BEGIN:VEVENT
DTSTART;TZID=America/Moncton:20240722T090000
DTEND;TZID=America/Moncton:20240722T160000
DTSTAMP:20260422T200159
CREATED:20240417T223509Z
LAST-MODIFIED:20240417T223559Z
UID:10000603-1721638800-1721664000@monctonoutdoorenthusiasts.ca
SUMMARY:Gros Morne - Monday July 22 Gros Morne Mountain Trail/Approach Trail
DESCRIPTION:Gros Morne Mountain Trail/Approach Trail – Explore this 16.9-km loop trail near Norris Point\, Newfoundland and Labrador. Generally considered a challenging route\, it takes an average of 6 hours to complete. This is a very popular area for birding\, hiking\, and running\, so you’ll likely encounter other people while exploring.  Rated as Strenuous.
URL:https://monctonoutdoorenthusiasts.ca/event/gros-morne-monday-july-22/
LOCATION:Gros Morne National Park
CATEGORIES:Strenuous
ORGANIZER;CN="Phil Hardy":MAILTO:phil-hardy@hotmail.com
END:VEVENT
BEGIN:VEVENT
DTSTART;TZID=America/Moncton:20240723T090000
DTEND;TZID=America/Moncton:20240723T160000
DTSTAMP:20260422T200159
CREATED:20240417T224159Z
LAST-MODIFIED:20240417T224232Z
UID:10000604-1721725200-1721750400@monctonoutdoorenthusiasts.ca
SUMMARY:Gros Morne - Tuesday July 23 - Tablelands Loop/Tablelands Out and Back
DESCRIPTION:Tablelands  – Out and Back – Enjoy this 7.7-km out-and-back trail near Woody Point\, Newfoundland and Labrador. Generally considered a moderately challenging route\, it takes an average of 2 hours to complete. \nTablelands – Loop – Check out this 11.7-km loop trail near Woody Point\, Newfoundland and Labrador. Generally considered a challenging route\, it takes an average of 4 hours to complete. \n 
URL:https://monctonoutdoorenthusiasts.ca/event/gros-morne-tuesday-july-23-tablelands-loop-tablelands-out-and-back/
LOCATION:Gros Morne National Park
CATEGORIES:Moderate-Strenuous
ORGANIZER;CN="Phil Hardy":MAILTO:phil-hardy@hotmail.com
END:VEVENT
BEGIN:VEVENT
DTSTART;TZID=America/Moncton:20240724T080000
DTEND;TZID=America/Moncton:20240724T170000
DTSTAMP:20260422T200159
CREATED:20240609T192115Z
LAST-MODIFIED:20240609T200555Z
UID:10000781-1721808000-1721840400@monctonoutdoorenthusiasts.ca
SUMMARY:Gros Morne - Wednesday\, July 24 - Green Gardens Trail
DESCRIPTION:Green Gardens Trail – Discover this 10.0-km out-and-back trail near Trout River\, Newfoundland and Labrador. Generally considered a moderately challenging route\, it takes an average of 3 hours to complete. Rated as moderate.
URL:https://monctonoutdoorenthusiasts.ca/event/gros-morne-national-park-green-gardens-trail/
CATEGORIES:Moderate
END:VEVENT
BEGIN:VEVENT
DTSTART;TZID=America/Moncton:20240725T090000
DTEND;TZID=America/Moncton:20240725T160000
DTSTAMP:20260422T200159
CREATED:20240417T224435Z
LAST-MODIFIED:20240609T191545Z
UID:10000605-1721898000-1721923200@monctonoutdoorenthusiasts.ca
SUMMARY:Gros Morne National Park - Thursday\, July 25 - 10-in-A-Day
DESCRIPTION:Similar to the exciting day we experienced in Cape Breton Highlands in 2022\, Phil will lead us on 10 smaller hikes in the park. Approximately 17k. \n  \n 
URL:https://monctonoutdoorenthusiasts.ca/event/gros-morne-national-park-wednesday-july-24-10-in-a-day/
LOCATION:Gros Morne National Park
CATEGORIES:Easy-Moderate
ORGANIZER;CN="Phil Hardy":MAILTO:phil-hardy@hotmail.com
END:VEVENT
BEGIN:VEVENT
DTSTART;TZID=America/Moncton:20240725T183000
DTEND;TZID=America/Moncton:20240725T183000
DTSTAMP:20260422T200159
CREATED:20240508T120609Z
LAST-MODIFIED:20240915T201040Z
UID:10000656-1721932200-1721932200@monctonoutdoorenthusiasts.ca
SUMMARY:Thursday Night Social Bike Rides
DESCRIPTION:Social Bike Ride ~15-20km km Meet at 6:30pm\, La Bikery 120 Assumption Blvd. Rides will be cancelled if it is raining. Contact: Julian 506-830-66463
URL:https://monctonoutdoorenthusiasts.ca/event/thursday-night-social-bike-rides/2024-07-25/
ORGANIZER;CN="Julian Screawn":MAILTO:screawn@hotmail.com
END:VEVENT
BEGIN:VEVENT
DTSTART;TZID=America/Moncton:20240726T090000
DTEND;TZID=America/Moncton:20240726T160000
DTSTAMP:20260422T200159
CREATED:20240417T224946Z
LAST-MODIFIED:20240609T201821Z
UID:10000606-1721984400-1722009600@monctonoutdoorenthusiasts.ca
SUMMARY:Gros Morne National Park - Friday\, July 26 - Stanleyville Trail/Lomond River Trail
DESCRIPTION:Stanleyville Trail from Lomond – Enjoy this 4.7-km out-and-back trail near Glenburnie-Birchy Head-Shoal Brook.  Rated as Moderate.  Approximately 1-2 hours. \nLomond River Trail – Check out this 9.2-km out-and-back trail near Glenburnie-Birchy Head-Shoal Brook.  Rated as moderate.  Approximately 2-3 hours.
URL:https://monctonoutdoorenthusiasts.ca/event/gros-morne-national-park-thursday-july-25-stanleyville-trail-lomond-river-trail/
LOCATION:Gros Morne National Park
CATEGORIES:Moderate
ORGANIZER;CN="Phil Hardy":MAILTO:phil-hardy@hotmail.com
END:VEVENT
BEGIN:VEVENT
DTSTART;TZID=America/Moncton:20240727T090000
DTEND;TZID=America/Moncton:20240727T160000
DTSTAMP:20260422T200159
CREATED:20240417T225204Z
LAST-MODIFIED:20240609T200745Z
UID:10000607-1722070800-1722096000@monctonoutdoorenthusiasts.ca
SUMMARY:Gros Morne - Saturday\, July 27 - Baker's Brook Trail
DESCRIPTION:Baker’s Brook Trail – Explore this 9.2-km out-and-back trail near Lobster Cove\, Newfoundland and Labrador. Generally considered a moderately challenging route\, it takes an average of 2 h 15 min to complete.
URL:https://monctonoutdoorenthusiasts.ca/event/gros-morne-national-park-friday-july-26-baker-brook-trail/
LOCATION:Gros Morne National Park
CATEGORIES:Moderate
ORGANIZER;CN="Phil Hardy":MAILTO:phil-hardy@hotmail.com
END:VEVENT
BEGIN:VEVENT
DTSTART;TZID=America/Moncton:20240801T183000
DTEND;TZID=America/Moncton:20240801T183000
DTSTAMP:20260422T200159
CREATED:20240508T120609Z
LAST-MODIFIED:20240915T201040Z
UID:10000658-1722537000-1722537000@monctonoutdoorenthusiasts.ca
SUMMARY:Thursday Night Social Bike Rides
DESCRIPTION:Social Bike Ride ~15-20km km Meet at 6:30pm\, La Bikery 120 Assumption Blvd. Rides will be cancelled if it is raining. Contact: Julian 506-830-66463
URL:https://monctonoutdoorenthusiasts.ca/event/thursday-night-social-bike-rides/2024-08-01/
ORGANIZER;CN="Julian Screawn":MAILTO:screawn@hotmail.com
END:VEVENT
BEGIN:VEVENT
DTSTART;TZID=America/Moncton:20240803T080000
DTEND;TZID=America/Moncton:20240803T170000
DTSTAMP:20260422T200159
CREATED:20240612T225511Z
LAST-MODIFIED:20240801T155924Z
UID:10000307-1722672000-1722704400@monctonoutdoorenthusiasts.ca
SUMMARY:Parrsboro area; Ward’s Falls\, Cape Sharpe & Partridge Island
DESCRIPTION:Hike in Parrsboro area; Ward’s Falls\, Cape Sharpe & Partridge Island\, plus a visit to the Fundy Ocean Research Centre for Energy (FORCE) for lunch and short tour. Moderate 11 km. Meet at the Irving Station\, 64 Champlain St\, Dieppe at 9:00AM or Amherst Centre Mall (behind FYIdoctors) at 10:00AM. Contact Merlin at 902-667-8224 and Kevin 506-871-4457. \nAdditional meet locations: \nStreet Address of Ward Falls parking lot – 10735 Parrsboro Shore Rd\, Diligent River\, NS B0M 1H0 \nFORCE – 1156 W Bay Rd\, Parrsboro\, NS B0M 1S0 \nOttawa House By-the-Sea Museum – 1155 Whitehall Rd\, Parrsboro\, NS B0M 1S0
URL:https://monctonoutdoorenthusiasts.ca/event/parrsboro-area-wards-falls-cape-sharpe-partridge-island/
END:VEVENT
BEGIN:VEVENT
DTSTART;TZID=America/Moncton:20240808T183000
DTEND;TZID=America/Moncton:20240808T183000
DTSTAMP:20260422T200159
CREATED:20240508T120609Z
LAST-MODIFIED:20240915T201040Z
UID:10000660-1723141800-1723141800@monctonoutdoorenthusiasts.ca
SUMMARY:Thursday Night Social Bike Rides
DESCRIPTION:Social Bike Ride ~15-20km km Meet at 6:30pm\, La Bikery 120 Assumption Blvd. Rides will be cancelled if it is raining. Contact: Julian 506-830-66463
URL:https://monctonoutdoorenthusiasts.ca/event/thursday-night-social-bike-rides/2024-08-08/
ORGANIZER;CN="Julian Screawn":MAILTO:screawn@hotmail.com
END:VEVENT
BEGIN:VEVENT
DTSTART;TZID=America/Moncton:20240811T090000
DTEND;TZID=America/Moncton:20240811T123000
DTSTAMP:20260422T200159
CREATED:20230211T005312Z
LAST-MODIFIED:20240806T110546Z
UID:10000475-1723366800-1723379400@monctonoutdoorenthusiasts.ca
SUMMARY:Riverview - Mill Creek Nature Park
DESCRIPTION:Mill Creek – Riverview…Easy…7-8 Km …2-3 Hrs  Meet at Fox Field – 893 Hillsborough Rd – Riverview – 9:00AM\nContact Brian…506 377 8436
URL:https://monctonoutdoorenthusiasts.ca/event/snowshoe-st-joseph-memramcook/
CATEGORIES:Moderate
END:VEVENT
BEGIN:VEVENT
DTSTART;TZID=America/Moncton:20240815T183000
DTEND;TZID=America/Moncton:20240815T183000
DTSTAMP:20260422T200159
CREATED:20240508T120609Z
LAST-MODIFIED:20240915T201040Z
UID:10000662-1723746600-1723746600@monctonoutdoorenthusiasts.ca
SUMMARY:Thursday Night Social Bike Rides
DESCRIPTION:Social Bike Ride ~15-20km km Meet at 6:30pm\, La Bikery 120 Assumption Blvd. Rides will be cancelled if it is raining. Contact: Julian 506-830-66463
URL:https://monctonoutdoorenthusiasts.ca/event/thursday-night-social-bike-rides/2024-08-15/
ORGANIZER;CN="Julian Screawn":MAILTO:screawn@hotmail.com
END:VEVENT
BEGIN:VEVENT
DTSTART;TZID=America/Moncton:20240817T080000
DTEND;TZID=America/Moncton:20240818T170000
DTSTAMP:20260422T200159
CREATED:20240524T162307Z
LAST-MODIFIED:20240524T162307Z
UID:10000779-1723881600-1724000400@monctonoutdoorenthusiasts.ca
SUMMARY:THE ANNAPOLIS VALLEY HIKE\, BIKE AND WINE.
DESCRIPTION:August 17th – Hike to Cape Split\nModerately challenging hike of about 13.2 km round trip.\nMeet at the trailhead at 12:00pm. Hike time is 4 to 6 hours.\n\nAugust 18th – Fundy Shore Bicycle Ride\nMeet at the Parking Lot at Queen Elizabeth II Jubilee Park\, Bridgetown at 10:30 a.m.\nDistance 63km Loop. All paved road. Two challenging hills. See attached route.\n\nIn addition there is the possibility of an organized wine tour. Likely on the Sunday for the non-bikers. More details to come.\nIt would be a good idea to book accommodation if you will be staying overnight.\n\nContact Julian: 506-830-6463
URL:https://monctonoutdoorenthusiasts.ca/event/the-annapolis-valley-hike-bike-and-wine/
CATEGORIES:Moderate
ORGANIZER;CN="Julian Screawn":MAILTO:screawn@hotmail.com
END:VEVENT
BEGIN:VEVENT
DTSTART;TZID=America/Moncton:20240817T090000
DTEND;TZID=America/Moncton:20240817T150000
DTSTAMP:20260422T200159
CREATED:20240814T212959Z
LAST-MODIFIED:20240815T111533Z
UID:10000785-1723885200-1723906800@monctonoutdoorenthusiasts.ca
SUMMARY:Fundy National Park - Moosehorn-Laverty Loop
DESCRIPTION:Hike the Moosehorn-Laverty Loop\,  a difficult to moderate 8km trail.  The trail is rooty and rocky with steep sections.  Also some wet and/or muddy sections.  Are we having fun yet?  🙂\nBring a lunch\, a hiking pole and hiking boots.\n\nMeeting at Fox Field (893 Coverdale Road) at 9:00AM or at Fundy National Park Administration Centre at 10:15AM. Contact Jocelyne Quann at (506) 850-9894.
URL:https://monctonoutdoorenthusiasts.ca/event/fundy-national-park-moosehorn-laverty-loop/
ORGANIZER;CN="Jocelyne Quann":MAILTO:jmjquann@outlook.com
END:VEVENT
BEGIN:VEVENT
DTSTART;TZID=America/Moncton:20240822T183000
DTEND;TZID=America/Moncton:20240822T183000
DTSTAMP:20260422T200159
CREATED:20240508T120609Z
LAST-MODIFIED:20240915T201040Z
UID:10000664-1724351400-1724351400@monctonoutdoorenthusiasts.ca
SUMMARY:Thursday Night Social Bike Rides
DESCRIPTION:Social Bike Ride ~15-20km km Meet at 6:30pm\, La Bikery 120 Assumption Blvd. Rides will be cancelled if it is raining. Contact: Julian 506-830-66463
URL:https://monctonoutdoorenthusiasts.ca/event/thursday-night-social-bike-rides/2024-08-22/
ORGANIZER;CN="Julian Screawn":MAILTO:screawn@hotmail.com
END:VEVENT
BEGIN:VEVENT
DTSTART;TZID=America/Moncton:20240824T090000
DTEND;TZID=America/Moncton:20240824T150000
DTSTAMP:20260422T200159
CREATED:20220408T102248Z
LAST-MODIFIED:20240821T231924Z
UID:10000423-1724490000-1724511600@monctonoutdoorenthusiasts.ca
SUMMARY:Coppermine Trail to Mile Brook in Fundy National Park
DESCRIPTION:Hike the Coppermine Trail to Mile Brook and return in Fundy National Park.  Distance of 8KM.  Rated as Moderate. Meet at Fox Field (Baseball field) at 893 Hillsborough Road at 9:00AM or Fundy National Park Headquarters at 10:00AM.  New hikers or anyone requiring further details\, please contact Paul at 506-588-3034. \n 
URL:https://monctonoutdoorenthusiasts.ca/event/draft-coppermine/
CATEGORIES:Moderate
END:VEVENT
BEGIN:VEVENT
DTSTART;TZID=America/Moncton:20240829T183000
DTEND;TZID=America/Moncton:20240829T183000
DTSTAMP:20260422T200159
CREATED:20240508T120609Z
LAST-MODIFIED:20240915T201040Z
UID:10000666-1724956200-1724956200@monctonoutdoorenthusiasts.ca
SUMMARY:Thursday Night Social Bike Rides
DESCRIPTION:Social Bike Ride ~15-20km km Meet at 6:30pm\, La Bikery 120 Assumption Blvd. Rides will be cancelled if it is raining. Contact: Julian 506-830-66463
URL:https://monctonoutdoorenthusiasts.ca/event/thursday-night-social-bike-rides/2024-08-29/
ORGANIZER;CN="Julian Screawn":MAILTO:screawn@hotmail.com
END:VEVENT
BEGIN:VEVENT
DTSTART;TZID=America/Moncton:20240829T183000
DTEND;TZID=America/Moncton:20240829T203000
DTSTAMP:20260422T200159
CREATED:20240827T151032Z
LAST-MODIFIED:20240827T151238Z
UID:10000788-1724956200-1724963400@monctonoutdoorenthusiasts.ca
SUMMARY:Parlee Beach - Thursday night social bike ride.
DESCRIPTION:Thursday night social bike ride. August 29th\nStarting point will be the entry Kiosk to Parlee Beach. Parking lot to the right.   Free admission\, start time 630pm.\n20k\, Warf\, Giant Lobster\, mix of trail and side streets. We will be parked at the beach so there is a strong possibility of a dip after the ride if interested.\nQuestions? calvin.roberts@claimspro.ca
URL:https://monctonoutdoorenthusiasts.ca/event/thursday-night-social-bike-ride-august-29th/
LOCATION:Shediac
END:VEVENT
BEGIN:VEVENT
DTSTART;TZID=America/Moncton:20240831T054000
DTEND;TZID=America/Moncton:20240831T083000
DTSTAMP:20260422T200159
CREATED:20240819T184748Z
LAST-MODIFIED:20240829T192109Z
UID:10000786-1725082800-1725093000@monctonoutdoorenthusiasts.ca
SUMMARY:Sunrise Walk on the Riverfront
DESCRIPTION:Saturday August 31st ( No rain date)  Sunrise Walk on the Riverview riverfront trail.  See the sunrise this Saturday morning.  Meet at 5:40AM at Hawthorne Park\, 191 Hawthorne Dr\, Riverview\, NB.   We’ll walk on the riverfront trail for 15mins or so and watch the dawn and wait for the sun to appear.  Bring a camp chair if you like.  New hikers or anyone requiring more information\, please contact Jocelyne at 506-850-9894
URL:https://monctonoutdoorenthusiasts.ca/event/sunrise-walk-on-the-riverfront/
ORGANIZER;CN="Jocelyne Quann":MAILTO:jmjquann@outlook.com
END:VEVENT
BEGIN:VEVENT
DTSTART;TZID=America/Moncton:20240831T090000
DTEND;TZID=America/Moncton:20240831T153000
DTSTAMP:20260422T200159
CREATED:20240827T174122Z
LAST-MODIFIED:20240827T174126Z
UID:10000789-1725094800-1725118200@monctonoutdoorenthusiasts.ca
SUMMARY:Foster Brook-Marven Lake Loop - Fundy National Park
DESCRIPTION:Hike Foster Brook Trail to connect with Marven Lake and old Goose River trails in Fundy National Park.  Approximately 10km.  Rated as moderate to strenuous.  Bring water shoes for a river crossing.  One long\, steep hill climb.  Meet at Fox Field – 893 Hillsborough Road\, Riverview at 9:00AM\, or at Fundy National Park Administration Centre at 10:00AM.  Hike parking will be at Hueston Brook Parking Lot and hike will start and end here.  New hikers or anyone requiring information\, please contact Paul @ 506-381-0397.
URL:https://monctonoutdoorenthusiasts.ca/event/foster-brook-marven-lake-loop-fundy-national-park/
LOCATION:Fundy Park Headquarters\, 8642 NB114\, Alma\, NB\, Canada
END:VEVENT
BEGIN:VEVENT
DTSTART;TZID=America/Moncton:20240901T100000
DTEND;TZID=America/Moncton:20240901T130000
DTSTAMP:20260422T200159
CREATED:20220407T111206Z
LAST-MODIFIED:20240821T224155Z
UID:10000410-1725184800-1725195600@monctonoutdoorenthusiasts.ca
SUMMARY:Hike in Hillsborough on the dikes
DESCRIPTION:Hike in Hillsborough on the dikes 6-7km. Option to include an extra 2km with a walk around Braybrook Marsh trail.  Rated as Easy.  Meet at parking lot off of Steeves St\, Hillsborough (behind Canada Post building) at 10:00AM. New hikers or anyone requiring more information\, please contact Marilyn at 506-386-6579.
URL:https://monctonoutdoorenthusiasts.ca/event/draft-hike-in-hillsborough-on-the-dikes/
CATEGORIES:Easy
ORGANIZER;CN="Marilyn Leblanc":MAILTO:ralph5@bellaliant.net
END:VEVENT
BEGIN:VEVENT
DTSTART;TZID=America/Moncton:20240905T183000
DTEND;TZID=America/Moncton:20240905T183000
DTSTAMP:20260422T200159
CREATED:20240508T120609Z
LAST-MODIFIED:20240915T201040Z
UID:10000668-1725561000-1725561000@monctonoutdoorenthusiasts.ca
SUMMARY:Thursday Night Social Bike Rides
DESCRIPTION:Social Bike Ride ~15-20km km Meet at 6:30pm\, La Bikery 120 Assumption Blvd. Rides will be cancelled if it is raining. Contact: Julian 506-830-66463
URL:https://monctonoutdoorenthusiasts.ca/event/thursday-night-social-bike-rides/2024-09-05/
ORGANIZER;CN="Julian Screawn":MAILTO:screawn@hotmail.com
END:VEVENT
BEGIN:VEVENT
DTSTART;TZID=America/Moncton:20240907T090000
DTEND;TZID=America/Moncton:20240907T143000
DTSTAMP:20260422T200159
CREATED:20210928T091542Z
LAST-MODIFIED:20240906T174035Z
UID:10000357-1725699600-1725719400@monctonoutdoorenthusiasts.ca
SUMMARY:CANCELLED (Heavy Rain) - Green Snake Trail in Alma
DESCRIPTION:Cancelled due to Heavy Rain forecasted for Alma Area.\nGreen Snake Trail… Alma..Easy to Moderate Paced Hike. 10 Km …3 Hrs 5 Km in.. 5 km out.\nMeet at Fox Field – 893 Hillsborough Rd at 9:00 AM  OR – 10:00AM at the public parking lot – School St..Alma ..Behind the ALMA BOATHOUSE restaurant. Contact Brian 506 377 8436
URL:https://monctonoutdoorenthusiasts.ca/event/green-snake-trail-in-alma/
CATEGORIES:Moderate
END:VEVENT
BEGIN:VEVENT
DTSTART;TZID=America/Moncton:20240908T130000
DTEND;TZID=America/Moncton:20240908T170000
DTSTAMP:20260422T200159
CREATED:20221214T210217Z
LAST-MODIFIED:20240701T233729Z
UID:10000462-1725800400-1725814800@monctonoutdoorenthusiasts.ca
SUMMARY:Two Bridges Loop
DESCRIPTION:Two Bridges – Riverview….Easy( one fairly steep hill at end of hike)…8-9 KM…2-3 Hrs  Meet at Brian’s home…81 Old Coach Rd – Riverview at 1:00 PM..( Lots of on street parking ) Hike down Gunningsville Blvd\, viewing Moncton’s growing City Scape..Hike between bridges\, returning up Gunningsville Blvd or more challenging- Rivercrest St.\nContact Brian…506 377 8436\n 
URL:https://monctonoutdoorenthusiasts.ca/event/two-bridges-40th-anniversary-training-walk/
CATEGORIES:Easy
END:VEVENT
BEGIN:VEVENT
DTSTART;TZID=America/Moncton:20240912T183000
DTEND;TZID=America/Moncton:20240912T183000
DTSTAMP:20260422T200159
CREATED:20240508T120609Z
LAST-MODIFIED:20240915T201040Z
UID:10000670-1726165800-1726165800@monctonoutdoorenthusiasts.ca
SUMMARY:Thursday Night Social Bike Rides
DESCRIPTION:Social Bike Ride ~15-20km km Meet at 6:30pm\, La Bikery 120 Assumption Blvd. Rides will be cancelled if it is raining. Contact: Julian 506-830-66463
URL:https://monctonoutdoorenthusiasts.ca/event/thursday-night-social-bike-rides/2024-09-12/
ORGANIZER;CN="Julian Screawn":MAILTO:screawn@hotmail.com
END:VEVENT
END:VCALENDAR