BEGIN:VCALENDAR
VERSION:2.0
PRODID:-//Moncton Outdoor Enthusiasts - ECPv6.15.20//NONSGML v1.0//EN
CALSCALE:GREGORIAN
METHOD:PUBLISH
X-WR-CALNAME:Moncton Outdoor Enthusiasts
X-ORIGINAL-URL:https://monctonoutdoorenthusiasts.ca
X-WR-CALDESC:Events for Moncton Outdoor Enthusiasts
REFRESH-INTERVAL;VALUE=DURATION:PT1H
X-Robots-Tag:noindex
X-PUBLISHED-TTL:PT1H
BEGIN:VTIMEZONE
TZID:America/Moncton
BEGIN:DAYLIGHT
TZOFFSETFROM:-0400
TZOFFSETTO:-0300
TZNAME:ADT
DTSTART:20220313T060000
END:DAYLIGHT
BEGIN:STANDARD
TZOFFSETFROM:-0300
TZOFFSETTO:-0400
TZNAME:AST
DTSTART:20221106T050000
END:STANDARD
BEGIN:DAYLIGHT
TZOFFSETFROM:-0400
TZOFFSETTO:-0300
TZNAME:ADT
DTSTART:20230312T060000
END:DAYLIGHT
BEGIN:STANDARD
TZOFFSETFROM:-0300
TZOFFSETTO:-0400
TZNAME:AST
DTSTART:20231105T050000
END:STANDARD
BEGIN:DAYLIGHT
TZOFFSETFROM:-0400
TZOFFSETTO:-0300
TZNAME:ADT
DTSTART:20240310T060000
END:DAYLIGHT
BEGIN:STANDARD
TZOFFSETFROM:-0300
TZOFFSETTO:-0400
TZNAME:AST
DTSTART:20241103T050000
END:STANDARD
END:VTIMEZONE
BEGIN:VEVENT
DTSTART;TZID=America/Moncton:20230928T180000
DTEND;TZID=America/Moncton:20230928T193000
DTSTAMP:20260424T175006
CREATED:20220411T091321Z
LAST-MODIFIED:20230907T173752Z
UID:10000532-1695924000-1695929400@monctonoutdoorenthusiasts.ca
SUMMARY:Social Bike Ride
DESCRIPTION:Social Bike Ride ~15-20km km Meet at 6:00pm\, La Bikery 120 Assumption Blvd. Ride will be cancelled if it is raining. Contact: Julian 506-830-66463
URL:https://monctonoutdoorenthusiasts.ca/event/social-bike-ride-7/2023-09-28/
CATEGORIES:Moderate
ORGANIZER;CN="Mhamed":MAILTO:moe.belkhodja@gmail.com
END:VEVENT
BEGIN:VEVENT
DTSTART;TZID=America/Moncton:20230921T180000
DTEND;TZID=America/Moncton:20230921T193000
DTSTAMP:20260424T175006
CREATED:20220411T091321Z
LAST-MODIFIED:20230907T173752Z
UID:10000531-1695319200-1695324600@monctonoutdoorenthusiasts.ca
SUMMARY:Social Bike Ride
DESCRIPTION:Social Bike Ride ~15-20km km Meet at 6:00pm\, La Bikery 120 Assumption Blvd. Ride will be cancelled if it is raining. Contact: Julian 506-830-66463
URL:https://monctonoutdoorenthusiasts.ca/event/social-bike-ride-7/2023-09-21/
CATEGORIES:Moderate
ORGANIZER;CN="Mhamed":MAILTO:moe.belkhodja@gmail.com
END:VEVENT
BEGIN:VEVENT
DTSTART;TZID=America/Moncton:20230921T094500
DTEND;TZID=America/Moncton:20230921T153000
DTSTAMP:20260424T175006
CREATED:20230920T190739Z
LAST-MODIFIED:20230920T190739Z
UID:10000566-1695289500-1695310200@monctonoutdoorenthusiasts.ca
SUMMARY:Bike ride in Kouchibouguac National Park
DESCRIPTION:Bike ride in Kouchibouguac National Park.  Meet at the Irving Station\, Champlain/Paul St\, Dieppe at 9:45am or 11:00am at KNP Visitor Center. Please contact Ted (506)852-0976 if meeting at Kouchibouguac National Park. \nModerate.  Bring lunch & water \n  \n 
URL:https://monctonoutdoorenthusiasts.ca/event/bike-ride-in-kouchibouguac-national-park/
CATEGORIES:Moderate
ORGANIZER;CN="Ted Harrison":MAILTO:tedalice27@yahoo.ca
END:VEVENT
BEGIN:VEVENT
DTSTART;TZID=America/Moncton:20230914T180000
DTEND;TZID=America/Moncton:20230914T193000
DTSTAMP:20260424T175006
CREATED:20220411T091321Z
LAST-MODIFIED:20230907T173752Z
UID:10000530-1694714400-1694719800@monctonoutdoorenthusiasts.ca
SUMMARY:Social Bike Ride
DESCRIPTION:Social Bike Ride ~15-20km km Meet at 6:00pm\, La Bikery 120 Assumption Blvd. Ride will be cancelled if it is raining. Contact: Julian 506-830-66463
URL:https://monctonoutdoorenthusiasts.ca/event/social-bike-ride-7/2023-09-14/
CATEGORIES:Moderate
ORGANIZER;CN="Mhamed":MAILTO:moe.belkhodja@gmail.com
END:VEVENT
BEGIN:VEVENT
DTSTART;TZID=America/Moncton:20230907T180000
DTEND;TZID=America/Moncton:20230907T193000
DTSTAMP:20260424T175006
CREATED:20220411T091321Z
LAST-MODIFIED:20230907T173752Z
UID:10000529-1694109600-1694115000@monctonoutdoorenthusiasts.ca
SUMMARY:Social Bike Ride
DESCRIPTION:Social Bike Ride ~15-20km km Meet at 6:00pm\, La Bikery 120 Assumption Blvd. Ride will be cancelled if it is raining. Contact: Julian 506-830-66463
URL:https://monctonoutdoorenthusiasts.ca/event/social-bike-ride-7/2023-09-07/
CATEGORIES:Moderate
ORGANIZER;CN="Mhamed":MAILTO:moe.belkhodja@gmail.com
END:VEVENT
BEGIN:VEVENT
DTSTART;TZID=America/Moncton:20230902T090000
DTEND;TZID=America/Moncton:20230902T170000
DTSTAMP:20260424T175006
CREATED:20230802T005933Z
LAST-MODIFIED:20230802T011029Z
UID:10000520-1693645200-1693674000@monctonoutdoorenthusiasts.ca
SUMMARY:Hike in the Parrsboro Area
DESCRIPTION:Hike Partridge Island for the view of the Minas Channel and to the lighthouse at Cape Sharp. Moderate plus due to elevation change\, some climbing 4-6km. Meet at the Irving Station\, 64 Champlain St\, Dieppe at 9:00 am or Amherst Centre Mall at 9:40 am.Contact Merlin at 902-667-8224.
URL:https://monctonoutdoorenthusiasts.ca/event/hike-in-the-parrsboro-area/
CATEGORIES:Moderate-Strenuous
END:VEVENT
BEGIN:VEVENT
DTSTART;TZID=America/Moncton:20230831T180000
DTEND;TZID=America/Moncton:20230831T193000
DTSTAMP:20260424T175006
CREATED:20220411T091321Z
LAST-MODIFIED:20230907T173752Z
UID:10000528-1693504800-1693510200@monctonoutdoorenthusiasts.ca
SUMMARY:Social Bike Ride
DESCRIPTION:Social Bike Ride ~15-20km km Meet at 6:00pm\, La Bikery 120 Assumption Blvd. Ride will be cancelled if it is raining. Contact: Julian 506-830-66463
URL:https://monctonoutdoorenthusiasts.ca/event/social-bike-ride-7/2023-08-31/
CATEGORIES:Moderate
ORGANIZER;CN="Mhamed":MAILTO:moe.belkhodja@gmail.com
END:VEVENT
BEGIN:VEVENT
DTSTART;TZID=America/Moncton:20230824T180000
DTEND;TZID=America/Moncton:20230824T193000
DTSTAMP:20260424T175006
CREATED:20220411T091321Z
LAST-MODIFIED:20230907T173752Z
UID:10000527-1692900000-1692905400@monctonoutdoorenthusiasts.ca
SUMMARY:Social Bike Ride
DESCRIPTION:Social Bike Ride ~15-20km km Meet at 6:00pm\, La Bikery 120 Assumption Blvd. Ride will be cancelled if it is raining. Contact: Julian 506-830-66463
URL:https://monctonoutdoorenthusiasts.ca/event/social-bike-ride-7/2023-08-24/
CATEGORIES:Moderate
ORGANIZER;CN="Mhamed":MAILTO:moe.belkhodja@gmail.com
END:VEVENT
BEGIN:VEVENT
DTSTART;TZID=America/Moncton:20230819T090000
DTEND;TZID=America/Moncton:20230819T170000
DTSTAMP:20260424T175006
CREATED:20230731T144939Z
LAST-MODIFIED:20230731T144939Z
UID:10000517-1692435600-1692464400@monctonoutdoorenthusiasts.ca
SUMMARY:Foster Brook Trail
DESCRIPTION:On Saturday August 19th Paul will lead a hike in FNP on the Foster Brook Trail. This hike would be a strenuous loop starting at Hueston Brook and finishing at Hueston Brook. Perhaps 12 Km. A river crossing will happen so bring water shoes/old sneakers etc. Meet time at 9:00 at Fox field or park Info center at 10:00. Beautiful hike. Better call Paul at 506-588-3034 or 506-381-0397.
URL:https://monctonoutdoorenthusiasts.ca/event/foster-brook-trail/
CATEGORIES:Moderate-Strenuous
END:VEVENT
BEGIN:VEVENT
DTSTART;TZID=America/Moncton:20230817T180000
DTEND;TZID=America/Moncton:20230817T193000
DTSTAMP:20260424T175006
CREATED:20220411T091321Z
LAST-MODIFIED:20230907T173752Z
UID:10000526-1692295200-1692300600@monctonoutdoorenthusiasts.ca
SUMMARY:Social Bike Ride
DESCRIPTION:Social Bike Ride ~15-20km km Meet at 6:00pm\, La Bikery 120 Assumption Blvd. Ride will be cancelled if it is raining. Contact: Julian 506-830-66463
URL:https://monctonoutdoorenthusiasts.ca/event/social-bike-ride-7/2023-08-17/
CATEGORIES:Moderate
ORGANIZER;CN="Mhamed":MAILTO:moe.belkhodja@gmail.com
END:VEVENT
BEGIN:VEVENT
DTSTART;TZID=America/Moncton:20230810T180000
DTEND;TZID=America/Moncton:20230810T193000
DTSTAMP:20260424T175006
CREATED:20220411T091321Z
LAST-MODIFIED:20230907T173752Z
UID:10000324-1691690400-1691695800@monctonoutdoorenthusiasts.ca
SUMMARY:Social Bike Ride
DESCRIPTION:Social Bike Ride ~15-20km km Meet at 6:00pm\, La Bikery 120 Assumption Blvd. Ride will be cancelled if it is raining. Contact: Julian 506-830-66463
URL:https://monctonoutdoorenthusiasts.ca/event/social-bike-ride-7/2023-08-10/
CATEGORIES:Moderate
ORGANIZER;CN="Mhamed":MAILTO:moe.belkhodja@gmail.com
END:VEVENT
BEGIN:VEVENT
DTSTART;TZID=America/Moncton:20230803T173000
DTEND;TZID=America/Moncton:20230803T200000
DTSTAMP:20260424T175006
CREATED:20230730T214847Z
LAST-MODIFIED:20230730T214921Z
UID:10000516-1691083800-1691092800@monctonoutdoorenthusiasts.ca
SUMMARY:Social Bike Ride in Shediac this Thursday
DESCRIPTION:Thursday August 3rd. Meet at the big Lobster in Shediac at 6:00 pm or at 5:30pm at La Bikery\, 120 Assumption Blvd (if you need a ride and someone to take your bike). About 20km distance. There will likely be someone who can take your bike if you dont have a carrier on your car. Just message me if you need someone to take your bike from La Bikery to Shediac.  \nContact: Julian at 506-830-6463
URL:https://monctonoutdoorenthusiasts.ca/event/social-bike-ride-in-shediac-this-thursday/
CATEGORIES:Moderate
ORGANIZER;CN="Julian Screawn":MAILTO:screawn@hotmail.com
END:VEVENT
BEGIN:VEVENT
DTSTART;TZID=America/Moncton:20230723T090000
DTEND;TZID=America/Moncton:20230723T163000
DTSTAMP:20260424T175006
CREATED:20230619T124019Z
LAST-MODIFIED:20230719T155044Z
UID:10000511-1690102800-1690129800@monctonoutdoorenthusiasts.ca
SUMMARY:Explore Nature's Bounty with Heather Fraser
DESCRIPTION:CANCELLED due to a Family Health Matter \nPlease accept our special invitation from Heather Fraser\, of Explore Nature’s Bounty\, for a private guided interpretive hike on family property in Hidden Valley from her camp – highlighting family history (five generations) \, flora and fauna of the area\, with many stops along the way showcasing the valley she has explored for over five decades. Many know Friars Nose and the Amphitheatre although not in the same intimate way Heather does as both these attractions cross the Arnold family property. \nMeet at Centennial Dog Parking lot at 9:00AM or at Parlee Brook Road at 9:50AM.  Bring your lunch and water. \nOn the request of Heather\, please bring food items to donate to our local area food bank. \nMore details to come.
URL:https://monctonoutdoorenthusiasts.ca/event/explore-natures-bounty-with-heather-fraser/
LOCATION:Parlee Brook
ORGANIZER;CN="Kevin Dunphy":MAILTO:dunpke@gmail.com
END:VEVENT
BEGIN:VEVENT
DTSTART;TZID=America/Moncton:20230722T090000
DTEND;TZID=America/Moncton:20230722T090000
DTSTAMP:20260424T175006
CREATED:20230226T003015Z
LAST-MODIFIED:20230721T235702Z
UID:10000478-1690016400-1690016400@monctonoutdoorenthusiasts.ca
SUMMARY:CANCEL due to ongoing thunderstorms risk/ Fundy National Park/ Laverty and Moosehorn loop
DESCRIPTION:CANCEL due to ongoing thunderstorms risk//Hike Laverty Falls then up loop Moosehorn Trail (2.5 km + 4.5km) moderate to difficult. Lunch and maybe a swim  at one of the waterfalls. Meet at Foxfield (Baseball field) at 893 Hillsborough Road\, Riverview at 9ham or Park Headquarters at 10h. Contact Ginette.
URL:https://monctonoutdoorenthusiasts.ca/event/fundy-national-park-laverty-and-moosehorn-loop/
CATEGORIES:Moderate-Strenuous
END:VEVENT
BEGIN:VEVENT
DTSTART;TZID=America/Moncton:20230721T080000
DTEND;TZID=America/Moncton:20230724T170000
DTSTAMP:20260424T175006
CREATED:20230329T000517Z
LAST-MODIFIED:20230329T000517Z
UID:10000496-1689926400-1690218000@monctonoutdoorenthusiasts.ca
SUMMARY:PEI Cycling weekend
DESCRIPTION:
URL:https://monctonoutdoorenthusiasts.ca/event/pei-cycling-weekend/
ORGANIZER;CN="Julian Screawn":MAILTO:screawn@hotmail.com
END:VEVENT
BEGIN:VEVENT
DTSTART;TZID=America/Moncton:20230713T183000
DTEND;TZID=America/Moncton:20230713T200000
DTSTAMP:20260424T175006
CREATED:20210929T110708Z
LAST-MODIFIED:20230711T194015Z
UID:10000366-1689273000-1689278400@monctonoutdoorenthusiasts.ca
SUMMARY:Social Bike Ride
DESCRIPTION:Social Bike Ride ~12km Meet at 6:30pm\, La Bikery 120 Assumption \nBlvd. Contact: Julian 830-6463.
URL:https://monctonoutdoorenthusiasts.ca/event/social-bike-ride-3/
LOCATION:La Bikery\, 120 Assumption Blvd.\, Moncton\, New Brunswick\, Canada
CATEGORIES:Moderate
ORGANIZER;CN="Julian Screawn":MAILTO:screawn@hotmail.com
END:VEVENT
BEGIN:VEVENT
DTSTART;TZID=America/Moncton:20230708T080000
DTEND;TZID=America/Moncton:20230716T170000
DTSTAMP:20260424T175006
CREATED:20230319T130203Z
LAST-MODIFIED:20230319T130203Z
UID:10000495-1688803200-1689526800@monctonoutdoorenthusiasts.ca
SUMMARY:Annual Camping Trip 2023 - Gaspésie\, Québec
DESCRIPTION:Join us for a week of camping and hiking at the Parc national de la Gaspésie national park in Québec from July 8 to 16 2023. For additional information contact: \nPhil 902-432-0050 \nJocelyne 506-850-9894
URL:https://monctonoutdoorenthusiasts.ca/event/annual-camping-trip-2023-gaspesie-quebec/
END:VEVENT
BEGIN:VEVENT
DTSTART;TZID=America/Moncton:20230708T080000
DTEND;TZID=America/Moncton:20230708T170000
DTSTAMP:20260424T175006
CREATED:20230707T005151Z
LAST-MODIFIED:20230707T005151Z
UID:10000513-1688803200-1688835600@monctonoutdoorenthusiasts.ca
SUMMARY:Fundy Trail Parkway
DESCRIPTION:I will put on a hike on the Fundy Trail Parkway on Sat. June 8th. This will involve moving cars. 10 kms. along the Fundy Coast. Rated moderate to strenuous depending on the heat\, which should be moderate along the coast. This is the original and manicured trail\, so no roots rocks etc. The beach is beautiful and Fuller Falls should be flowing powerfully. \nMeet time at Fox Field at 9:00 or 10:00 at FNP Info Centre where we will leave and go through the park to the Fundy Trail access road just after leaving the park. There will be an admission charge which is less if we have at least 12 for a group rate. The alternate route would be to go to Sussex Corner and by Adair’s\, but we need to arrive at the same time if we are 12 to get the rate.\nBetter call Paul 506-588-3034.
URL:https://monctonoutdoorenthusiasts.ca/event/fundy-trail-parkway/
CATEGORIES:Moderate-Strenuous
END:VEVENT
BEGIN:VEVENT
DTSTART;TZID=America/Moncton:20230701T100000
DTEND;TZID=America/Moncton:20230701T170000
DTSTAMP:20260424T175006
CREATED:20230630T131637Z
LAST-MODIFIED:20230630T131637Z
UID:10000512-1688205600-1688230800@monctonoutdoorenthusiasts.ca
SUMMARY:Mathew's Head Loop
DESCRIPTION:We are gonna do Mathew’s Head Loop on Saturday July 1st and then mess around in Alma for the festivities\, should be officially posted shortly if it isn’t already. Tiny bits of rain forecasted but we should be fine. Meet at 10:00 at Fox Field in Point Park or FNP Info centre at 11:00. Rated moderate.\nBetter call Paul\,\n588-3034
URL:https://monctonoutdoorenthusiasts.ca/event/mathews-head-loop/
CATEGORIES:Moderate
END:VEVENT
BEGIN:VEVENT
DTSTART;TZID=America/Moncton:20230629T180000
DTEND;TZID=America/Moncton:20230629T180000
DTSTAMP:20260424T175006
CREATED:20220411T090816Z
LAST-MODIFIED:20230613T185202Z
UID:10000321-1688061600-1688061600@monctonoutdoorenthusiasts.ca
SUMMARY:Social Bike Ride
DESCRIPTION:Social Bike Ride ~15-20km km Meet at 6:00pm\, La Bikery 120 Assumption Blvd. Ride will be cancelled if it is raining. Contact: Mhamed at moe.belkhodja@gmail.com
URL:https://monctonoutdoorenthusiasts.ca/event/social-bike-ride-4/
CATEGORIES:Moderate
ORGANIZER;CN="Mhamed":MAILTO:moe.belkhodja@gmail.com
END:VEVENT
BEGIN:VEVENT
DTSTART;TZID=America/Moncton:20230625T100000
DTEND;TZID=America/Moncton:20230625T170000
DTSTAMP:20260424T175006
CREATED:20220408T104113Z
LAST-MODIFIED:20230228T000236Z
UID:10000419-1687687200-1687712400@monctonoutdoorenthusiasts.ca
SUMMARY:Pink Rock
DESCRIPTION:Hike to Pink Rock. Moderate\, 8 km. Meet at the Irving Station\, 64 Champlain St\, Dieppe at 10:00 am. Contact Paul at 588-3034.
URL:https://monctonoutdoorenthusiasts.ca/event/draft-pink-rock/
CATEGORIES:Easy-Moderate
END:VEVENT
BEGIN:VEVENT
DTSTART;TZID=America/Moncton:20230624T080000
DTEND;TZID=America/Moncton:20230624T170000
DTSTAMP:20260424T175006
CREATED:20230501T230237Z
LAST-MODIFIED:20230501T230237Z
UID:10000506-1687593600-1687626000@monctonoutdoorenthusiasts.ca
SUMMARY:Eatonville to Green Point in Cape Chignecto Provincial Park
DESCRIPTION:Hike from Eatonville to Green Point in Cape Chignecto Provincial Park.  Moderate to Strenuous 12kms\nMeet at Irving Station at 8:30 or at Amherst Center Mall at 9:25\nContact Merlin 902-667-8224
URL:https://monctonoutdoorenthusiasts.ca/event/eatonville-to-green-point-in-cape-chignecto-provincial-park/
CATEGORIES:Moderate-Strenuous
END:VEVENT
BEGIN:VEVENT
DTSTART;TZID=America/Moncton:20230622T180000
DTEND;TZID=America/Moncton:20230622T180000
DTSTAMP:20260424T175006
CREATED:20220411T090925Z
LAST-MODIFIED:20230613T185112Z
UID:10000322-1687456800-1687456800@monctonoutdoorenthusiasts.ca
SUMMARY:Social Bike Ride
DESCRIPTION:Social Bike Ride ~15-20km km Meet at 6:00pm\, La Bikery 120 Assumption Blvd. Ride will be cancelled if it is raining. Contact: Mhamed at moe.belkhodja@gmail.com
URL:https://monctonoutdoorenthusiasts.ca/event/social-bike-ride-5/
CATEGORIES:Moderate
ORGANIZER;CN="Mhamed":MAILTO:moe.belkhodja@gmail.com
END:VEVENT
BEGIN:VEVENT
DTSTART;TZID=America/Moncton:20230617T103000
DTEND;TZID=America/Moncton:20230618T170000
DTSTAMP:20260424T175006
CREATED:20230227T235323Z
LAST-MODIFIED:20230227T235323Z
UID:10000485-1686997800-1687107600@monctonoutdoorenthusiasts.ca
SUMMARY:Weekend PEI hikes
DESCRIPTION:Two days of hiking on PEI. Two hikes will take place in the Cavendish/New London area and the first hike in Bonshaw.  The first walk is in Bonshaw on the south side of the island and this will be your arrival day (Jun 17). Allow at least 45 min on the PEI side of the bridge to arrive. Drive right to the trail head and meeting point of a 10:30 am start.\nSecond (Jun 17 2:30 pm) and third walk (Jun 18 10:30 am) are in the north shore area near Cavendish and French River.\n\nContact Ruth Henderson for Motel suggestions and trail descriptions.\n\nigotdawalk@hotmail.com\n902-439-1577
URL:https://monctonoutdoorenthusiasts.ca/event/weekend-pei-hikes/
END:VEVENT
BEGIN:VEVENT
DTSTART;TZID=America/Moncton:20230611T100000
DTEND;TZID=America/Moncton:20230611T170000
DTSTAMP:20260424T175006
CREATED:20230510T163128Z
LAST-MODIFIED:20230609T175852Z
UID:10000509-1686477600-1686502800@monctonoutdoorenthusiasts.ca
SUMMARY:Tantramar Marsh Walk
DESCRIPTION:Tantramar Marsh walk from the Irving in Aulac down on the marsh eventually passing Fort Beausejour then on to the Duck’s Unlimited House and then back to cars. Then of course to Trueman’s for homemade ice cream. \nMeet at Irving In Dieppe (lord I hate that meeting place) at 10:00 or at the Aulac Big Stop at 10:45.\nRated moderate due to length (maybe 10 to 12 Kms).\nBetter call Paul @ 506-588-3034 or 506-381-0397.
URL:https://monctonoutdoorenthusiasts.ca/event/nb-trails-day-hike/
CATEGORIES:Moderate
END:VEVENT
BEGIN:VEVENT
DTSTART;TZID=America/Moncton:20230527T080000
DTEND;TZID=America/Moncton:20230527T170000
DTSTAMP:20260424T175006
CREATED:20230228T001531Z
LAST-MODIFIED:20230517T161815Z
UID:10000487-1685174400-1685206800@monctonoutdoorenthusiasts.ca
SUMMARY:Twin Bridges 40th Anniversary Event
DESCRIPTION:42km Walk. Meet at the Chocolate River Station\, 391 Coverdale Rd at 9:00AM. \nThis month\, May 27th we kick off our 40th anniversary with the Twin Bridges 42km bike and walk event. Six laps of 7km. Come out and cheer on Bill Mayo\, or walk a lap with Bill Mayo as he attempts the 42km. He turned 90 this month. The Event starts at 9am and finishes with drinks and prizes at 7pm at the Holy Whale (Chocolate Station in Riverview). \nCome out anytime during the day and do one lap or all six. Complete one lap walking\, or two laps biking or volunteer at the event to be eligible to put your name in a draw for prizes. The first two finishers of the 42k who do it on foot will receive prizes and be eligible for the draw. We have reserved the Holy Whale for 7:00p.m. (Riverview Chocolate River). Come out for a drink or two with your fellow Enthusiasts\, even if you cant make the event during the day. Prizes will be drawn at the Holy Whale. \nContact Julian at 506-830-6463
URL:https://monctonoutdoorenthusiasts.ca/event/twin-bridges-40th-anniversary-event/
CATEGORIES:Strenuous
END:VEVENT
BEGIN:VEVENT
DTSTART;TZID=America/Moncton:20230513T120000
DTEND;TZID=America/Moncton:20230513T143000
DTSTAMP:20260424T175006
CREATED:20230424T235210Z
LAST-MODIFIED:20230424T235256Z
UID:10000504-1683979200-1683988200@monctonoutdoorenthusiasts.ca
SUMMARY:Bill Mayo - Going 90!
DESCRIPTION:Bill Mayo is turning 90 years of age on May 13 2024.  Bill and his family will be hosting an open house at Mount Royal United Church\, 106 Mt Royal Blvd\, Moncton\, NB E1E 2V2 on May 13th from 12:00PM – 2:30PM.  Please take some time on this important day to share in this amazing milestone for Bill. \nIf you further details\, please contact Kevin Dunphy at (506) 871-4457. \n 
URL:https://monctonoutdoorenthusiasts.ca/event/bill-mayo-going-90/
ORGANIZER;CN="Kevin Dunphy":MAILTO:dunpke@gmail.com
END:VEVENT
BEGIN:VEVENT
DTSTART;TZID=America/Moncton:20230511T170000
DTEND;TZID=America/Moncton:20230511T235900
DTSTAMP:20260424T175006
CREATED:20230314T234004Z
LAST-MODIFIED:20230510T010628Z
UID:10000493-1683824400-1683849540@monctonoutdoorenthusiasts.ca
SUMMARY:Thursday Social Walk
DESCRIPTION:Meet at YMCA Vaughan Harvey\, 30 War Veterans Avenue at 6:30pm\, Easy 7km -10km.  Contact Julian 506-830-6463
URL:https://monctonoutdoorenthusiasts.ca/event/thursday-social-walk-16th-march/
ORGANIZER;CN="Julian Screawn":MAILTO:screawn@hotmail.com
END:VEVENT
BEGIN:VEVENT
DTSTART;TZID=America/Moncton:20230510T130000
DTEND;TZID=America/Moncton:20230510T163000
DTSTAMP:20260424T175006
CREATED:20230510T123748Z
LAST-MODIFIED:20230510T123748Z
UID:10000508-1683723600-1683736200@monctonoutdoorenthusiasts.ca
SUMMARY:Hike from Levi to Smith road (Dobson Trail) and return
DESCRIPTION:What’s better than a walk in the wood this afternoon.  Walk from Levi to Smith road and return (light trail clean-up).  Meet us at the Dobson Trail Head (second parking lot) at 1:00PM.  About 8 KM -Moderate \nTed 506-852-0976
URL:https://monctonoutdoorenthusiasts.ca/event/hike-from-levi-to-smith-road-dobson-trail-and-return/
ORGANIZER;CN="Ted Harrison":MAILTO:tedalice27@yahoo.ca
END:VEVENT
BEGIN:VEVENT
DTSTART;TZID=America/Moncton:20230426T131500
DTEND;TZID=America/Moncton:20230426T160000
DTSTAMP:20260424T175006
CREATED:20230426T002517Z
LAST-MODIFIED:20230426T002517Z
UID:10000505-1682514900-1682524800@monctonoutdoorenthusiasts.ca
SUMMARY:Hike Stoney Creek area.
DESCRIPTION:Hike in the Stoney Creek area.  Meet at the second parking lot at the Dobson Trail Head in Riverview at 1:15 PM.  Approximate 8 km – Moderate \nTed (506)852-0976
URL:https://monctonoutdoorenthusiasts.ca/event/hike-stoney-creek-area/
CATEGORIES:Moderate
ORGANIZER;CN="Ted Harrison":MAILTO:tedalice27@yahoo.ca
END:VEVENT
END:VCALENDAR