BEGIN:VCALENDAR
VERSION:2.0
PRODID:-//Moncton Outdoor Enthusiasts - ECPv6.15.20//NONSGML v1.0//EN
CALSCALE:GREGORIAN
METHOD:PUBLISH
X-WR-CALNAME:Moncton Outdoor Enthusiasts
X-ORIGINAL-URL:https://monctonoutdoorenthusiasts.ca
X-WR-CALDESC:Events for Moncton Outdoor Enthusiasts
REFRESH-INTERVAL;VALUE=DURATION:PT1H
X-Robots-Tag:noindex
X-PUBLISHED-TTL:PT1H
BEGIN:VTIMEZONE
TZID:America/Moncton
BEGIN:DAYLIGHT
TZOFFSETFROM:-0400
TZOFFSETTO:-0300
TZNAME:ADT
DTSTART:20230312T060000
END:DAYLIGHT
BEGIN:STANDARD
TZOFFSETFROM:-0300
TZOFFSETTO:-0400
TZNAME:AST
DTSTART:20231105T050000
END:STANDARD
BEGIN:DAYLIGHT
TZOFFSETFROM:-0400
TZOFFSETTO:-0300
TZNAME:ADT
DTSTART:20240310T060000
END:DAYLIGHT
BEGIN:STANDARD
TZOFFSETFROM:-0300
TZOFFSETTO:-0400
TZNAME:AST
DTSTART:20241103T050000
END:STANDARD
BEGIN:DAYLIGHT
TZOFFSETFROM:-0400
TZOFFSETTO:-0300
TZNAME:ADT
DTSTART:20250309T060000
END:DAYLIGHT
BEGIN:STANDARD
TZOFFSETFROM:-0300
TZOFFSETTO:-0400
TZNAME:AST
DTSTART:20251102T050000
END:STANDARD
END:VTIMEZONE
BEGIN:VEVENT
DTSTART;TZID=America/Moncton:20240601T090000
DTEND;TZID=America/Moncton:20240601T170000
DTSTAMP:20260422T093113
CREATED:20230823T141134Z
LAST-MODIFIED:20240530T103403Z
UID:10000479-1717232400-1717261200@monctonoutdoorenthusiasts.ca
SUMMARY:Fundy Trail Parkway: Big Salmon River to Seely Beach
DESCRIPTION:Hike from Fundy Trail Parkway Interpretive Center to Seely Beach.  Distance of 8.5km.  Rated as Strenuous.  Experienced\, fit hikers please.   Shuttling of vehicles is a requirement. Entrance fee to Fundy Trail Provincial Park is a requirement. Adults – $14.00.  Seniors (65+) – $12.00.  Meet at Centennial Park by Dog Park at 9:00AM\,  Fundy National Park Interpretive Center at 10:00AM\, or at Fundy Trail Provincial Park East Gate at 10:40AM. Contact Paul at 506-381-0397. \n  \nGoogle Plus Codes \nCentennial Dog Park – 35MJ+H7 Moncton\, New Brunswick \nFundy National Park – Visitor Center – H2WX+6M Alma\, New Brunswick \nFundy Trail Parkway – East Gate – GM2J+F2J Little Salmon River West\, New Brunswick \nFundy Trail Interpretive Center – CHCW+H7 Salmon River\, New Brunswick
URL:https://monctonoutdoorenthusiasts.ca/event/big-salmon-river-to-seely-beach-fundy-trail-parkway/
LOCATION:NB
CATEGORIES:Moderate
END:VEVENT
BEGIN:VEVENT
DTSTART;TZID=America/Moncton:20240606T183000
DTEND;TZID=America/Moncton:20240606T183000
DTSTAMP:20260422T093113
CREATED:20240508T120609Z
LAST-MODIFIED:20240915T201040Z
UID:10000642-1717698600-1717698600@monctonoutdoorenthusiasts.ca
SUMMARY:Thursday Night Social Bike Rides
DESCRIPTION:Social Bike Ride ~15-20km km Meet at 6:30pm\, La Bikery 120 Assumption Blvd. Rides will be cancelled if it is raining. Contact: Julian 506-830-66463
URL:https://monctonoutdoorenthusiasts.ca/event/thursday-night-social-bike-rides/2024-06-06/
LOCATION:NB
ORGANIZER;CN="Julian Screawn":MAILTO:screawn@hotmail.com
END:VEVENT
BEGIN:VEVENT
DTSTART;TZID=America/Moncton:20240608T090000
DTEND;TZID=America/Moncton:20240608T170000
DTSTAMP:20260422T093113
CREATED:20211208T130437Z
LAST-MODIFIED:20240523T223721Z
UID:10000237-1717837200-1717866000@monctonoutdoorenthusiasts.ca
SUMMARY:Third Vault Falls/Kinnie Brook
DESCRIPTION:Hike Third Vault Falls in Fundy National Park. 7.4km return.  Hike will be at a moderate pace with rest stops.  Trail is rated as Moderate with steep descent to falls.  Enjoy lunch at the base of the falls. Following return to vehicles\, drive ~3.7km to Kinnie Brook Trailhead parking ().  Kinnie Brook trail is a well-maintained trail leading through the calm and pleasant woods as it approaches Kinnie Brook. Wooden stairways lead down to the waterway and a nice viewpoint. Moderate pace on trail rated as Easy.  Meet at the Fox Field (Baseball field) at 893 Hillsborough Road\, Riverview at 9:00AM or a Fundy Park Headquarters at 10:00AM. New hikers or anyone requiring information\, please contact Brian at 506-377-8436. \nGoogle Map Plus Codes – \nFox Field – 3784+7V Riverview\, New Brunswick \nFundy Park Headquarters – H2WX+793 Alma Parish\, New Brunswick \nThird Vault Trailhead Parking – JXFF+VFQ Alma Parish\, New Brunswick \nKinnie Brook Trailhead Parking – J242+FH Alma\, New Brunswick \n 
URL:https://monctonoutdoorenthusiasts.ca/event/hearst-lodge/
LOCATION:NB
END:VEVENT
BEGIN:VEVENT
DTSTART;TZID=America/Moncton:20240609T100000
DTEND;TZID=America/Moncton:20240609T170000
DTSTAMP:20260422T093113
CREATED:20240222T001829Z
LAST-MODIFIED:20240607T192247Z
UID:10000594-1717927200-1717952400@monctonoutdoorenthusiasts.ca
SUMMARY:Tidnish Dock Walking Trail
DESCRIPTION:Walk on the remains of 1880’s mega project to connect Amherst to the Northumberland Strait with a railway to transport small cargo ships.  Distance of 8km.  Easy.  Meet at Irving Station\, 64 Champlain Street\, Dieppe\,  at 10:00AM\, or at Port Elgin Shell\, 42 Shemogue Rd\, Port Elgin\, at 10:45AM.  Bring water and a light lunch. Contact Brian at 506-377-8436. \nGoogle Maps Plus Codes \nDieppe Irving Station – 36VV+GM Dieppe\, New Brunswick \nPort Elgin Shell – 3W34+4P Port Elgin\, New Brunswick \nTrailhead – XXG3+6X5 Tidnish Bridge\, Nova Scotia
URL:https://monctonoutdoorenthusiasts.ca/event/tignish-dock-walking-trail/
LOCATION:NB
END:VEVENT
BEGIN:VEVENT
DTSTART;TZID=America/Moncton:20240612T190000
DTEND;TZID=America/Moncton:20240612T203000
DTSTAMP:20260422T093113
CREATED:20240221T154949Z
LAST-MODIFIED:20240606T174146Z
UID:10000587-1718218800-1718224200@monctonoutdoorenthusiasts.ca
SUMMARY:MOE - Summer Hike Planning Meeting
DESCRIPTION:Hike Planning Meeting.  Any one interested in leading a MOE event\, learning to lead\, have an interested in organizing events\, or want to become more involved in our club\, please join us as we fill in our calendar for July\, August\, and September. \nLocation:  55 Lemonwood Court\, Moncton\, NB   Start time – 7:00PM. \nGoogle Plus Code 44CV+X5G Moncton\, New Brunswick \n 
URL:https://monctonoutdoorenthusiasts.ca/event/moe-summer-hike-planning-meeting-2/
LOCATION:NB
ORGANIZER;CN="Kevin Dunphy":MAILTO:dunpke@gmail.com
END:VEVENT
BEGIN:VEVENT
DTSTART;TZID=America/Moncton:20240613T183000
DTEND;TZID=America/Moncton:20240613T183000
DTSTAMP:20260422T093113
CREATED:20240508T120609Z
LAST-MODIFIED:20240915T201040Z
UID:10000644-1718303400-1718303400@monctonoutdoorenthusiasts.ca
SUMMARY:Thursday Night Social Bike Rides
DESCRIPTION:Social Bike Ride ~15-20km km Meet at 6:30pm\, La Bikery 120 Assumption Blvd. Rides will be cancelled if it is raining. Contact: Julian 506-830-66463
URL:https://monctonoutdoorenthusiasts.ca/event/thursday-night-social-bike-rides/2024-06-13/
LOCATION:NB
ORGANIZER;CN="Julian Screawn":MAILTO:screawn@hotmail.com
END:VEVENT
BEGIN:VEVENT
DTSTART;TZID=America/Moncton:20240615T080000
DTEND;TZID=America/Moncton:20240615T170000
DTSTAMP:20260422T093113
CREATED:20220407T110643Z
LAST-MODIFIED:20240222T000842Z
UID:10000411-1718438400-1718470800@monctonoutdoorenthusiasts.ca
SUMMARY:Hike Spicer’s Cove and 3 Sisters
DESCRIPTION:Hike Spicer’s Cove and 3 Sisters\, Eatonville\, NS. Spectacular hike with cliffs\, great outlooks\, beach\, forest & Three Sisters. Moderate to strenuous. Meet at the Irving Station\, 64 Champlain St\, Dieppe at 9:00 am or Amherst Centre Mall at 9:45 am. Contact Paul at 588-3034 if you plan to attend.
URL:https://monctonoutdoorenthusiasts.ca/event/draft-hike-spicers-cove-and-3-sisters/
LOCATION:NB
CATEGORIES:Moderate-Strenuous
END:VEVENT
BEGIN:VEVENT
DTSTART;TZID=America/Moncton:20240620T183000
DTEND;TZID=America/Moncton:20240620T183000
DTSTAMP:20260422T093114
CREATED:20240508T120609Z
LAST-MODIFIED:20240915T201040Z
UID:10000646-1718908200-1718908200@monctonoutdoorenthusiasts.ca
SUMMARY:Thursday Night Social Bike Rides
DESCRIPTION:Social Bike Ride ~15-20km km Meet at 6:30pm\, La Bikery 120 Assumption Blvd. Rides will be cancelled if it is raining. Contact: Julian 506-830-66463
URL:https://monctonoutdoorenthusiasts.ca/event/thursday-night-social-bike-rides/2024-06-20/
LOCATION:NB
ORGANIZER;CN="Julian Screawn":MAILTO:screawn@hotmail.com
END:VEVENT
BEGIN:VEVENT
DTSTART;TZID=America/Moncton:20240621T080000
DTEND;TZID=America/Moncton:20240621T170000
DTSTAMP:20260422T093114
CREATED:20240325T223115Z
LAST-MODIFIED:20240325T223115Z
UID:10000598-1718956800-1718989200@monctonoutdoorenthusiasts.ca
SUMMARY:PEI Weekend - Accommodations - Options
DESCRIPTION:Anne Shirley Motel (Cavendish)  www.anneshirley.ca  \nAddress – 7542 PE-13\, New Glasgow\, PE C0A 1N0. 1-800-561-4266 \nCavendish Motel                          www.cavendishmotel.ca\n8566 Cavendish Rd\, Cavendish\, PE C0A 1N0          1-800-561-4266 \nNorth Rustico Harbour Inn            www.northrusticoharbourinn.com  1-902-963-2898\n7366 Cavendish Rd\, North Rustico\, PE C0A 1X0 \nBook on line or e-mail northrusticoharbourinn@gmail.com \nThe Home Place Inn\, Kensington      www.thehomeplace.ca  1-902-836-5686 \n21 Victoria St E\, Kensington\, PE C0B 1M0
URL:https://monctonoutdoorenthusiasts.ca/event/pei-weekend-accommodations-options/
LOCATION:NB
END:VEVENT
BEGIN:VEVENT
DTSTART;TZID=America/Moncton:20240622T090000
DTEND;TZID=America/Moncton:20240622T170000
DTSTAMP:20260422T093114
CREATED:20240209T014104Z
LAST-MODIFIED:20240427T230645Z
UID:10000585-1719046800-1719075600@monctonoutdoorenthusiasts.ca
SUMMARY:MOE - PEI 2024 ROAD TRIP - Saturday - June 22
DESCRIPTION:SATURDAY\, 22 JUNE \nMorning DARNLEY POINT \nIf driving from Moncton on Saturday morning\, allow 50 min drive on the PEI side of the bridge to arrive for the check in time of 9:30AM for the first walk \nMORNING – DARNLEY POINT\nCheck in time is 9:30 am and the walk starts at 9:45 am\nDARNLEY POINT 7 km. Super easy-moderate rating.  This is along the shore and there is minor rock scrambling only achievable at low tide. An out and back portion and some loop.\nDirection: From Kensington follow signs to Twin Shores Campground (TSC) in Darnley. Follow\nLower Darnley Road and go past the entrance to TSC\, then turn right on Gerrit’s Lane and go to end. Allow 25 min from Kensington to TSC area. \nLUNCH\nBecause of the close proximity of the Saturday walks and lack of eating choices\nbetween Darnley & French River – suggest bring a lunch\, lawn chair/towel for beach\neating. No shelter at either one. There are eating choices in Kensington: Island Stone\nPub\, Willow Bakery\, C&B Cafe\, Frosty Treat Dairy Bar and Ruby’s. \nAFTERNOON – FRENCH RIVER CAPES \nCheck in time 12:30 pm and the walk starts at 12: 45 pm\nFRENCH RIVER CAPES 8 km. Easy – super-easy moderate. Well defined and solid underfoot\, coastal path.Total time: Up to 2 hrs\nPark on road side near 712 Cape Rd\, Kensington\, PE C0B 1M0. \nSaturday SOCIAL EVENT\nEither\n1: 3 pm Following the French River walk\, the Sou’West restaurant\, New London\, has a\nnice deck & view for a get-together refreshment.\n2: 5 pm Meet in Lone Oak Beer Garden (no view\, nice bar)\, Cavendish for a gettogether\nrefreshment. Then individually people decide to eat there or on a different\nchoice such as Chez Yuonne’s. Blue Mussel Cafe or the On the Dock in Rustico.
URL:https://monctonoutdoorenthusiasts.ca/event/moe-2024-road-trip-to-pei/
LOCATION:NB
END:VEVENT
BEGIN:VEVENT
DTSTART;TZID=America/Moncton:20240623T090000
DTEND;TZID=America/Moncton:20240623T150000
DTSTAMP:20260422T093114
CREATED:20240427T230944Z
LAST-MODIFIED:20240427T230944Z
UID:10000611-1719133200-1719154800@monctonoutdoorenthusiasts.ca
SUMMARY:MOE - PEI 2024 ROAD TRIP - Sunday - June 23
DESCRIPTION:SUNDAY June 23 – Kensington – Perimeter \n23 JUNE \nCheck in time is 9 am and the walk starts at 9:15 am \nKENSINGTON TOWN + PERIMETER 8 k loop\, Easy. \nTotal time 1 hr 35 min \nMeet at: 62 Broadway St N\, Kensington\, by the clock \nPark: There’s plenty of parking on Broadway St N\, in front of the train station\, \nCommercial St\, Francis St\, and behind the liquor store. \nThe route is in town for 25% but mostly on ATV tracks along field landscapes\, \nIf you have any questions for me\, you can send me an email igotdawalk@hotmail.com \nor text/call 902-439-1577. Ruth Henderson.
URL:https://monctonoutdoorenthusiasts.ca/event/moe-pei-2024-road-trip-sunday-june-23/
LOCATION:NB
END:VEVENT
BEGIN:VEVENT
DTSTART;TZID=America/Moncton:20240627T183000
DTEND;TZID=America/Moncton:20240627T183000
DTSTAMP:20260422T093114
CREATED:20240508T120609Z
LAST-MODIFIED:20240915T201040Z
UID:10000648-1719513000-1719513000@monctonoutdoorenthusiasts.ca
SUMMARY:Thursday Night Social Bike Rides
DESCRIPTION:Social Bike Ride ~15-20km km Meet at 6:30pm\, La Bikery 120 Assumption Blvd. Rides will be cancelled if it is raining. Contact: Julian 506-830-66463
URL:https://monctonoutdoorenthusiasts.ca/event/thursday-night-social-bike-rides/2024-06-27/
LOCATION:NB
ORGANIZER;CN="Julian Screawn":MAILTO:screawn@hotmail.com
END:VEVENT
BEGIN:VEVENT
DTSTART;TZID=America/Moncton:20240629T090000
DTEND;TZID=America/Moncton:20240629T160000
DTSTAMP:20260422T093114
CREATED:20210929T100324Z
LAST-MODIFIED:20240626T153213Z
UID:10000262-1719651600-1719676800@monctonoutdoorenthusiasts.ca
SUMMARY:Catamount North Trail / Wallace Falls
DESCRIPTION:Hike the Catamount North Trail to Wallace Falls and 5 other waterfalls along the Quiddy River. 10 km Strenuous and Difficult with steep scrambles from the ridge to and from the river at each falls.  Meet at Centennial Park by dog park and pool at 9:00AMm\, or Wolfe Lake Visitor Center\, Fundy National Park at 10:00AM. Contact Phil at 902-432-0050. \n\nAddress for Centennial Park – Dog Park is 61 Rotary Lodge Ln\, Moncton\, NB\nAddress for Wolfe Lake Visitor Center is 9577 NB-114\, Chambers Settlement\, NB\nGoogle Plus Code for Centennial Park – Dog Park is 35MJ+H7 Moncton\, New Brunswick\nGoogle Plus Code for Wolfe Lake is MV66+GQQ Alma Parish\, New Brunswick\n\n 
URL:https://monctonoutdoorenthusiasts.ca/event/catamount-north-trail-wallace-falls/
LOCATION:NB
CATEGORIES:Strenuous
ORGANIZER;CN="Phil Hardy":MAILTO:phil-hardy@hotmail.com
END:VEVENT
BEGIN:VEVENT
DTSTART;TZID=America/Moncton:20240630T100000
DTEND;TZID=America/Moncton:20240630T170000
DTSTAMP:20260422T093114
CREATED:20230803T174728Z
LAST-MODIFIED:20240629T233335Z
UID:10000522-1719741600-1719766800@monctonoutdoorenthusiasts.ca
SUMMARY:CANCELLED Hike from Westcock (near Sackville)
DESCRIPTION:Cancelled due to rain forecasted for the Sackville area. \nPaul will lead a hike from Westcock (near Sackville) on Sunday\, June 30th.  It is part urban (for a short time) It will be out on the dykes to a beach (lunch) on the Cumberland Basin where one could swim if one was interested. Rated moderate. Meet at Irving in Dieppe at 10:00AM or in Sackville at Macdonald’s at 10:30AM. Better call Paul at 506-588-3034/506-381-0397.
URL:https://monctonoutdoorenthusiasts.ca/event/hike-from-westcock-near-sackville/
LOCATION:NB
CATEGORIES:Moderate
END:VEVENT
END:VCALENDAR