BEGIN:VCALENDAR
VERSION:2.0
PRODID:-//Moncton Outdoor Enthusiasts - ECPv6.15.20//NONSGML v1.0//EN
CALSCALE:GREGORIAN
METHOD:PUBLISH
X-ORIGINAL-URL:https://monctonoutdoorenthusiasts.ca
X-WR-CALDESC:Events for Moncton Outdoor Enthusiasts
REFRESH-INTERVAL;VALUE=DURATION:PT1H
X-Robots-Tag:noindex
X-PUBLISHED-TTL:PT1H
BEGIN:VTIMEZONE
TZID:America/Moncton
BEGIN:DAYLIGHT
TZOFFSETFROM:-0400
TZOFFSETTO:-0300
TZNAME:ADT
DTSTART:20240310T060000
END:DAYLIGHT
BEGIN:STANDARD
TZOFFSETFROM:-0300
TZOFFSETTO:-0400
TZNAME:AST
DTSTART:20241103T050000
END:STANDARD
BEGIN:DAYLIGHT
TZOFFSETFROM:-0400
TZOFFSETTO:-0300
TZNAME:ADT
DTSTART:20250309T060000
END:DAYLIGHT
BEGIN:STANDARD
TZOFFSETFROM:-0300
TZOFFSETTO:-0400
TZNAME:AST
DTSTART:20251102T050000
END:STANDARD
BEGIN:DAYLIGHT
TZOFFSETFROM:-0400
TZOFFSETTO:-0300
TZNAME:ADT
DTSTART:20260308T060000
END:DAYLIGHT
BEGIN:STANDARD
TZOFFSETFROM:-0300
TZOFFSETTO:-0400
TZNAME:AST
DTSTART:20261101T050000
END:STANDARD
END:VTIMEZONE
BEGIN:VEVENT
DTSTART;TZID=America/Moncton:20250703T080000
DTEND;TZID=America/Moncton:20250703T170000
DTSTAMP:20260422T110634
CREATED:20250702T162822Z
LAST-MODIFIED:20250702T162827Z
UID:10001195-1751529600-1751562000@monctonoutdoorenthusiasts.ca
SUMMARY:Bike Night 6:30 PM La Bikery Moncton
DESCRIPTION:Social bike Ride He’s back from exotic Winnipeg! Join Julian at 6:30 pm at La Bikery\, Thursday\, July 3rd! \nleader: Julian
URL:https://monctonoutdoorenthusiasts.ca/event/bike-night-630-pm-la-bikery-moncton/
LOCATION:NB
CATEGORIES:Easy-Moderate
ORGANIZER;CN="Julian Screawn":MAILTO:screawn@hotmail.com
END:VEVENT
BEGIN:VEVENT
DTSTART;TZID=America/Moncton:20250705T080000
DTEND;TZID=America/Moncton:20250705T170000
DTSTAMP:20260422T110634
CREATED:20240914T105722Z
LAST-MODIFIED:20250702T195856Z
UID:10000821-1751702400-1751734800@monctonoutdoorenthusiasts.ca
SUMMARY:Mini Fundy Circuit
DESCRIPTION:Traverse Whitetail\, Black Horse Loop\, Chignecto\, TippenLot starting at the Coastal trail. Option of doing 17 to 18km or 22 to 23km. Strenuous. \nMeet at Fox Field – 893 Hillsborough Road\, Riverview at 9:00AM\, or at Fundy National Park Administration Centre at 10:00AM. \nContact Julian Screawn at 506-830-6463
URL:https://monctonoutdoorenthusiasts.ca/event/mini-fundy-circuit/
LOCATION:NB
CATEGORIES:Strenuous
ORGANIZER;CN="Julian Screawn":MAILTO:screawn@hotmail.com
END:VEVENT
BEGIN:VEVENT
DTSTART;TZID=America/Moncton:20250706T100000
DTEND;TZID=America/Moncton:20250706T140000
DTSTAMP:20260422T110634
CREATED:20250520T150906Z
LAST-MODIFIED:20250705T221339Z
UID:10000913-1751796000-1751810400@monctonoutdoorenthusiasts.ca
SUMMARY:CANCELLED -Hike in Memramcook/Gaytons area
DESCRIPTION:HIKE CANCELLED \nWe will start at the Bridge on La Vallee and hike to Gaytons.  Park across from the Dupuis Funeral Home. \n11 Km Moderate.  Meet at 10:00 am at the Dieppe Irving Champlain/Paul streets.  Bring water and lunch. \nTed (506)852-0976 \n 
URL:https://monctonoutdoorenthusiasts.ca/event/gastons-ted/
LOCATION:NB
CATEGORIES:Easy-Moderate
ORGANIZER;CN="Ted Harrison":MAILTO:tedalice27@yahoo.ca
END:VEVENT
BEGIN:VEVENT
DTSTART;TZID=America/Moncton:20250712T080000
DTEND;TZID=America/Moncton:20250712T170000
DTSTAMP:20260422T110634
CREATED:20250520T151037Z
LAST-MODIFIED:20250710T184619Z
UID:10000914-1752307200-1752339600@monctonoutdoorenthusiasts.ca
SUMMARY:Foster Brook Fundy National Park Paul Gaudet
DESCRIPTION:We will hike the Foster Brook Trail in FNP. There will be a river crossing (should not be too deep) and a huge uphill. Rated moderate plus to strenuous. Beautiful river valley and part cart path loop\, perhaps 11 kms. Meet time is 10:00 at Fox Field in Point Park or FNP Info centre at 11:15. We will start and end up at Hueston Brook. \n  \nBetter call Paul @ 506-381-0397
URL:https://monctonoutdoorenthusiasts.ca/event/paul-hike/
LOCATION:NB
CATEGORIES:Moderate
END:VEVENT
BEGIN:VEVENT
DTSTART;TZID=America/Moncton:20250716T080000
DTEND;TZID=America/Moncton:20250716T170000
DTSTAMP:20260422T110634
CREATED:20250715T142059Z
LAST-MODIFIED:20250715T142104Z
UID:10001200-1752652800-1752685200@monctonoutdoorenthusiasts.ca
SUMMARY:Paddle Night   Shediac   Scouduc River 6:30 PM
DESCRIPTION:Paddle night\, Scouduc River Shediac\, Wednesday July 16th 630pm.\nLaunch at Riverside Warf\, Riverside road\, parking is on Avard Street across from warf\, 25m. BYOK and lifejackets are mandatory.\nWeather permitting\nUpdate tomorrow. Cal 506-875-3351
URL:https://monctonoutdoorenthusiasts.ca/event/paddle-night-shediac-scouduc-river-630-pm/
LOCATION:NB
ORGANIZER;CN="Maureen Wallace":MAILTO:wallacemaureenk@gmail.com
END:VEVENT
BEGIN:VEVENT
DTSTART;TZID=America/Moncton:20250717T080000
DTEND;TZID=America/Moncton:20250717T170000
DTSTAMP:20260422T110634
CREATED:20250715T142426Z
LAST-MODIFIED:20250715T142430Z
UID:10001201-1752739200-1752771600@monctonoutdoorenthusiasts.ca
SUMMARY:Bike Night  La Bikery  Moncton Assumption Blvd
DESCRIPTION:Bike night  \, 6:30 PM. Moncton\, Riverview area. 20-25K \nMeet at La Bikery \nHelmets mandatory \nLeader Julian or Calvin \n506-875-3351
URL:https://monctonoutdoorenthusiasts.ca/event/bike-night-la-bikery-moncton-assumption-blvd/
LOCATION:NB
ORGANIZER;CN="Julian Screawn":MAILTO:screawn@hotmail.com
END:VEVENT
BEGIN:VEVENT
DTSTART;TZID=America/Moncton:20250719T080000
DTEND;TZID=America/Moncton:20250719T170000
DTSTAMP:20260422T110634
CREATED:20250520T151222Z
LAST-MODIFIED:20250717T183808Z
UID:10000915-1752912000-1752944400@monctonoutdoorenthusiasts.ca
SUMMARY:Bennett Brook Fundy Calvin
DESCRIPTION:Bennett Brook Fundy National Park \nRideshare 9am at Fox Field \nMeet at Headquarters 10:00am \, depart for Bennett Brook at 10:15 am. \nI will not be at Fox Field\, will meet you at Headquarters for sign in. \nHike to Brook for lunch and return\, steep hill\, 13K\, will be warm\, bring water and lunch. \nBonus: Swim or paddle at Bennett Lake after the hike\, I will be bringing my kayak. \nCalvin
URL:https://monctonoutdoorenthusiasts.ca/event/bennett-brook-fundy-calvin/
LOCATION:NB
CATEGORIES:Easy-Moderate
ORGANIZER;CN="Maureen Wallace":MAILTO:wallacemaureenk@gmail.com
END:VEVENT
BEGIN:VEVENT
DTSTART;TZID=America/Moncton:20250726T080000
DTEND;TZID=America/Moncton:20250726T170000
DTSTAMP:20260422T110634
CREATED:20250520T151347Z
LAST-MODIFIED:20250725T145013Z
UID:10000916-1753516800-1753549200@monctonoutdoorenthusiasts.ca
SUMMARY:Upper Salmon River   Phil  Hardy
DESCRIPTION:Salmon River\, Fundy National Park \nHike the Upper Salmon River Trail in Fundy National Park. Strenuous\, 12 km. \nThree river crossings (bring water shoes). Meet at Foxfield (Baseball field) at 893 Hillsborough Road\, Riverview\, NB. at 9:00 am or Fundy Park Headquarters at 10:00 am.  Contact Phil at 902-432-0050.
URL:https://monctonoutdoorenthusiasts.ca/event/devils-hike-phil/
LOCATION:NB
CATEGORIES:Moderate-Strenuous
ORGANIZER;CN="Phil Hardy":MAILTO:phil-hardy@hotmail.com
END:VEVENT
BEGIN:VEVENT
DTSTART;TZID=America/Moncton:20250727T080000
DTEND;TZID=America/Moncton:20250727T170000
DTSTAMP:20260422T110634
CREATED:20250710T185243Z
LAST-MODIFIED:20250721T173142Z
UID:10001196-1753603200-1753635600@monctonoutdoorenthusiasts.ca
SUMMARY:Matthews Head  Brian Foster
DESCRIPTION:MATTHEWS HEAD – FUNDY \nA MODERATE PACED HIKE led by Brian. Enjoy panoramic views along our rugged coastline \nDistance….6 kms….Duration…couple of hours \nDifficulty…Typical Fundy trail..lots of roots and rocks \nMEET \n10:00 AM –  Fox Field 893 Hillsborough Rd. \n11:00 AM – Parking area as you turn left onto POINT WOLFE Rd \,  diagonally across the road from Headquarters. I will meet you there…will be wearing a safety vest. \nParking at Matthews Head is very limited… Highly recommend we pack as many hikers into as few cars as possible\, for short drive to trailhead. \nReminder to bring lunch/snacks and water \nSee you in there…Brian..506 377 8436 \n 
URL:https://monctonoutdoorenthusiasts.ca/event/dennis-beach-brian-foster/
LOCATION:NB
CATEGORIES:Moderate
END:VEVENT
END:VCALENDAR